{"text_format":"1","workbook":"xlsx","n_sheets":5,"sheets":["Planilha Orcamentaria - Tipo 3","CPUs - Geral","Histograma Equiptos - Geral","Histograma MO - Geral","Cronograma FF Tipo 3"],"not_rendered":{"charts":0,"images":1,"macros":1,"external_links":1,"defined_names":24,"comments":0,"pivot_tables":0},"unopened":[],"bounds":{"document_bytes":16777216,"sheet_cells":100000,"rows_first":2000,"rows_last":500,"rows_between":2000,"halvings":0,"cell_chars":16384,"cell_head_chars":4096},"cells_cut":0,"cells_raw":0,"read":"whole","date_system":"1900"}

{"sheet":"Planilha Orcamentaria - Tipo 3","index":0,"n_rows":1082,"n_cols":26,"rows_kept":1082,"cut":false,"hidden":false,"merged":[[2,18,2,20]]}
[]
[]
[null,null,null,"Campo de Cálculo",null,null," ",null,null,null,"Planilha orçamentária - CER III - Tipo 3 (Ref.: Brasília, Agosto/2014, com desoneração)",null,null,null,null,null,null,null,"Itens variáveis "]
[null,null,5,2]
[]
[null,null,null,null,null,null,{"$f":"MAX(D18:D1082)","v":2}]
[]
[]
[null,null,2,2,null,{"$f":"SUM(D18:D1082)","v":519},{"$f":"SUBTOTAL(9,D18:D1082)","v":519},null,null,null,null,null,null,"Área total",1362.87,{"$f":"P17/O9","v":0}]
[null,null,"1900-01-05"]
[]
[]
[null,null,null,null,null,null,null,null,null,null,null,null,null,"Distorcao somatorio",{"$f":"SUM(P19,P21,P35,P45,P123,P139,P149,P159,P173,P315,P329,P417,P447,P469,P487,P549,P579,P629,P647,P677,P693,P797,P809,P823,P861,P885,P901,P921,P927,P1017,P1037,P1061,P1067,P1075)-P17","v":0}]
[null,null,{"$f":"cont","v":{"$error":"#NAME?"}}]
[null,null,"C2","Cod","Itens Filhos","Cod. Pai","Linha CPU",null,"Código SINAPI","Item","Descrição / Serviço","Observação","Un","Qtd","Unit.","Total (R$)","%"]
[]
[null,null,null,null,null,null,null,null,null,null,"TOTAL",null,null,null,null,null,null,null,null,null,{"$f":"SUMPRODUCT(S19:S1082,T19:T1082)+U19","v":0}]
[]
[null,null,{"$f":"LEN(J19)","v":2},{"$f":"COUNTIF($J$18:$J$1082,J19)","v":1},{"$f":"IF(E20=0,1,E20)","v":1},{"$f":"IF(C19=2,\"\",LEFT(J19,C19-3))","v":""},null,null,null,"01","BDI ",null,""]
[null,null,{"$f":"C19","v":2},null,{"$f":"SUM(IF(LEFT($J19:$J$1082,C19)=J19,1))-1","v":0}]
[null,null,{"$f":"LEN(J21)","v":2},{"$f":"COUNTIF($J$18:$J$1082,J21)","v":1},{"$f":"IF(E22=0,1,E22)","v":6},{"$f":"IF(C21=2,\"\",LEFT(J21,C21-3))","v":""},null,null,null,"02","SERVIÇOS PRELIMINARES ",null,""]
[null,null,{"$f":"C21","v":2},null,{"$f":"SUM(IF(LEFT($J21:$J$1082,C21)=J21,1))-1","v":6}]
[null,null,{"$f":"LEN(J23)","v":5},{"$f":"COUNTIF($J$18:$J$1082,J23)","v":1},{"$f":"IF(E24=0,1,E24)","v":5},{"$f":"IF(C23=2,\"\",LEFT(J23,C23-3))","v":"02"},null,null,null,"02.01","Barracão de obras ",null,""]
[null,null,{"$f":"C23","v":5},null,{"$f":"SUM(IF(LEFT($J23:$J$1082,C23)=J23,1))-1","v":5}]
[null,null,{"$f":"LEN(J25)","v":8},{"$f":"COUNTIF($J$18:$J$1082,J25)","v":1},{"$f":"IF(E26=0,1,E26)","v":1},{"$f":"IF(C25=2,\"\",LEFT(J25,C25-3))","v":"02.01"},null,null,"73805/001","02.01.01","Barracão de obras para alojamento ou escritório, piso em pinho de 3º, paredes em compensado esp. 10mm e cobertura em telha amianto esp. 6mm, incluindo instalações elétricas e esquadrias ",null,"M2",15]
[null,null,{"$f":"C25","v":8},null,{"$f":"SUM(IF(LEFT($J25:$J$1082,C25)=J25,1))-1","v":0},null,null,null,null,null,null,null,null,0]
[null,null,{"$f":"LEN(J27)","v":8},{"$f":"COUNTIF($J$18:$J$1082,J27)","v":1},{"$f":"IF(E28=0,1,E28)","v":1},{"$f":"IF(C27=2,\"\",LEFT(J27,C27-3))","v":"02.01"},null,null,"74210/001","02.01.02","Barracão para depósito em tábuas de madeira, cobertura em fibrocimento esp. 4mm, incluindo piso em argamassa traço 1:6 (cimento e areia)",null,"M2",12]
[null,null,{"$f":"C27","v":8},null,{"$f":"SUM(IF(LEFT($J27:$J$1082,C27)=J27,1))-1","v":0},null,null,null,null,null,null,null,null,0]
[null,null,{"$f":"LEN(J29)","v":8},{"$f":"COUNTIF($J$18:$J$1082,J29)","v":1},{"$f":"IF(E30=0,1,E30)","v":1},{"$f":"IF(C29=2,\"\",LEFT(J29,C29-3))","v":"02.01"},null,null,"74242/001","02.01.03","Barracão de obra para banheiro em chapa de madeira compensada, cobertura em fibrocimetno esp. 4mm, incluindo instalações hidro-sanitarias e elétricas ",null,"M2",12]
[null,null,{"$f":"C29","v":8},null,{"$f":"SUM(IF(LEFT($J29:$J$1082,C29)=J29,1))-1","v":0},null,null,null,null,null,null,null,null,0]
[null,null,{"$f":"LEN(J31)","v":8},{"$f":"COUNTIF($J$18:$J$1082,J31)","v":1},{"$f":"IF(E32=0,1,E32)","v":1},{"$f":"IF(C31=2,\"\",LEFT(J31,C31-3))","v":"02.01"},null,null,"74209/001","02.01.04","Placa de obra em capa de aço galvanizado",null,"M2",6]
[null,null,{"$f":"C31","v":8},null,{"$f":"SUM(IF(LEFT($J31:$J$1082,C31)=J31,1))-1","v":0},null,null,null,null,null,null,null,null,0]
[null,null,{"$f":"LEN(J33)","v":8},{"$f":"COUNTIF($J$18:$J$1082,J33)","v":1},{"$f":"IF(E34=0,1,E34)","v":1},{"$f":"IF(C33=2,\"\",LEFT(J33,C33-3))","v":"02.01"},null,null,"74220/001","02.01.05","Tapume de compensado (estimativa de 70m de fechamento)",null,"M2",{"$f":"70*2.2","v":154}]
[null,null,{"$f":"C33","v":8},null,{"$f":"SUM(IF(LEFT($J33:$J$1082,C33)=J33,1))-1","v":0},null,null,null,null,null,null,null,null,0]
[null,null,{"$f":"LEN(J35)","v":2},{"$f":"COUNTIF($J$18:$J$1082,J35)","v":1},{"$f":"IF(E36=0,1,E36)","v":4},{"$f":"IF(C35=2,\"\",LEFT(J35,C35-3))","v":""},null,null,null,"03","EQUIPE TÉCNICA ",null,null,0]
[null,null,{"$f":"C35","v":2},null,{"$f":"SUM(IF(LEFT($J35:$J$1082,C35)=J35,1))-1","v":4},null,null,null,null,null,null,null,null,0]
[null,null,{"$f":"LEN(J37)","v":5},{"$f":"COUNTIF($J$18:$J$1082,J37)","v":1},{"$f":"IF(E38=0,1,E38)","v":1},{"$f":"IF(C37=2,\"\",LEFT(J37,C37-3))","v":"03"},null,null,"CPU0001","03.01","Engenheiro ou arquiteto Pleno",null,"Mês",12]
[null,null,{"$f":"C37","v":5},null,{"$f":"SUM(IF(LEFT($J37:$J$1082,C37)=J37,1))-1","v":0},null,null,null,null,null,null,null,null,0]
[null,null,{"$f":"LEN(J39)","v":5},{"$f":"COUNTIF($J$18:$J$1082,J39)","v":1},{"$f":"IF(E40=0,1,E40)","v":1},{"$f":"IF(C39=2,\"\",LEFT(J39,C39-3))","v":"03"},null,null,"CPU0002","03.02","Feitor ou encarregado geral",null,"Mês",12]
[null,null,{"$f":"C39","v":5},null,{"$f":"SUM(IF(LEFT($J39:$J$1082,C39)=J39,1))-1","v":0},null,null,null,null,null,null,null,null,0]
[null,null,{"$f":"LEN(J41)","v":5},{"$f":"COUNTIF($J$18:$J$1092,J41)","v":1},{"$f":"IF(E42=0,1,E42)","v":1},{"$f":"IF(C41=2,\"\",LEFT(J41,C41-3))","v":"03"},null,null,"CPU0016","03.03","Almoxarife",null,"Mês",12]
[null,null,{"$f":"C41","v":5},null,{"$f":"SUM(IF(LEFT($J41:$J$1092,C41)=J41,1))-1","v":0},null,null,null,null,null,null,null,null,0]
[null,null,{"$f":"LEN(J43)","v":5},{"$f":"COUNTIF($J$18:$J$1092,J43)","v":1},{"$f":"IF(E44=0,1,E44)","v":1},{"$f":"IF(C43=2,\"\",LEFT(J43,C43-3))","v":"03"},null,null,"CPU0017","03.04","Vigia noturno",null,"Mês",12]
[null,null,{"$f":"C43","v":5},null,{"$f":"SUM(IF(LEFT($J43:$J$1092,C43)=J43,1))-1","v":0},null,null,null,null,null,null,null,null,0]
[null,null,{"$f":"LEN(J45)","v":2},{"$f":"COUNTIF($J$18:$J$1082,J45)","v":1},{"$f":"IF(E46=0,1,E46)","v":38},{"$f":"IF(C45=2,\"\",LEFT(J45,C45-3))","v":""},null,null,null,"04","INFRA ESTRUTURA",null,"",0]
[null,null,{"$f":"C45","v":2},null,{"$f":"SUM(IF(LEFT($J45:$J$1082,C45)=J45,1))-1","v":38},null,null,null,null,null,null,null,null,0]
[null,null,{"$f":"LEN(J47)","v":5},{"$f":"COUNTIF($J$18:$J$1082,J47)","v":1},{"$f":"IF(E48=0,1,E48)","v":5},{"$f":"IF(C47=2,\"\",LEFT(J47,C47-3))","v":"04"},null,null,null,"04.01","Fundação Profunda",null,"",0]
[null,null,{"$f":"C47","v":5},null,{"$f":"SUM(IF(LEFT($J47:$J$1082,C47)=J47,1))-1","v":5},null,null,null,null,null,null,null,null,0]
[null,null,{"$f":"LEN(J49)","v":8},{"$f":"COUNTIF($J$18:$J$1082,J49)","v":1},{"$f":"IF(E50=0,1,E50)","v":4},{"$f":"IF(C49=2,\"\",LEFT(J49,C49-3))","v":"04.01"},null,null,null,"04.01.01","Estacas Escavadas",null,"",0]
[null,null,{"$f":"C49","v":8},null,{"$f":"SUM(IF(LEFT($J49:$J$1082,C49)=J49,1))-1","v":4},null,null,null,null,null,null,null,null,0]
[null,null,{"$f":"LEN(J51)","v":11},{"$f":"COUNTIF($J$18:$J$1082,J51)","v":1},{"$f":"IF(E52=0,1,E52)","v":1},{"$f":"IF(C51=2,\"\",LEFT(J51,C51-3))","v":"04.01.01"},null,null,"73992/001","04.01.01.01","LOCACAO CONVENCIONAL DE OBRA, ATRAVÉS DE GABARITO DE TABUAS CORRIDAS PONTALETADAS A CADA 1,50M, SEM REAPROVEITAMENTO",null,"M2",{"$f":"O9","v":1362.87}]
[null,null,{"$f":"C51","v":11},null,{"$f":"SUM(IF(LEFT($J51:$J$1082,C51)=J51,1))-1","v":0},null,null,null,null,null,null,null,null,0]
[null,null,{"$f":"LEN(J53)","v":11},{"$f":"COUNTIF($J$18:$J$1082,J53)","v":1},{"$f":"IF(E54=0,1,E54)","v":1},{"$f":"IF(C53=2,\"\",LEFT(J53,C53-3))","v":"04.01.01"},null,null,72872,"04.01.01.02","Taxa de mobilização do empreiteiro",null,"EVENTO",1]
[null,null,{"$f":"C53","v":11},null,{"$f":"SUM(IF(LEFT($J53:$J$1082,C53)=J53,1))-1","v":0},null,null,null,null,null,null,null,null,0]
[null,null,{"$f":"LEN(J55)","v":11},{"$f":"COUNTIF($J$18:$J$1082,J55)","v":1},{"$f":"IF(E56=0,1,E56)","v":1},{"$f":"IF(C55=2,\"\",LEFT(J55,C55-3))","v":"04.01.01"},null,null,72819,"04.01.01.03","ESTACA A TRADO (BROCA) DIAMETRO 30CM EM CONCRETO ARMADO MOLDADA IN-LOCO, 20 MPA",null,"M",1643]
[null,null,{"$f":"C55","v":11},null,{"$f":"SUM(IF(LEFT($J55:$J$1082,C55)=J55,1))-1","v":0},null,null,null,null,null,null,null,null,0]
[null,null,{"$f":"LEN(J57)","v":11},{"$f":"COUNTIF($J$18:$J$1082,J57)","v":1},{"$f":"IF(E58=0,1,E58)","v":1},{"$f":"IF(C57=2,\"\",LEFT(J57,C57-3))","v":"04.01.01"},null,null,72209,"04.01.01.04","CARGA MANUAL E REMOCAO E ENTULHO COM TRANSPORTE ATE 1KM EM CAMINHAO BASCULANTE 6M3",null,"M3",117]
[null,null,{"$f":"C57","v":11},null,{"$f":"SUM(IF(LEFT($J57:$J$1082,C57)=J57,1))-1","v":0},null,null,null,null,null,null,null,null,0]
[null,null,{"$f":"LEN(J59)","v":5},{"$f":"COUNTIF($J$18:$J$1082,J59)","v":1},{"$f":"IF(E60=0,1,E60)","v":20},{"$f":"IF(C59=2,\"\",LEFT(J59,C59-3))","v":"04"},null,null,null,"04.02","Fundações Superficiais",null,"",0]
[null,null,{"$f":"C59","v":5},null,{"$f":"SUM(IF(LEFT($J59:$J$1082,C59)=J59,1))-1","v":20},null,null,null,null,null,null,null,null,0]
[null,null,{"$f":"LEN(J61)","v":8},{"$f":"COUNTIF($J$18:$J$1082,J61)","v":1},{"$f":"IF(E62=0,1,E62)","v":9},{"$f":"IF(C61=2,\"\",LEFT(J61,C61-3))","v":"04.02"},null,null,null,"04.02.01","Blocos de coroamento e Arranque de pilares"]
[null,null,{"$f":"C61","v":8},null,{"$f":"SUM(IF(LEFT($J61:$J$1082,C61)=J61,1))-1","v":9}]
[null,null,{"$f":"LEN(J63)","v":11},{"$f":"COUNTIF($J$18:$J$1082,J63)","v":1},{"$f":"IF(E64=0,1,E64)","v":1},{"$f":"IF(C63=2,\"\",LEFT(J63,C63-3))","v":"04.02.01"},null,null,"79517/001","04.02.01.01","ESCAVACAO MANUAL EM SOLO-PROF. ATE 1,50 M",null,"M3",204]
[null,null,{"$f":"C63","v":11},null,{"$f":"SUM(IF(LEFT($J63:$J$1082,C63)=J63,1))-1","v":0}]
[null,null,{"$f":"LEN(J65)","v":11},{"$f":"COUNTIF($J$18:$J$1082,J65)","v":1},{"$f":"IF(E66=0,1,E66)","v":1},{"$f":"IF(C65=2,\"\",LEFT(J65,C65-3))","v":"04.02.01"},null,null,5622,"04.02.01.02","REGULARIZACAO E COMPACTACAO MANUAL DE TERRENO COM SOQUETE (FUNDO DE VALA)",null,"M2",204]
[null,null,{"$f":"C65","v":11},null,{"$f":"SUM(IF(LEFT($J65:$J$1082,C65)=J65,1))-1","v":0}]
[null,null,{"$f":"LEN(J67)","v":11},{"$f":"COUNTIF($J$18:$J$1082,J67)","v":1},{"$f":"IF(E68=0,1,E68)","v":1},{"$f":"IF(C67=2,\"\",LEFT(J67,C67-3))","v":"04.02.01"},null,null,"74254/002","04.02.01.03","ARMACAO ACO CA-50, DIAM. 6,3 (1/4) À 12,5MM(1/2) -FORNECIMENTO/ CORTE(PERDA DE 10%) / DOBRA / COLOCAÇÃO. (BLOCOS E ARRANQUES DE PILARES)",null,"KG",4157.7299999999996]
[null,null,{"$f":"C67","v":11},null,{"$f":"SUM(IF(LEFT($J67:$J$1082,C67)=J67,1))-1","v":0}]
[null,null,{"$f":"LEN(J69)","v":11},{"$f":"COUNTIF($J$18:$J$1084,J69)","v":1},{"$f":"IF(E70=0,1,E70)","v":1},{"$f":"IF(C69=2,\"\",LEFT(J69,C69-3))","v":"04.02.01"},null,null,"73942/002","04.02.01.04","ARMACAO DE ACO CA-60 DIAM. 3,4 A 6,0MM.- FORNECIMENTO / CORTE (C/PERDADE 10%) / DOBRA / COLOCAÇÃO. (BLOCOS E ARRANQUES DE PILARES)",null,"KG",35.549999999999997]
[null,null,{"$f":"C69","v":11},null,{"$f":"SUM(IF(LEFT($J69:$J$1084,C69)=J69,1))-1","v":0}]
[null,null,{"$f":"LEN(J71)","v":11},{"$f":"COUNTIF($J$18:$J$1082,J71)","v":1},{"$f":"IF(E72=0,1,E72)","v":1},{"$f":"IF(C71=2,\"\",LEFT(J71,C71-3))","v":"04.02.01"},null,null,"74115/001","04.02.01.05","EXECUÇÃO DE LASTRO EM CONCRETO (1:2,5:6), PREPARO MANUAL (ESP=5cm)",null,"M3",4.9000000000000004]
[null,null,{"$f":"C71","v":11},null,{"$f":"SUM(IF(LEFT($J71:$J$1082,C71)=J71,1))-1","v":0}]
[null,null,{"$f":"LEN(J73)","v":11},{"$f":"COUNTIF($J$18:$J$1082,J73)","v":1},{"$f":"IF(E74=0,1,E74)","v":1},{"$f":"IF(C73=2,\"\",LEFT(J73,C73-3))","v":"04.02.01"},null,null,5970,"04.02.01.06","FORMA TABUA PARA CONCRETO EM FUNDACAO, C/ REAPROVEITAMENTO 2X. (BLOCOS DE COROAMENTO)",null,"M2",269.27999999999997]
[null,null,{"$f":"C73","v":11},null,{"$f":"SUM(IF(LEFT($J73:$J$1082,C73)=J73,1))-1","v":0}]
[null,null,{"$f":"LEN(J75)","v":11},{"$f":"COUNTIF($J$18:$J$1082,J75)","v":1},{"$f":"IF(E76=0,1,E76)","v":1},{"$f":"IF(C75=2,\"\",LEFT(J75,C75-3))","v":"04.02.01"},null,null,"74138/003","04.02.01.07","CONCRETO USINADO BOMBEADO FCK=25MPA, INCLUSIVE LANCAMENTO E ADENSAMENTO (BLOCOS DE COROAMENTO)",null,"M3",58.75]
[null,null,{"$f":"C75","v":11},null,{"$f":"SUM(IF(LEFT($J75:$J$1082,C75)=J75,1))-1","v":0}]
[null,null,{"$f":"LEN(J77)","v":11},{"$f":"COUNTIF($J$18:$J$1082,J77)","v":1},{"$f":"IF(E78=0,1,E78)","v":1},{"$f":"IF(C77=2,\"\",LEFT(J77,C77-3))","v":"04.02.01"},null,null,72209,"04.02.01.08","CARGA MANUAL E REMOCAO E ENTULHO COM TRANSPORTE ATE 1KM EM CAMINHAO BASCULANTE 6M3",null,"M3",79.31]
[null,null,{"$f":"C77","v":11},null,{"$f":"SUM(IF(LEFT($J77:$J$1082,C77)=J77,1))-1","v":0}]
[null,null,{"$f":"LEN(J79)","v":11},{"$f":"COUNTIF($J$18:$J$1082,J79)","v":1},{"$f":"IF(E80=0,1,E80)","v":1},{"$f":"IF(C79=2,\"\",LEFT(J79,C79-3))","v":"04.02.01"},null,null,"73964/004","04.02.01.09","REATERRO DE VALAS / CAVAS, COMPACTADA A MAÇO, EM CAMADAS DE ATÉ 30 CM.",null,"M3",145.25]
[null,null,{"$f":"C79","v":11},null,{"$f":"SUM(IF(LEFT($J79:$J$1082,C79)=J79,1))-1","v":0}]
[null,null,{"$f":"LEN(J81)","v":8},{"$f":"COUNTIF($J$18:$J$1082,J81)","v":1},{"$f":"IF(E82=0,1,E82)","v":9},{"$f":"IF(C81=2,\"\",LEFT(J81,C81-3))","v":"04.02"},null,null,null,"04.02.02","Vigas Baldrames"]
[null,null,{"$f":"C81","v":8},null,{"$f":"SUM(IF(LEFT($J81:$J$1082,C81)=J81,1))-1","v":9}]
[null,null,{"$f":"LEN(J83)","v":11},{"$f":"COUNTIF($J$18:$J$1082,J83)","v":1},{"$f":"IF(E84=0,1,E84)","v":1},{"$f":"IF(C83=2,\"\",LEFT(J83,C83-3))","v":"04.02.02"},null,null,"79517/001","04.02.02.01","ESCAVACAO MANUAL EM SOLO-PROF. ATE 1,50 M",null,"M3",299.38]
[null,null,{"$f":"C83","v":11},null,{"$f":"SUM(IF(LEFT($J83:$J$1082,C83)=J83,1))-1","v":0}]
[null,null,{"$f":"LEN(J85)","v":11},{"$f":"COUNTIF($J$18:$J$1082,J85)","v":1},{"$f":"IF(E86=0,1,E86)","v":1},{"$f":"IF(C85=2,\"\",LEFT(J85,C85-3))","v":"04.02.02"},null,null,5622,"04.02.02.02","REGULARIZACAO E COMPACTACAO MANUAL DE TERRENO COM SOQUETE (FUNDO DE VALA)",null,"M2",374.22]
[null,null,{"$f":"C85","v":11},null,{"$f":"SUM(IF(LEFT($J85:$J$1082,C85)=J85,1))-1","v":0}]
[null,null,{"$f":"LEN(J87)","v":11},{"$f":"COUNTIF($J$18:$J$1082,J87)","v":1},{"$f":"IF(E88=0,1,E88)","v":1},{"$f":"IF(C87=2,\"\",LEFT(J87,C87-3))","v":"04.02.02"},null,null,"74254/002","04.02.02.03","ARMACAO ACO CA-50, DIAM. 6,3 (1/4) À 12,5MM(1/2) -FORNECIMENTO/ CORTE(PERDA DE 10%) / DOBRA / COLOCAÇÃO. (VIGAS BALDRAMES)",null,"KG",3578.45]
[null,null,{"$f":"C87","v":11},null,{"$f":"SUM(IF(LEFT($J87:$J$1082,C87)=J87,1))-1","v":0}]
[null,null,{"$f":"LEN(J89)","v":11},{"$f":"COUNTIF($J$18:$J$1084,J89)","v":1},{"$f":"IF(E90=0,1,E90)","v":1},{"$f":"IF(C89=2,\"\",LEFT(J89,C89-3))","v":"04.02.02"},null,null,"73942/002","04.02.02.04","ARMACAO DE ACO CA-60 DIAM. 3,4 A 6,0MM.- FORNECIMENTO / CORTE (C/PERDADE 10%) / DOBRA / COLOCAÇÃO. (VIGAS BALDRAMES)",null,"KG",603.54999999999995]
[null,null,{"$f":"C89","v":11},null,{"$f":"SUM(IF(LEFT($J89:$J$1084,C89)=J89,1))-1","v":0}]
[null,null,{"$f":"LEN(J91)","v":11},{"$f":"COUNTIF($J$18:$J$1082,J91)","v":1},{"$f":"IF(E92=0,1,E92)","v":1},{"$f":"IF(C91=2,\"\",LEFT(J91,C91-3))","v":"04.02.02"},null,null,"74115/001","04.02.02.05","EXECUÇÃO DE LASTRO EM CONCRETO (1:2,5:6), PREPARO MANUAL (esp.=5cm)",null,"M3",4.8499999999999996]
[null,null,{"$f":"C91","v":11},null,{"$f":"SUM(IF(LEFT($J91:$J$1082,C91)=J91,1))-1","v":0}]
[null,null,{"$f":"LEN(J93)","v":11},{"$f":"COUNTIF($J$18:$J$1082,J93)","v":1},{"$f":"IF(E94=0,1,E94)","v":1},{"$f":"IF(C93=2,\"\",LEFT(J93,C93-3))","v":"04.02.02"},null,null,5970,"04.02.02.06","FORMA TABUA PARA CONCRETO EM FUNDACAO, C/ REAPROVEITAMENTO 2X. (VIGAS BALDRAMES)",null,"M2",554.4]
[null,null,{"$f":"C93","v":11},null,{"$f":"SUM(IF(LEFT($J93:$J$1082,C93)=J93,1))-1","v":0}]
[null,null,{"$f":"LEN(J95)","v":11},{"$f":"COUNTIF($J$18:$J$1082,J95)","v":1},{"$f":"IF(E96=0,1,E96)","v":1},{"$f":"IF(C95=2,\"\",LEFT(J95,C95-3))","v":"04.02.02"},null,null,"74138/003","04.02.02.07","CONCRETO USINADO BOMBEADO FCK=25MPA, INCLUSIVE LANCAMENTO E ADENSAMENTO (VIGAS BALDRAMES)",null,"M3",40.98]
[null,null,{"$f":"C95","v":11},null,{"$f":"SUM(IF(LEFT($J95:$J$1082,C95)=J95,1))-1","v":0}]
[null,null,{"$f":"LEN(J97)","v":11},{"$f":"COUNTIF($J$18:$J$1082,J97)","v":1},{"$f":"IF(E98=0,1,E98)","v":1},{"$f":"IF(C97=2,\"\",LEFT(J97,C97-3))","v":"04.02.02"},null,null,72209,"04.02.02.08","CARGA MANUAL E REMOCAO E ENTULHO COM TRANSPORTE ATE 1KM EM CAMINHAO BASCULANTE 6M3",null,"M3",404.16]
[null,null,{"$f":"C97","v":11},null,{"$f":"SUM(IF(LEFT($J97:$J$1082,C97)=J97,1))-1","v":0}]
[null,null,{"$f":"LEN(J99)","v":11},{"$f":"COUNTIF($J$18:$J$1082,J99)","v":1},{"$f":"IF(E100=0,1,E100)","v":1},{"$f":"IF(C99=2,\"\",LEFT(J99,C99-3))","v":"04.02.02"},null,null,"73964/004","04.02.02.09","REATERRO DE VALAS / CAVAS, COMPACTADA A MAÇO, EM CAMADAS DE ATÉ 30 CM.",null,"M3",258.39999999999998]
[null,null,{"$f":"C99","v":11},null,{"$f":"SUM(IF(LEFT($J99:$J$1082,C99)=J99,1))-1","v":0}]
[null,null,{"$f":"LEN(J101)","v":5},{"$f":"COUNTIF($J$18:$J$1082,J101)","v":1},{"$f":"IF(E102=0,1,E102)","v":10},{"$f":"IF(C101=2,\"\",LEFT(J101,C101-3))","v":"04"},null,null,null,"04.03","Reservatório inferior"]
[null,null,{"$f":"C101","v":5},null,{"$f":"SUM(IF(LEFT($J101:$J$1082,C101)=J101,1))-1","v":10}]
[null,null,{"$f":"LEN(J103)","v":8},{"$f":"COUNTIF($J$18:$J$1082,J103)","v":1},{"$f":"IF(E104=0,1,E104)","v":1},{"$f":"IF(C103=2,\"\",LEFT(J103,C103-3))","v":"04.03"},null,null,"79517/002","04.03.01","ESCAVACAO MANUAL EM SOLO, PROF. MAIOR QUE 1,5M ATE 4,00 M",null,"m3",25]
[null,null,{"$f":"C103","v":8},null,{"$f":"SUM(IF(LEFT($J103:$J$1082,C103)=J103,1))-1","v":0}]
[null,null,{"$f":"LEN(J105)","v":8},{"$f":"COUNTIF($J$18:$J$1082,J105)","v":1},{"$f":"IF(E106=0,1,E106)","v":1},{"$f":"IF(C105=2,\"\",LEFT(J105,C105-3))","v":"04.03"},null,null,5622,"04.03.02","REGULARIZACAO E COMPACTACAO MANUAL DE TERRENO COM SOQUETE",null,"m2",25]
[null,null,{"$f":"C105","v":8},null,{"$f":"SUM(IF(LEFT($J105:$J$1082,C105)=J105,1))-1","v":0}]
[null,null,{"$f":"LEN(J107)","v":8},{"$f":"COUNTIF($J$18:$J$1082,J107)","v":1},{"$f":"IF(E108=0,1,E108)","v":1},{"$f":"IF(C107=2,\"\",LEFT(J107,C107-3))","v":"04.03"},null,null,"74115/001","04.03.03","EXECUÇÃO DE LASTRO EM CONCRETO (1:2,5:6), PREPARO MANUAL ESP. 5CM",null,"m3",1.25]
[null,null,{"$f":"C107","v":8},null,{"$f":"SUM(IF(LEFT($J107:$J$1082,C107)=J107,1))-1","v":0}]
[null,null,{"$f":"LEN(J109)","v":8},{"$f":"COUNTIF($J$18:$J$1082,J109)","v":1},{"$f":"IF(E110=0,1,E110)","v":1},{"$f":"IF(C109=2,\"\",LEFT(J109,C109-3))","v":"04.03"},null,null,84217,"04.03.04","FORMA PARA ESTRUTURAS DE CONCRETO (PILAR, VIGA E LAJE) EM CHAPA DE MADEIRA COMPENSADA PLASTIFICADA, DE 1,10 X 2,20, ESPESSURA = 12 MM, 02 UTILIZACOES. (FABRICACAO, MONTAGEM E DESMONTAGEM - EXCLUSIVE ESCORAMENTO)",null,"m2",75]
[null,null,{"$f":"C109","v":8},null,{"$f":"SUM(IF(LEFT($J109:$J$1082,C109)=J109,1))-1","v":0}]
[null,null,{"$f":"LEN(J111)","v":8},{"$f":"COUNTIF($J$18:$J$1082,J111)","v":1},{"$f":"IF(E112=0,1,E112)","v":1},{"$f":"IF(C111=2,\"\",LEFT(J111,C111-3))","v":"04.03"},null,null,"74254/002","04.03.05","ARMACAO ACO CA-50, DIAM. 6,3 (1/4) À 12,5MM(1/2) -FORNECIMENTO/ CORTE(PERDA DE 10%) / DOBRA / COLOCAÇÃO.",null,"kg",1650]
[null,null,{"$f":"C111","v":8},null,{"$f":"SUM(IF(LEFT($J111:$J$1082,C111)=J111,1))-1","v":0}]
[null,null,{"$f":"LEN(J113)","v":8},{"$f":"COUNTIF($J$18:$J$1082,J113)","v":1},{"$f":"IF(E114=0,1,E114)","v":1},{"$f":"IF(C113=2,\"\",LEFT(J113,C113-3))","v":"04.03"},null,null,"74138/003","04.03.06","CONCRETO USINADO BOMBEADO FCK=25MPA, INCLUSIVE LANCAMENTO E ADENSAMENTO",null,"m3",15]
[null,null,{"$f":"C113","v":8},null,{"$f":"SUM(IF(LEFT($J113:$J$1082,C113)=J113,1))-1","v":0}]
[null,null,{"$f":"LEN(J115)","v":8},{"$f":"COUNTIF($J$18:$J$1082,J115)","v":1},{"$f":"IF(E116=0,1,E116)","v":1},{"$f":"IF(C115=2,\"\",LEFT(J115,C115-3))","v":"04.03"},null,null,5968,"04.03.07","IMPERMEABILIZACAO DE SUPERFICIE COM ARGAMASSA DE CIMENTO E AREIA (MEDIA), TRACO 1:3, COM ADITIVO IMPERMEABILIZANTE, E=2CM.",null,"M2",75]
[null,null,{"$f":"C115","v":8},null,{"$f":"SUM(IF(LEFT($J115:$J$1082,C115)=J115,1))-1","v":0}]
[null,null,{"$f":"LEN(J117)","v":8},{"$f":"COUNTIF($J$18:$J$1092,J117)","v":1},{"$f":"IF(E118=0,1,E118)","v":1},{"$f":"IF(C117=2,\"\",LEFT(J117,C117-3))","v":"04.03"},null,null,"Cotação","04.03.08","Impermeabilização com argamassa polimérica flexível",null,"M2",75]
[null,null,{"$f":"C117","v":8},null,{"$f":"SUM(IF(LEFT($J117:$J$1092,C117)=J117,1))-1","v":0}]
[null,null,{"$f":"LEN(J119)","v":8},{"$f":"COUNTIF($J$18:$J$1082,J119)","v":1},{"$f":"IF(E120=0,1,E120)","v":1},{"$f":"IF(C119=2,\"\",LEFT(J119,C119-3))","v":"04.03"},null,null,"73964/006","04.03.09","REATERRO DE VALA COM COMPACTAÇÃO MANUAL",null,"m3",6.5]
[null,null,{"$f":"C119","v":8},null,{"$f":"SUM(IF(LEFT($J119:$J$1082,C119)=J119,1))-1","v":0}]
[null,null,{"$f":"LEN(J121)","v":8},{"$f":"COUNTIF($J$18:$J$1082,J121)","v":1},{"$f":"IF(E122=0,1,E122)","v":1},{"$f":"IF(C121=2,\"\",LEFT(J121,C121-3))","v":"04.03"},null,null,72209,"04.03.10","CARGA MANUAL E REMOCAO E ENTULHO COM TRANSPORTE ATE 1KM EM CAMINHAO BASCULANTE 6M3",null,"m3",18.5]
[null,null,{"$f":"C121","v":8},null,{"$f":"SUM(IF(LEFT($J121:$J$1082,C121)=J121,1))-1","v":0}]
[null,null,{"$f":"LEN(J123)","v":2},{"$f":"COUNTIF($J$18:$J$1082,J123)","v":1},{"$f":"IF(E124=0,1,E124)","v":7},{"$f":"IF(C123=2,\"\",LEFT(J123,C123-3))","v":""},null,null,null,"05","SUPER ESTRUTURA",null,"",0]
[null,null,{"$f":"C123","v":2},null,{"$f":"SUM(IF(LEFT($J123:$J$1082,C123)=J123,1))-1","v":7},null,null,null,null,null,null,null,null,0]
[null,null,{"$f":"LEN(J125)","v":5},{"$f":"COUNTIF($J$18:$J$1082,J125)","v":1},{"$f":"IF(E126=0,1,E126)","v":6},{"$f":"IF(C125=2,\"\",LEFT(J125,C125-3))","v":"05"},null,null,null,"05.01","Pilares, vigas e lajes",null,"",0]
[null,null,{"$f":"C125","v":5},null,{"$f":"SUM(IF(LEFT($J125:$J$1082,C125)=J125,1))-1","v":6},null,null,null,null,null,null,null,null,0]
[null,null,{"$f":"LEN(J127)","v":8},{"$f":"COUNTIF($J$18:$J$1082,J127)","v":1},{"$f":"IF(E128=0,1,E128)","v":1},{"$f":"IF(C127=2,\"\",LEFT(J127,C127-3))","v":"05.01"},null,null,84222,"05.01.01","FORMA PARA ESTRUTURAS DE CONCRETO (PILAR, VIGA E LAJE) EM CHAPA DE MADEIRA COMPENSADA PLASTIFICADA, DE 1,10 X 2,20, ESPESSURA = 18 MM, 03 UTILIZACOES. (FABRICACAO, MONTAGEM E DESMONTAGEM - EXCLUSIVE ESCORAMENTO)",null,"M2",2283.69]
[null,null,{"$f":"C127","v":8},null,{"$f":"SUM(IF(LEFT($J127:$J$1082,C127)=J127,1))-1","v":0}]
[null,null,{"$f":"LEN(J129)","v":8},{"$f":"COUNTIF($J$18:$J$1082,J129)","v":1},{"$f":"IF(E130=0,1,E130)","v":1},{"$f":"IF(C129=2,\"\",LEFT(J129,C129-3))","v":"05.01"},null,null,83515,"05.01.02","ESCORAMENTO FORMAS DE H=3,30 A 3,50 M, COM MADEIRA 3A QUALIDADE, NAO APARELHADA, APROVEITAMENTO TABUAS 3X E PRUMOS 4X",null,"M3",4391.3100000000004]
[null,null,{"$f":"C129","v":8},null,{"$f":"SUM(IF(LEFT($J129:$J$1082,C129)=J129,1))-1","v":0}]
[null,null,{"$f":"LEN(J131)","v":8},{"$f":"COUNTIF($J$18:$J$1082,J131)","v":1},{"$f":"IF(E132=0,1,E132)","v":1},{"$f":"IF(C131=2,\"\",LEFT(J131,C131-3))","v":"05.01"},null,null,"74254/002","05.01.03","ARMACAO ACO CA-50, DIAM. 6,3 (1/4) À 12,5MM(1/2) -FORNECIMENTO/ CORTE(PERDA DE 10%) / DOBRA / COLOCAÇÃO.Obs.: os quantitativos de projeto incluem perdas de 10%. Considerando que a composição SINAPI já inclui perda de 10%, foram retirados 10% do quantitativo para que não haja sobreposição de perdas. ",null,"KG",12291.25]
[null,null,{"$f":"C131","v":8},null,{"$f":"SUM(IF(LEFT($J131:$J$1082,C131)=J131,1))-1","v":0}]
[null,null,{"$f":"LEN(J133)","v":8},{"$f":"COUNTIF($J$18:$J$1082,J133)","v":1},{"$f":"IF(E134=0,1,E134)","v":1},{"$f":"IF(C133=2,\"\",LEFT(J133,C133-3))","v":"05.01"},null,null,"73942/002","05.01.04","ARMACAO DE ACO CA-60 DIAM. 3,4 A 6,0MM.- FORNECIMENTO / CORTE (C/PERDADE 10%) / DOBRA / COLOCAÇÃO.Obs.: os quantitativos de projeto incluem perdas de 10%. Considerando que a composição SINAPI já inclui perda de 10%, foram retirados 10% do quantitativo para que não haja sobreposição de perdas. ",null,"KG",1381.91]
[null,null,{"$f":"C133","v":8},null,{"$f":"SUM(IF(LEFT($J133:$J$1082,C133)=J133,1))-1","v":0}]
[null,null,{"$f":"LEN(J135)","v":8},{"$f":"COUNTIF($J$18:$J$1082,J135)","v":1},{"$f":"IF(E136=0,1,E136)","v":1},{"$f":"IF(C135=2,\"\",LEFT(J135,C135-3))","v":"05.01"},null,null,"74138/003","05.01.05","CONCRETO USINADO BOMBEADO FCK=25MPA, INCLUSIVE LANCAMENTO E ADENSAMENTO",null,"M3",201.02]
[null,null,{"$f":"C135","v":8},null,{"$f":"SUM(IF(LEFT($J135:$J$1082,C135)=J135,1))-1","v":0}]
[null,null,{"$f":"LEN(J137)","v":8},{"$f":"COUNTIF($J$18:$J$1082,J137)","v":1},{"$f":"IF(E138=0,1,E138)","v":1},{"$f":"IF(C137=2,\"\",LEFT(J137,C137-3))","v":"05.01"},null,null,"73970/002","05.01.06","ESTRUTURA METALICA EM ACO ESTRUTURAL PERFIL I 6 X 3 3/8",null,"KG",29175.86]
[null,null,{"$f":"C137","v":8},null,{"$f":"SUM(IF(LEFT($J137:$J$1082,C137)=J137,1))-1","v":0},null,null,null,null,null,null,null,null,0]
[null,null,{"$f":"LEN(J139)","v":2},{"$f":"COUNTIF($J$18:$J$1082,J139)","v":1},{"$f":"IF(E140=0,1,E140)","v":4},{"$f":"IF(C139=2,\"\",LEFT(J139,C139-3))","v":""},null,null,null,"06","ALVENARIA",null,"",0]
[null,null,{"$f":"C139","v":2},null,{"$f":"SUM(IF(LEFT($J139:$J$1082,C139)=J139,1))-1","v":4},null,null,null,null,null,null,null,null,0]
[null,null,{"$f":"LEN(J141)","v":5},{"$f":"COUNTIF($J$18:$J$1082,J141)","v":1},{"$f":"IF(E142=0,1,E142)","v":1},{"$f":"IF(C141=2,\"\",LEFT(J141,C141-3))","v":"06"},null,null,null,"06.01","Alvenaria de vedação  com blocos cerâmicos furados 10x20x20cm",null,"",0]
[null,null,{"$f":"C141","v":5},null,{"$f":"SUM(IF(LEFT($J141:$J$1082,C141)=J141,1))-1","v":1},null,null,null,null,null,null,null,null,0]
[null,null,{"$f":"LEN(J143)","v":8},{"$f":"COUNTIF($J$18:$J$1082,J143)","v":1},{"$f":"IF(E144=0,1,E144)","v":1},{"$f":"IF(C143=2,\"\",LEFT(J143,C143-3))","v":"06.01"},null,null,87519,"06.01.01","ALVENARIA DE VEDAÇÃO DE BLOCOS CERÂMICOS FURADOS NA HORIZONTAL DE 9X19X19CM (ESPESSURA 9CM) DE PAREDES COM ÁREA LÍQUIDA MAIOR OU IGUAL A 6M² COM VÃOS E ARGAMASSA DE ASSENTAMENTO COM PREPARO EM BETONEIRA. AF_06/2014_P",null,"M2",2537.77]
[null,null,{"$f":"C143","v":8},null,{"$f":"SUM(IF(LEFT($J143:$J$1082,C143)=J143,1))-1","v":0},null,null,null,null,null,null,null,null,0]
[null,null,{"$f":"LEN(J145)","v":5},{"$f":"COUNTIF($J$18:$J$1082,J145)","v":1},{"$f":"IF(E146=0,1,E146)","v":1},{"$f":"IF(C145=2,\"\",LEFT(J145,C145-3))","v":"06"},null,null,null,"06.02","Verga e Contra-verga",null,"",0]
[null,null,{"$f":"C145","v":5},null,{"$f":"SUM(IF(LEFT($J145:$J$1082,C145)=J145,1))-1","v":1},null,null,null,null,null,null,null,null,0]
[null,null,{"$f":"LEN(J147)","v":8},{"$f":"COUNTIF($J$18:$J$1082,J147)","v":1},{"$f":"IF(E148=0,1,E148)","v":1},{"$f":"IF(C147=2,\"\",LEFT(J147,C147-3))","v":"06.02"},null,null,83901,"06.02.01","VERGAS 10X10 CM, PREMOLDADAS C/ CONCRETO FCK=15 MPA (PREPARO MECANICO), ACO CA-50 COM FORMAS TABUA DE PINHO 3A",null,"M",342.38]
[null,null,{"$f":"C147","v":8},null,{"$f":"SUM(IF(LEFT($J147:$J$1082,C147)=J147,1))-1","v":0},null,null,null,null,null,null,null,null,0]
[null,null,{"$f":"LEN(J149)","v":2},{"$f":"COUNTIF($J$18:$J$1082,J149)","v":1},{"$f":"IF(E150=0,1,E150)","v":4},{"$f":"IF(C149=2,\"\",LEFT(J149,C149-3))","v":""},null,null,null,"07","COBERTURA",null,"",0]
[null,null,{"$f":"C149","v":2},null,{"$f":"SUM(IF(LEFT($J149:$J$1082,C149)=J149,1))-1","v":4},null,null,null,null,null,null,null,null,0]
[null,null,{"$f":"LEN(J151)","v":5},{"$f":"COUNTIF($J$18:$J$1082,J151)","v":1},{"$f":"IF(E152=0,1,E152)","v":1},{"$f":"IF(C151=2,\"\",LEFT(J151,C151-3))","v":"07"},null,null,"CPU0006","07.01","Cobertura com telha trapezoidal de alumínio esp. 0,7mm, apoiada sobre engradamento metálico (engradamento cotado no item 04.01.06) ",null,"M2",1168.6400000000001]
[null,null,{"$f":"C151","v":5},null,{"$f":"SUM(IF(LEFT($J151:$J$1082,C151)=J151,1))-1","v":0},null,null,null,null,null,null,null,null,0]
[null,null,{"$f":"LEN(J153)","v":5},{"$f":"COUNTIF($J$18:$J$1082,J153)","v":1},{"$f":"IF(E154=0,1,E154)","v":1},{"$f":"IF(C153=2,\"\",LEFT(J153,C153-3))","v":"07"},null,null,"CPU0007","07.02","Cobertura com telha trapezoidal de alumínio esp. 0,7mm termoacústica (espessura Isolamento EPS 50mm), apoiada sobre engradamento metálico (engradamento cotado no item  04.01.06) ",null,"M2",512.66999999999996]
[null,null,{"$f":"C153","v":5},null,{"$f":"SUM(IF(LEFT($J153:$J$1082,C153)=J153,1))-1","v":0},null,null,null,null,null,null,null,null,0]
["y",null,{"$f":"LEN(J155)","v":5},{"$f":"COUNTIF($J$18:$J$1082,J155)","v":1},{"$f":"IF(E156=0,1,E156)","v":1},{"$f":"IF(C155=2,\"\",LEFT(J155,C155-3))","v":"07"},null,null,"Cotação","07.03","Rufos de alumínio desenvolvimento até 60cm",null,"M",389.27]
[null,null,{"$f":"C155","v":5},null,{"$f":"SUM(IF(LEFT($J155:$J$1082,C155)=J155,1))-1","v":0},null,null,null,null,null,null,null,null,0]
["y",null,{"$f":"LEN(J157)","v":5},{"$f":"COUNTIF($J$18:$J$1082,J157)","v":1},{"$f":"IF(E158=0,1,E158)","v":1},{"$f":"IF(C157=2,\"\",LEFT(J157,C157-3))","v":"07"},null,null,"Cotação","07.04","Calhas de alumínio desenvolvimento até 100cm",null,"M",116]
[null,null,{"$f":"C157","v":5},null,{"$f":"SUM(IF(LEFT($J157:$J$1082,C157)=J157,1))-1","v":0},null,null,null,null,null,null,null,null,0]
[null,null,{"$f":"LEN(J159)","v":2},{"$f":"COUNTIF($J$18:$J$1082,J159)","v":1},{"$f":"IF(E160=0,1,E160)","v":6},{"$f":"IF(C159=2,\"\",LEFT(J159,C159-3))","v":""},null,null,null,"08","IMPERMEABILIZAÇÕES ",null,"",0]
[null,null,{"$f":"C159","v":2},null,{"$f":"SUM(IF(LEFT($J159:$J$1082,C159)=J159,1))-1","v":6},null,null,null,null,null,null,null,null,0]
[null,null,{"$f":"LEN(J161)","v":5},{"$f":"COUNTIF($J$18:$J$1082,J161)","v":1},{"$f":"IF(E162=0,1,E162)","v":5},{"$f":"IF(C161=2,\"\",LEFT(J161,C161-3))","v":"08"},null,null,null,"08.01","Impermeabilização",null,null,0]
[null,null,{"$f":"C161","v":5},null,{"$f":"SUM(IF(LEFT($J161:$J$1082,C161)=J161,1))-1","v":5},null,null,null,null,null,null,null,null,0]
[null,null,{"$f":"LEN(J163)","v":8},{"$f":"COUNTIF($J$18:$J$1082,J163)","v":1},{"$f":"IF(E164=0,1,E164)","v":1},{"$f":"IF(C163=2,\"\",LEFT(J163,C163-3))","v":"08.01"},null,null,87071,"08.01.01","(ARGAMASSA DE REGULARIZAÇÃO) CONTRAPISO EM ARGAMASSA TRAÇO 1:4 (CIMENTO E AREIA), PREPARO MECÂNICO COM BETONEIRA 400 L, APLICADO EM ÁREAS SECAS MENORES QUE 10M2 SOBRE LAJE, ADERIDO, ESPESSURA 2CM, ACABAMENTO REFORÇADO. AF_06/2014",null,"M2",{"$f":"N165","v":23.44}]
[null,null,{"$f":"C163","v":8},null,{"$f":"SUM(IF(LEFT($J163:$J$1082,C163)=J163,1))-1","v":0},null,null,null,null,null,null,null,null,0]
[null,null,{"$f":"LEN(J165)","v":8},{"$f":"COUNTIF($J$18:$J$1082,J165)","v":1},{"$f":"IF(E166=0,1,E166)","v":1},{"$f":"IF(C165=2,\"\",LEFT(J165,C165-3))","v":"08.01"},null,null,83744,"08.01.02","PROTECAO MECANICA DE SUPERFICIE COM ARGAMASSA DE CIMENTO E AREIA, TRACO 1:7 CM, E=3 CM",null,"M2",23.44]
[null,null,{"$f":"C165","v":8},null,{"$f":"SUM(IF(LEFT($J165:$J$1082,C165)=J165,1))-1","v":0},null,null,null,null,null,null,null,null,0]
[null,null,{"$f":"LEN(J167)","v":8},{"$f":"COUNTIF($J$18:$J$1082,J167)","v":1},{"$f":"IF(E168=0,1,E168)","v":1},{"$f":"IF(C167=2,\"\",LEFT(J167,C167-3))","v":"08.01"},null,null,"73753/001","08.01.03","IMPERMEABILIZACAO DE SUPERFICIE COM MANTA ASFALTICA PROTEGIDA COM FILME DE ALUMINIO GOFRADO (DE ESPESSURA 0,8MM), INCLUSA APLICACAO DE EMULSAO ASFALTICA, E=3MM.",null,"M2",23.44]
[null,null,{"$f":"C167","v":8},null,{"$f":"SUM(IF(LEFT($J167:$J$1082,C167)=J167,1))-1","v":0},null,null,null,null,null,null,null,null,0]
[null,null,{"$f":"LEN(J169)","v":8},{"$f":"COUNTIF($J$18:$J$1084,J169)","v":1},{"$f":"IF(E170=0,1,E170)","v":1},{"$f":"IF(C169=2,\"\",LEFT(J169,C169-3))","v":"08.01"},null,null,5968,"08.01.04","Impermeabilização da alvenaria de embasamento - IMPERMEABILIZACAO DE SUPERFICIE COM ARGAMASSA DE CIMENTO E AREIA (MEDIA), TRACO 1:3, COM ADITIVO IMPERMEABILIZANTE, E=2CM.",null,"M2",{"$f":"693*0.94","v":651.41999999999996}]
[null,null,{"$f":"C169","v":8},null,{"$f":"SUM(IF(LEFT($J169:$J$1084,C169)=J169,1))-1","v":0},null,null,null,null,null,null,null,null,0]
[null,null,{"$f":"LEN(J171)","v":8},{"$f":"COUNTIF($J$18:$J$1092,J171)","v":1},{"$f":"IF(E172=0,1,E172)","v":1},{"$f":"IF(C171=2,\"\",LEFT(J171,C171-3))","v":"08.01"},null,null,"74106/001","08.01.05","Impermeabilização de vigas baldrame e  alvenaria de embasamento - IMPERMEABILIZACAO DE ESTRUTURAS ENTERRADAS, COM TINTA ASFALTICA TRÊS DEMAOS ",null,"M2",{"$f":"N169","v":651.41999999999996}]
[null,null,{"$f":"C171","v":8},null,{"$f":"SUM(IF(LEFT($J171:$J$1092,C171)=J171,1))-1","v":0},null,null,null,null,null,null,null,null,0]
[null,null,{"$f":"LEN(J173)","v":2},{"$f":"COUNTIF($J$18:$J$1082,J173)","v":1},{"$f":"IF(E174=0,1,E174)","v":70},{"$f":"IF(C173=2,\"\",LEFT(J173,C173-3))","v":""},null,null,null,"09","INSTALAÇÕES ELÉTRICAS PREDIAIS ",null,"",0]
[null,null,{"$f":"C173","v":2},null,{"$f":"SUM(IF(LEFT($J173:$J$1082,C173)=J173,1))-1","v":70},null,null,null,null,null,null,null,null,0]
[null,null,{"$f":"LEN(J175)","v":5},{"$f":"COUNTIF($J$18:$J$1082,J175)","v":1},{"$f":"IF(E176=0,1,E176)","v":1},{"$f":"IF(C175=2,\"\",LEFT(J175,C175-3))","v":"09"},null,null,73613,"09.01","ELETRODUTO DE PVC RIGIDO ROSCAVEL DN 20MM (3/4\") INCL CONEXOES, FORNECIMENTO E INSTALACAO - TETO",null,"m",945.7]
[null,null,{"$f":"C175","v":5},null,{"$f":"SUM(IF(LEFT($J175:$J$1082,C175)=J175,1))-1","v":0}]
[null,null,{"$f":"LEN(J177)","v":5},{"$f":"COUNTIF($J$18:$J$1082,J177)","v":1},{"$f":"IF(E178=0,1,E178)","v":1},{"$f":"IF(C177=2,\"\",LEFT(J177,C177-3))","v":"09"},null,null,73613,"09.02","ELETRODUTO DE PVC RIGIDO ROSCAVEL DN 20MM (3/4\") INCL CONEXOES, FORNECIMENTO E INSTALACAO - PAREDE",null,"m",530.70000000000005]
[null,null,{"$f":"C177","v":5},null,{"$f":"SUM(IF(LEFT($J177:$J$1082,C177)=J177,1))-1","v":0}]
[null,null,{"$f":"LEN(J179)","v":5},{"$f":"COUNTIF($J$18:$J$1082,J179)","v":1},{"$f":"IF(E180=0,1,E180)","v":1},{"$f":"IF(C179=2,\"\",LEFT(J179,C179-3))","v":"09"},null,null,73613,"09.03","ELETRODUTO DE PVC RIGIDO ROSCAVEL DN 20MM (3/4\") INCL CONEXOES, FORNECIMENTO E INSTALACAO - PISO",null,"m",744.3]
[null,null,{"$f":"C179","v":5},null,{"$f":"SUM(IF(LEFT($J179:$J$1082,C179)=J179,1))-1","v":0}]
[null,null,{"$f":"LEN(J181)","v":5},{"$f":"COUNTIF($J$18:$J$1082,J181)","v":1},{"$f":"IF(E182=0,1,E182)","v":1},{"$f":"IF(C181=2,\"\",LEFT(J181,C181-3))","v":"09"},null,null,"74252/001","09.04","ELETRODUTO DE PVC RIGIDO ROSCAVEL DN 25MM (1\") INCL CONEXOES, FORNECIMENTO E INSTALACAO - TETO",null,"m",29]
[null,null,{"$f":"C181","v":5},null,{"$f":"SUM(IF(LEFT($J181:$J$1082,C181)=J181,1))-1","v":0}]
[null,null,{"$f":"LEN(J183)","v":5},{"$f":"COUNTIF($J$18:$J$1082,J183)","v":1},{"$f":"IF(E184=0,1,E184)","v":1},{"$f":"IF(C183=2,\"\",LEFT(J183,C183-3))","v":"09"},null,null,"74252/001","09.05","ELETRODUTO DE PVC RIGIDO ROSCAVEL DN 25MM (1\") INCL CONEXOES, FORNECIMENTO E INSTALACAO  - PAREDE",null,"m",7.2]
[null,null,{"$f":"C183","v":5},null,{"$f":"SUM(IF(LEFT($J183:$J$1082,C183)=J183,1))-1","v":0}]
[null,null,{"$f":"LEN(J185)","v":5},{"$f":"COUNTIF($J$18:$J$1082,J185)","v":1},{"$f":"IF(E186=0,1,E186)","v":1},{"$f":"IF(C185=2,\"\",LEFT(J185,C185-3))","v":"09"},null,null,83407,"09.06","ELETRODUTO DE PVC RIGIDO ROSCAVEL DN 32MM (1 1/4\") INCL CONEXOES, FORNECIMENTO E INSTALACAO  - PAREDE",null,"m",45]
[null,null,{"$f":"C185","v":5},null,{"$f":"SUM(IF(LEFT($J185:$J$1082,C185)=J185,1))-1","v":0}]
[null,null,{"$f":"LEN(J187)","v":5},{"$f":"COUNTIF($J$18:$J$1082,J187)","v":1},{"$f":"IF(E188=0,1,E188)","v":1},{"$f":"IF(C187=2,\"\",LEFT(J187,C187-3))","v":"09"},null,null,83440,"09.07","CAIXA DE PASSAGEM 4X2\" EM FERRO GALVANIZADO",null,"UNID",428]
[null,null,{"$f":"C187","v":5},null,{"$f":"SUM(IF(LEFT($J187:$J$1082,C187)=J187,1))-1","v":0}]
[null,null,{"$f":"LEN(J189)","v":5},{"$f":"COUNTIF($J$18:$J$1082,J189)","v":1},{"$f":"IF(E190=0,1,E190)","v":1},{"$f":"IF(C189=2,\"\",LEFT(J189,C189-3))","v":"09"},null,null,83438,"09.08","CAIXA METALICA OCTOGONAL 4X4\" FUNDO MOVEL",null,"UNID",255]
[null,null,{"$f":"C189","v":5},null,{"$f":"SUM(IF(LEFT($J189:$J$1082,C189)=J189,1))-1","v":0}]
["y",null,{"$f":"LEN(J191)","v":5},{"$f":"COUNTIF($J$18:$J$1082,J191)","v":1},{"$f":"IF(E192=0,1,E192)","v":1},{"$f":"IF(C191=2,\"\",LEFT(J191,C191-3))","v":"09"},null,null,"Cotação","09.09","Caixa p/  tomada de piso  4\"x4\" c/ anel de regulagem    ",null,"UNID",4]
[null,null,{"$f":"C191","v":5},null,{"$f":"SUM(IF(LEFT($J191:$J$1082,C191)=J191,1))-1","v":0}]
["y",null,{"$f":"LEN(J193)","v":5},{"$f":"COUNTIF($J$18:$J$1082,J193)","v":1},{"$f":"IF(E194=0,1,E194)","v":1},{"$f":"IF(C193=2,\"\",LEFT(J193,C193-3))","v":"09"},null,null,"Cotação","09.10","Caixa de passagem em alumínio c/ tampa anti-derrapante 20x20 cm   ",null,"UNID",19]
[null,null,{"$f":"C193","v":5},null,{"$f":"SUM(IF(LEFT($J193:$J$1082,C193)=J193,1))-1","v":0}]
[null,null,{"$f":"LEN(J195)","v":5},{"$f":"COUNTIF($J$18:$J$1082,J195)","v":1},{"$f":"IF(E196=0,1,E196)","v":1},{"$f":"IF(C195=2,\"\",LEFT(J195,C195-3))","v":"09"},null,null,72336,"09.11","Espelho cego redondo                                    ",null,"UNID",7]
[null,null,{"$f":"C195","v":5},null,{"$f":"SUM(IF(LEFT($J195:$J$1082,C195)=J195,1))-1","v":0}]
[null,null,{"$f":"LEN(J197)","v":5},{"$f":"COUNTIF($J$18:$J$1082,J197)","v":1},{"$f":"IF(E198=0,1,E198)","v":1},{"$f":"IF(C197=2,\"\",LEFT(J197,C197-3))","v":"09"},null,null,"73860/008","09.12","CABO DE COBRE ISOLADO PVC 450/750V 2.5 mm2 (F)  REISTENTE A CHAMA - FORNECIMENTO E INSTALACAO                                ",null,"m",6147.3]
[null,null,{"$f":"C197","v":5},null,{"$f":"SUM(IF(LEFT($J197:$J$1082,C197)=J197,1))-1","v":0}]
[null,null,{"$f":"LEN(J199)","v":5},{"$f":"COUNTIF($J$18:$J$1082,J199)","v":1},{"$f":"IF(E200=0,1,E200)","v":1},{"$f":"IF(C199=2,\"\",LEFT(J199,C199-3))","v":"09"},null,null,"73860/008","09.13","CABO DE COBRE ISOLADO PVC 450/750V 2.5 mm2 (N)  REISTENTE A CHAMA - FORNECIMENTO E INSTALACAO                            ",null,"m",6264.2]
[null,null,{"$f":"C199","v":5},null,{"$f":"SUM(IF(LEFT($J199:$J$1082,C199)=J199,1))-1","v":0}]
[null,null,{"$f":"LEN(J201)","v":5},{"$f":"COUNTIF($J$18:$J$1082,J201)","v":1},{"$f":"IF(E202=0,1,E202)","v":1},{"$f":"IF(C201=2,\"\",LEFT(J201,C201-3))","v":"09"},null,null,"73860/008","09.14","CABO DE COBRE ISOLADO PVC 450/750V 2.5 mm2 (R)  REISTENTE A CHAMA - FORNECIMENTO E INSTALACAO                            ",null,"m",740.6]
[null,null,{"$f":"C201","v":5},null,{"$f":"SUM(IF(LEFT($J201:$J$1082,C201)=J201,1))-1","v":0}]
[null,null,{"$f":"LEN(J203)","v":5},{"$f":"COUNTIF($J$18:$J$1082,J203)","v":1},{"$f":"IF(E204=0,1,E204)","v":1},{"$f":"IF(C203=2,\"\",LEFT(J203,C203-3))","v":"09"},null,null,"73860/008","09.15","CABO DE COBRE ISOLADO PVC 450/750V 2.5 mm2 (T)  REISTENTE A CHAMA - FORNECIMENTO E INSTALACAO                            ",null,"m",4949.8]
[null,null,{"$f":"C203","v":5},null,{"$f":"SUM(IF(LEFT($J203:$J$1082,C203)=J203,1))-1","v":0}]
[null,null,{"$f":"LEN(J205)","v":5},{"$f":"COUNTIF($J$18:$J$1082,J205)","v":1},{"$f":"IF(E206=0,1,E206)","v":1},{"$f":"IF(C205=2,\"\",LEFT(J205,C205-3))","v":"09"},null,null,"73860/010","09.16","CABO DE COBRE ISOLADO PVC 450/750V 6 mm2 (F)  REISTENTE A CHAMA - FORNECIMENTO E INSTALACAO                            ",null,"m",62.3]
[null,null,{"$f":"C205","v":5},null,{"$f":"SUM(IF(LEFT($J205:$J$1082,C205)=J205,1))-1","v":0}]
[null,null,{"$f":"LEN(J207)","v":5},{"$f":"COUNTIF($J$18:$J$1082,J207)","v":1},{"$f":"IF(E208=0,1,E208)","v":1},{"$f":"IF(C207=2,\"\",LEFT(J207,C207-3))","v":"09"},null,null,"73860/010","09.17","CABO DE COBRE ISOLADO PVC 450/750V 6 mm2 (N)  REISTENTE A CHAMA - FORNECIMENTO E INSTALACAO                            ",null,"m",109.2]
[null,null,{"$f":"C207","v":5},null,{"$f":"SUM(IF(LEFT($J207:$J$1082,C207)=J207,1))-1","v":0}]
[null,null,{"$f":"LEN(J209)","v":5},{"$f":"COUNTIF($J$18:$J$1082,J209)","v":1},{"$f":"IF(E210=0,1,E210)","v":1},{"$f":"IF(C209=2,\"\",LEFT(J209,C209-3))","v":"09"},null,null,"73860/010","09.18","CABO DE COBRE ISOLADO PVC 450/750V 6 mm2 (R)  REISTENTE A CHAMA - FORNECIMENTO E INSTALACAO                            ",null,"m",101.3]
[null,null,{"$f":"C209","v":5},null,{"$f":"SUM(IF(LEFT($J209:$J$1082,C209)=J209,1))-1","v":0}]
[null,null,{"$f":"LEN(J211)","v":5},{"$f":"COUNTIF($J$18:$J$1082,J211)","v":1},{"$f":"IF(E212=0,1,E212)","v":1},{"$f":"IF(C211=2,\"\",LEFT(J211,C211-3))","v":"09"},null,null,"73860/010","09.19","CABO DE COBRE ISOLADO PVC 450/750V 6 mm2 (R)  REISTENTE A CHAMA - FORNECIMENTO E INSTALACAO                            ",null,"m",19.8]
[null,null,{"$f":"C211","v":5},null,{"$f":"SUM(IF(LEFT($J211:$J$1082,C211)=J211,1))-1","v":0}]
[null,null,{"$f":"LEN(J213)","v":5},{"$f":"COUNTIF($J$18:$J$1082,J213)","v":1},{"$f":"IF(E214=0,1,E214)","v":1},{"$f":"IF(C213=2,\"\",LEFT(J213,C213-3))","v":"09"},null,null,72331,"09.20","INTERRUPTOR SIMPLES DE EMBUTIR 10A/250V 1 TECLA, COM PLACA - FORNECIME   NTO E INSTALACAO",null,"UNID",70]
[null,null,{"$f":"C213","v":5},null,{"$f":"SUM(IF(LEFT($J213:$J$1082,C213)=J213,1))-1","v":0}]
[null,null,{"$f":"LEN(J215)","v":5},{"$f":"COUNTIF($J$18:$J$1082,J215)","v":1},{"$f":"IF(E216=0,1,E216)","v":1},{"$f":"IF(C215=2,\"\",LEFT(J215,C215-3))","v":"09"},null,null,72332,"09.21","INTERRUPTOR SIMPLES DE EMBUTIR 10A/250V 2 TECLAS, COM PLACA - FORNECIMENTO E INSTALACAO",null,"UNID",3]
[null,null,{"$f":"C215","v":5},null,{"$f":"SUM(IF(LEFT($J215:$J$1082,C215)=J215,1))-1","v":0}]
["y",null,{"$f":"LEN(J217)","v":5},{"$f":"COUNTIF($J$18:$J$1082,J217)","v":1},{"$f":"IF(E218=0,1,E218)","v":1},{"$f":"IF(C217=2,\"\",LEFT(J217,C217-3))","v":"09"},null,null,"Cotação","09.22","Luminária de sobrepor com caixa redonda no corpo da luminária em alumínio pintado na cor branco, fixação direto na laje ou suspenso por cabo de aço e canopla, para 1 lâmpada de vapor metálico ovóide 250W",null,"UNID",26]
[null,null,{"$f":"C217","v":5},null,{"$f":"SUM(IF(LEFT($J217:$J$1082,C217)=J217,1))-1","v":0}]
["y",null,{"$f":"LEN(J219)","v":5},{"$f":"COUNTIF($J$18:$J$1082,J219)","v":1},{"$f":"IF(E220=0,1,E220)","v":1},{"$f":"IF(C219=2,\"\",LEFT(J219,C219-3))","v":"09"},null,null,"Cotação","09.23","Projetor orientável de sobrepor com corpo de alumínio pintado na cor branca, refletor em alumínio anodizado com protetor em vidro temperado jateado equipado com 1 lâmpada de 70W",null,"UNID",9]
[null,null,{"$f":"C219","v":5},null,{"$f":"SUM(IF(LEFT($J219:$J$1082,C219)=J219,1))-1","v":0}]
["y",null,{"$f":"LEN(J221)","v":5},{"$f":"COUNTIF($J$18:$J$1082,J221)","v":1},{"$f":"IF(E222=0,1,E222)","v":1},{"$f":"IF(C221=2,\"\",LEFT(J221,C221-3))","v":"09"},null,null,"Cotação","09.24","Luminária de sobrepor Ø258mm em chapa de aço pintura epoxi controle de ofuscametno, refletor e aletas parabolicas em alumínio alto brilho classe a/500 lux para 1 lampada fluorescente compacta de 26w",null,"UNID",20]
[null,null,{"$f":"C221","v":5},null,{"$f":"SUM(IF(LEFT($J221:$J$1082,C221)=J221,1))-1","v":0}]
["y",null,{"$f":"LEN(J223)","v":5},{"$f":"COUNTIF($J$18:$J$1082,J223)","v":1},{"$f":"IF(E224=0,1,E224)","v":1},{"$f":"IF(C223=2,\"\",LEFT(J223,C223-3))","v":"09"},null,null,"Cotação","09.25","Luminária de sobrepor Ø258mm em chapa de aço pintura epoxi controle de ofuscametno, refletor e aletas parabolicas em alumínio alto brilho classe a/500 lux para 2 lampadas fluorescentes compactas de 26w",null,"UNID",12]
[null,null,{"$f":"C223","v":5},null,{"$f":"SUM(IF(LEFT($J223:$J$1082,C223)=J223,1))-1","v":0}]
["y",null,{"$f":"LEN(J225)","v":5},{"$f":"COUNTIF($J$18:$J$1082,J225)","v":1},{"$f":"IF(E226=0,1,E226)","v":1},{"$f":"IF(C225=2,\"\",LEFT(J225,C225-3))","v":"09"},null,null,"Cotação","09.26","Luminária de sobrepor Ø258mm em chapa de aço pintura epoxi controle de ofuscametno, refletor e aletas parabolicas em alumínio alto brilho classe a/500 lux para 2 lampadas fluorescentes compactas de 26w",null,"UNID",71]
[null,null,{"$f":"C225","v":5},null,{"$f":"SUM(IF(LEFT($J225:$J$1082,C225)=J225,1))-1","v":0}]
["y",null,{"$f":"LEN(J227)","v":5},{"$f":"COUNTIF($J$18:$J$1082,J227)","v":1},{"$f":"IF(E228=0,1,E228)","v":1},{"$f":"IF(C227=2,\"\",LEFT(J227,C227-3))","v":"09"},null,null,"Cotação","09.27","Bloco autônomo para iluminacao de emergencia com lampada PL 9w para aclaramento",null,"UNID",27]
[null,null,{"$f":"C227","v":5},null,{"$f":"SUM(IF(LEFT($J227:$J$1082,C227)=J227,1))-1","v":0}]
["y",null,{"$f":"LEN(J229)","v":5},{"$f":"COUNTIF($J$18:$J$1082,J229)","v":1},{"$f":"IF(E230=0,1,E230)","v":1},{"$f":"IF(C229=2,\"\",LEFT(J229,C229-3))","v":"09"},null,null,"Cotação","09.28","Luminária de embutir Ø258mm em chapa de aço pintura epoxi controle de ofuscametno, refletor e aletas parabolicas em alumínio alto brilho classe a/500 lux para 2 lampadas fluorescentes compactas de 26w",null,"UNID",83]
[null,null,{"$f":"C229","v":5},null,{"$f":"SUM(IF(LEFT($J229:$J$1082,C229)=J229,1))-1","v":0}]
["y",null,{"$f":"LEN(J231)","v":5},{"$f":"COUNTIF($J$18:$J$1082,J231)","v":1},{"$f":"IF(E232=0,1,E232)","v":1},{"$f":"IF(C231=2,\"\",LEFT(J231,C231-3))","v":"09"},null,null,"Cotação","09.29","Luminária de sobrepor tipo calha chapa em aço pintura epoxi controle de ofuscamento, refletor em aluminio alto brilho classe a/500lux para 2 lampadas fluorescentes 14w",null,"UNID",9]
[null,null,{"$f":"C231","v":5},null,{"$f":"SUM(IF(LEFT($J231:$J$1082,C231)=J231,1))-1","v":0}]
["y",null,{"$f":"LEN(J233)","v":5},{"$f":"COUNTIF($J$18:$J$1082,J233)","v":1},{"$f":"IF(E234=0,1,E234)","v":1},{"$f":"IF(C233=2,\"\",LEFT(J233,C233-3))","v":"09"},null,null,"Cotação","09.30","Luminária tipo arandela para uso externo totalmente em aluminio fundido pintado a prova de gases, vapor e pó, para 1 lampada icandescente de 60W",null,"UNID",28]
[null,null,{"$f":"C233","v":5},null,{"$f":"SUM(IF(LEFT($J233:$J$1082,C233)=J233,1))-1","v":0}]
[null,null,{"$f":"LEN(J235)","v":5},{"$f":"COUNTIF($J$18:$J$1082,J235)","v":1},{"$f":"IF(E236=0,1,E236)","v":1},{"$f":"IF(C235=2,\"\",LEFT(J235,C235-3))","v":"09"},null,null,83566,"09.31","TOMADA DE EMBUTIR 2P+T 20A/250V C/ PLACA - FORNECIMENTO E INSTALACAO   ",null,"UNID",327]
[null,null,{"$f":"C235","v":5},null,{"$f":"SUM(IF(LEFT($J235:$J$1082,C235)=J235,1))-1","v":0}]
["y",null,{"$f":"LEN(J237)","v":5},{"$f":"COUNTIF($J$18:$J$1092,J237)","v":1},{"$f":"IF(E238=0,1,E238)","v":1},{"$f":"IF(C237=2,\"\",LEFT(J237,C237-3))","v":"09"},null,null,"Cotação","09.32","Sistema de ventilação mecânica  - exaustor com capacidade de renovação nominal de 150m³/h ",null,"UNID",7]
[null,null,{"$f":"C237","v":5},null,{"$f":"SUM(IF(LEFT($J237:$J$1082,C237)=J237,1))-1","v":0}]
["y",null,{"$f":"LEN(J239)","v":5},{"$f":"COUNTIF($J$18:$J$1092,J239)","v":1},{"$f":"IF(E240=0,1,E240)","v":1},{"$f":"IF(C239=2,\"\",LEFT(J239,C239-3))","v":"09"},null,null,"Cotação","09.33","Tomada de piso 2P universal com placa 4x4",null,"UNID",4]
[null,null,{"$f":"C239","v":5},null,{"$f":"SUM(IF(LEFT($J239:$J$1082,C239)=J239,1))-1","v":0}]
[null,null,{"$f":"LEN(J241)","v":5},{"$f":"COUNTIF($J$18:$J$1082,J241)","v":1},{"$f":"IF(E242=0,1,E242)","v":1},{"$f":"IF(C241=2,\"\",LEFT(J241,C241-3))","v":"09"},null,null,"Cotação","09.34","Eletrocalha de 38X38 mm em aço galvanizado com chapa de #16",null,"M",108.04]
[null,null,{"$f":"C241","v":5},null,{"$f":"SUM(IF(LEFT($J241:$J$1082,C241)=J241,1))-1","v":0}]
[null,null,{"$f":"LEN(J243)","v":5},{"$f":"COUNTIF($J$18:$J$1082,J243)","v":1},{"$f":"IF(E244=0,1,E244)","v":1},{"$f":"IF(C243=2,\"\",LEFT(J243,C243-3))","v":"09"},null,null,"74130/001","09.35","DISJUNTOR TERMOMAGNETICO MONOPOLAR 1x16A 240V, FORNECIMENTO E INSTALACAO",null,"UNID",17]
[null,null,{"$f":"C243","v":5},null,{"$f":"SUM(IF(LEFT($J243:$J$1082,C243)=J243,1))-1","v":0}]
[null,null,{"$f":"LEN(J245)","v":5},{"$f":"COUNTIF($J$18:$J$1082,J245)","v":1},{"$f":"IF(E246=0,1,E246)","v":1},{"$f":"IF(C245=2,\"\",LEFT(J245,C245-3))","v":"09"},null,null,"74130/001","09.36","DISJUNTOR TERMOMAGNETICO MONOPOLAR 1x25A 240V, FORNECIMENTO E INSTALACAO",null,"UNID",2]
[null,null,{"$f":"C245","v":5},null,{"$f":"SUM(IF(LEFT($J245:$J$1082,C245)=J245,1))-1","v":0}]
[null,null,{"$f":"LEN(J247)","v":5},{"$f":"COUNTIF($J$18:$J$1082,J247)","v":1},{"$f":"IF(E248=0,1,E248)","v":1},{"$f":"IF(C247=2,\"\",LEFT(J247,C247-3))","v":"09"},null,null,"74130/001","09.37","DISJUNTOR TERMOMAGNETICO MONOPOLAR 1x20A 240V, FORNECIMENTO E INSTALACAO",null,"UNID",33]
[null,null,{"$f":"C247","v":5},null,{"$f":"SUM(IF(LEFT($J247:$J$1082,C247)=J247,1))-1","v":0}]
[null,null,{"$f":"LEN(J249)","v":5},{"$f":"COUNTIF($J$18:$J$1082,J249)","v":1},{"$f":"IF(E250=0,1,E250)","v":1},{"$f":"IF(C249=2,\"\",LEFT(J249,C249-3))","v":"09"},null,null,"74130/002","09.38","DISJUNTOR TERMOMAGNETICO BIPOLAR 2x16A 240V, FORNECIMENTO E INSTALACAO",null,"UNID",1]
[null,null,{"$f":"C249","v":5},null,{"$f":"SUM(IF(LEFT($J249:$J$1082,C249)=J249,1))-1","v":0}]
[null,null,{"$f":"LEN(J251)","v":5},{"$f":"COUNTIF($J$18:$J$1082,J251)","v":1},{"$f":"IF(E252=0,1,E252)","v":1},{"$f":"IF(C251=2,\"\",LEFT(J251,C251-3))","v":"09"},null,null,"74130/003","09.39","DISJUNTOR TERMOMAGNETICO BIPOLAR 2x32A 240V, FORNECIMENTO E INSTALACAO",null,"UNID",4]
[null,null,{"$f":"C251","v":5},null,{"$f":"SUM(IF(LEFT($J251:$J$1082,C251)=J251,1))-1","v":0}]
[null,null,{"$f":"LEN(J253)","v":5},{"$f":"COUNTIF($J$18:$J$1082,J253)","v":1},{"$f":"IF(E254=0,1,E254)","v":1},{"$f":"IF(C253=2,\"\",LEFT(J253,C253-3))","v":"09"},null,null,"74130/003","09.40","DISJUNTOR TERMOMAGNETICO BIPOLAR 2x50A 240V, FORNECIMENTO E INSTALACAO",null,"UNID",1]
[null,null,{"$f":"C253","v":5},null,{"$f":"SUM(IF(LEFT($J253:$J$1082,C253)=J253,1))-1","v":0}]
[null,null,{"$f":"LEN(J255)","v":5},{"$f":"COUNTIF($J$18:$J$1082,J255)","v":1},{"$f":"IF(E256=0,1,E256)","v":1},{"$f":"IF(C255=2,\"\",LEFT(J255,C255-3))","v":"09"},null,null,"74130/003","09.41","DISJUNTOR TERMOMAGNETICO TRIPOLAR 3x50A 240V, FORNECIMENTO E INSTALACAO",null,"UNID",7]
[null,null,{"$f":"C255","v":5},null,{"$f":"SUM(IF(LEFT($J255:$J$1082,C255)=J255,1))-1","v":0}]
[null,null,{"$f":"LEN(J257)","v":5},{"$f":"COUNTIF($J$18:$J$1082,J257)","v":1},{"$f":"IF(E258=0,1,E258)","v":1},{"$f":"IF(C257=2,\"\",LEFT(J257,C257-3))","v":"09"},null,null,"74130/004","09.42","DISJUNTOR TERMOMAGNETICO TRIPOLAR 3x100A 240V, FORNECIMENTO E INSTALACAO",null,"UNID",2]
[null,null,{"$f":"C257","v":5},null,{"$f":"SUM(IF(LEFT($J257:$J$1082,C257)=J257,1))-1","v":0}]
[null,null,{"$f":"LEN(J259)","v":5},{"$f":"COUNTIF($J$18:$J$1082,J259)","v":1},{"$f":"IF(E260=0,1,E260)","v":1},{"$f":"IF(C259=2,\"\",LEFT(J259,C259-3))","v":"09"},null,null,"74130/005","09.43","DISJUNTOR TERMOMAGNETICO TRIPOLAR 3x125A 240V, FORNECIMENTO E INSTALACAO",null,"UNID",2]
[null,null,{"$f":"C259","v":5},null,{"$f":"SUM(IF(LEFT($J259:$J$1082,C259)=J259,1))-1","v":0}]
[null,null,{"$f":"LEN(J261)","v":5},{"$f":"COUNTIF($J$18:$J$1082,J261)","v":1},{"$f":"IF(E262=0,1,E262)","v":1},{"$f":"IF(C261=2,\"\",LEFT(J261,C261-3))","v":"09"},null,null,"74130/010","09.44","DISJUNTOR TERMOMAGNETICO TRIPOLAR 3x225A 240V, FORNECIMENTO E INSTALACAO",null,"UNID",5]
[null,null,{"$f":"C261","v":5},null,{"$f":"SUM(IF(LEFT($J261:$J$1082,C261)=J261,1))-1","v":0}]
[null,null,{"$f":"LEN(J263)","v":5},{"$f":"COUNTIF($J$18:$J$1082,J263)","v":1},{"$f":"IF(E264=0,1,E264)","v":1},{"$f":"IF(C263=2,\"\",LEFT(J263,C263-3))","v":"09"},null,null,"74130/010","09.45","DISJUNTOR TERMOMAGNETICO TRIPOLAR 3x250A 240V, FORNECIMENTO E INSTALACAO",null,"UNID",1]
[null,null,{"$f":"C263","v":5},null,{"$f":"SUM(IF(LEFT($J263:$J$1082,C263)=J263,1))-1","v":0}]
[null,null,{"$f":"LEN(J265)","v":5},{"$f":"COUNTIF($J$18:$J$1082,J265)","v":1},{"$f":"IF(E266=0,1,E266)","v":1},{"$f":"IF(C265=2,\"\",LEFT(J265,C265-3))","v":"09"},null,null,"73860/011","09.46","CABO DE COBRE ISOLADO PVC 450/750V 10MM2 RESISTENTE A CHAMA - FORNECIMENTO E INSTALACAO                            ",null,"m",116.75]
[null,null,{"$f":"C265","v":5},null,{"$f":"SUM(IF(LEFT($J265:$J$1082,C265)=J265,1))-1","v":0}]
[null,null,{"$f":"LEN(J267)","v":5},{"$f":"COUNTIF($J$18:$J$1082,J267)","v":1},{"$f":"IF(E270=0,1,E270)","v":1},{"$f":"IF(C267=2,\"\",LEFT(J267,C267-3))","v":"09"},null,null,"73860/012","09.47","CABO DE COBRE ISOLADO PVC 450/750V 16MM2 RESISTENTE A CHAMA - FORNECIMENTO E INSTALACAO                            ",null,"m",122.35]
[null,null,{"$f":"C267","v":5},null,{"$f":"SUM(IF(LEFT($J267:$J$1080,C267)=J267,1))-1","v":0}]
[null,null,{"$f":"LEN(J269)","v":5},{"$f":"COUNTIF($J$18:$J$1080,J269)","v":1},{"$f":"IF(E270=0,1,E270)","v":1},{"$f":"IF(C269=2,\"\",LEFT(J269,C269-3))","v":"09"},null,null,"73860/013","09.48","CABO DE COBRE ISOLADO PVC 450/750V 25MM2 RESISTENTE A CHAMA - FORNECIMENTO E INSTALACAO                            ",null,"m",97.4]
[null,null,{"$f":"C267","v":5},null,{"$f":"SUM(IF(LEFT($J267:$J$1082,C267)=J267,1))-1","v":0}]
[null,null,{"$f":"LEN(J271)","v":5},{"$f":"COUNTIF($J$18:$J$1082,J271)","v":1},{"$f":"IF(E272=0,1,E272)","v":1},{"$f":"IF(C271=2,\"\",LEFT(J271,C271-3))","v":"09"},null,null,"73860/022","09.49","CABO DE COBRE ISOLADO PVC 450/750V 35MM2 RESISTENTE A CHAMA - FORNECIMENTO E INSTALACAO                            ",null,"m",392]
[null,null,{"$f":"C271","v":5},null,{"$f":"SUM(IF(LEFT($J271:$J$1082,C271)=J271,1))-1","v":0}]
[null,null,{"$f":"LEN(J273)","v":5},{"$f":"COUNTIF($J$18:$J$1082,J273)","v":1},{"$f":"IF(E274=0,1,E274)","v":1},{"$f":"IF(C273=2,\"\",LEFT(J273,C273-3))","v":"09"},null,null,"73860/014","09.50","CABO DE COBRE ISOLADO PVC 450/750V 50MM2 RESISTENTE A CHAMA - FORNECIMENTO E INSTALACAO                            ",null,"m",173.4]
[null,null,{"$f":"C273","v":5},null,{"$f":"SUM(IF(LEFT($J273:$J$1082,C273)=J273,1))-1","v":0}]
[null,null,{"$f":"LEN(J275)","v":5},{"$f":"COUNTIF($J$18:$J$1082,J275)","v":1},{"$f":"IF(E276=0,1,E276)","v":1},{"$f":"IF(C275=2,\"\",LEFT(J275,C275-3))","v":"09"},null,null,"73860/015","09.51","CABO DE COBRE ISOLADO PVC 450/750V 70MM2 RESISTENTE A CHAMA - FORNECIMENTO E INSTALACAO                            ",null,"m",24]
[null,null,{"$f":"C275","v":5},null,{"$f":"SUM(IF(LEFT($J275:$J$1082,C275)=J275,1))-1","v":0}]
[null,null,{"$f":"LEN(J277)","v":5},{"$f":"COUNTIF($J$18:$J$1082,J277)","v":1},{"$f":"IF(E278=0,1,E278)","v":1},{"$f":"IF(C277=2,\"\",LEFT(J277,C277-3))","v":"09"},null,null,"73860/016","09.52","CABO DE COBRE ISOLADO PVC 450/750V 95MM2 RESISTENTE A CHAMA - FORNECIMENTO E INSTALACAO                            ",null,"m",260.10000000000002]
[null,null,{"$f":"C277","v":5},null,{"$f":"SUM(IF(LEFT($J277:$J$1082,C277)=J277,1))-1","v":0}]
[null,null,{"$f":"LEN(J279)","v":5},{"$f":"COUNTIF($J$18:$J$1082,J279)","v":1},{"$f":"IF(E280=0,1,E280)","v":1},{"$f":"IF(C279=2,\"\",LEFT(J279,C279-3))","v":"09"},null,null,"73860/017","09.53","CABO DE COBRE ISOLADO PVC 450/750V 120MM2 RESISTENTE A CHAMA - FORNECIMENTO E INSTALACAO                            ",null,"M",252]
[null,null,{"$f":"C279","v":5},null,{"$f":"SUM(IF(LEFT($J279:$J$1082,C279)=J279,1))-1","v":0}]
[null,null,{"$f":"LEN(J281)","v":5},{"$f":"COUNTIF($J$18:$J$1082,J281)","v":1},{"$f":"IF(E282=0,1,E282)","v":1},{"$f":"IF(C281=2,\"\",LEFT(J281,C281-3))","v":"09"},null,null,"74252/001","09.54","ELETRODUTO DE PVC RIGIDO ROSCAVEL DN 25MM (1\") INCL CONEXOES, FORNECIMENTO E INSTALACAO  - Alimentadores principais",null,"m",23.35]
[null,null,{"$f":"C281","v":5},null,{"$f":"SUM(IF(LEFT($J281:$J$1082,C281)=J281,1))-1","v":0}]
[null,null,{"$f":"LEN(J283)","v":5},{"$f":"COUNTIF($J$18:$J$1082,J283)","v":1},{"$f":"IF(E284=0,1,E284)","v":1},{"$f":"IF(C283=2,\"\",LEFT(J283,C283-3))","v":"09"},null,null,83407,"09.55","ELETRODUTO DE PVC RIGIDO ROSCAVEL DN 32MM (1 1/4\") INCL CONEXOES, FORNECIMENTO E INSTALACAO  - Alimentadores principais",null,"m",122.35]
[null,null,{"$f":"C283","v":5},null,{"$f":"SUM(IF(LEFT($J283:$J$1082,C283)=J283,1))-1","v":0}]
[null,null,{"$f":"LEN(J285)","v":5},{"$f":"COUNTIF($J$18:$J$1082,J285)","v":1},{"$f":"IF(E286=0,1,E286)","v":1},{"$f":"IF(C285=2,\"\",LEFT(J285,C285-3))","v":"09"},null,null,83408,"09.56","ELETRODUTO DE PVC RIGIDO ROSCAVEL DN 60MM (2 1/2\") INCL CONEXOES, FORNECIMENTO E INSTALACAO  - Alimentadores principais                            ",null,"m",86.7]
[null,null,{"$f":"C285","v":5},null,{"$f":"SUM(IF(LEFT($J285:$J$1082,C285)=J285,1))-1","v":0}]
[null,null,{"$f":"LEN(J287)","v":5},{"$f":"COUNTIF($J$18:$J$1082,J287)","v":1},{"$f":"IF(E288=0,1,E288)","v":1},{"$f":"IF(C287=2,\"\",LEFT(J287,C287-3))","v":"09"},null,null,55868,"09.57","ELETRODUTO DE PVC RIGIDO ROSCAVEL DN 100MM (4\"), INCL CONEXOES, FORNECIMENTO E INSTALACAO  - Alimentadores principais                            ",null,"m",12]
[null,null,{"$f":"C287","v":5},null,{"$f":"SUM(IF(LEFT($J287:$J$1082,C287)=J287,1))-1","v":0}]
["y",null,{"$f":"LEN(J289)","v":5},{"$f":"COUNTIF($J$18:$J$1076,J289)","v":1},{"$f":"IF(E290=0,1,E290)","v":1},{"$f":"IF(C289=2,\"\",LEFT(J289,C289-3))","v":"09"},null,null,"Cotação","09.58","Gerador cabinado completo capacidade 75KVA",null,"UNID",1]
[null,null,{"$f":"C289","v":5},null,{"$f":"SUM(IF(LEFT($J289:$J$1076,C289)=J289,1))-1","v":0}]
["y",null,{"$f":"LEN(J291)","v":5},{"$f":"COUNTIF($J$18:$J$1086,J291)","v":1},{"$f":"IF(E292=0,1,E292)","v":1},{"$f":"IF(C291=2,\"\",LEFT(J291,C291-3))","v":"09"},null,null,"Cotação","09.59","QDLT1 - Quadro com barramento trifásico 225A para 30 modulos ",null,"UNID",1]
[null,null,{"$f":"C291","v":5},null,{"$f":"SUM(IF(LEFT($J291:$J$1086,C291)=J291,1))-1","v":0}]
["y",null,{"$f":"LEN(J293)","v":5},{"$f":"COUNTIF($J$18:$J$1086,J293)","v":1},{"$f":"IF(E294=0,1,E294)","v":1},{"$f":"IF(C293=2,\"\",LEFT(J293,C293-3))","v":"09"},null,null,"Cotação","09.60","QDLT 02 - Quadro com barramento trifásico 225A para 30módulos ",null,"UNID",1]
[null,null,{"$f":"C293","v":5},null,{"$f":"SUM(IF(LEFT($J293:$J$1086,C293)=J293,1))-1","v":0}]
["y",null,{"$f":"LEN(J295)","v":5},{"$f":"COUNTIF($J$18:$J$1086,J295)","v":1},{"$f":"IF(E296=0,1,E296)","v":1},{"$f":"IF(C295=2,\"\",LEFT(J295,C295-3))","v":"09"},null,null,"Cotação","09.61","QF Bombas - Quadro com barramento trifásico 175A para 18 modulos",null,"UNID",1]
[null,null,{"$f":"C295","v":5},null,{"$f":"SUM(IF(LEFT($J295:$J$1086,C295)=J295,1))-1","v":0}]
["y",null,{"$f":"LEN(J297)","v":5},{"$f":"COUNTIF($J$18:$J$1086,J297)","v":1},{"$f":"IF(E298=0,1,E298)","v":1},{"$f":"IF(C297=2,\"\",LEFT(J297,C297-3))","v":"09"},null,null,"Cotação","09.62","QF Chuveiro elétrico - Quadro com barramento trifásico 300A, para 18 modulos ",null,"UNID",1]
[null,null,{"$f":"C297","v":5},null,{"$f":"SUM(IF(LEFT($J297:$J$1086,C297)=J297,1))-1","v":0}]
["y",null,{"$f":"LEN(J299)","v":5},{"$f":"COUNTIF($J$18:$J$1086,J299)","v":1},{"$f":"IF(E300=0,1,E300)","v":1},{"$f":"IF(C299=2,\"\",LEFT(J299,C299-3))","v":"09"},null,null,"Cotação","09.63","QGBT Principal - quadro com barramento trifásico 300A para 18 modulos",null,"UNID",1]
[null,null,{"$f":"C299","v":5},null,{"$f":"SUM(IF(LEFT($J299:$J$1086,C299)=J299,1))-1","v":0}]
["y",null,{"$f":"LEN(J301)","v":5},{"$f":"COUNTIF($J$18:$J$1086,J301)","v":1},{"$f":"IF(E302=0,1,E302)","v":1},{"$f":"IF(C301=2,\"\",LEFT(J301,C301-3))","v":"09"},null,null,"Cotação","09.64","QGBT 1 - Quadro com barramento trifasico 600A para 18 modulos",null,"UNID",1]
[null,null,{"$f":"C301","v":5},null,{"$f":"SUM(IF(LEFT($J301:$J$1086,C301)=J301,1))-1","v":0}]
["y",null,{"$f":"LEN(J303)","v":5},{"$f":"COUNTIF($J$18:$J$1086,J303)","v":1},{"$f":"IF(E304=0,1,E304)","v":1},{"$f":"IF(C303=2,\"\",LEFT(J303,C303-3))","v":"09"},null,null,"Cotação","09.65","Quadro TC - Caixa de embutir para transformador de corrente com porta lacre com fundo de madeira ",null,"UNID",1]
[null,null,{"$f":"C303","v":5},null,{"$f":"SUM(IF(LEFT($J303:$J$1086,C303)=J303,1))-1","v":0}]
["y",null,{"$f":"LEN(J305)","v":5},{"$f":"COUNTIF($J$18:$J$1086,J305)","v":1},{"$f":"IF(E306=0,1,E306)","v":1},{"$f":"IF(C305=2,\"\",LEFT(J305,C305-3))","v":"09"},null,null,"Cotação","09.66","Quadro de medição - caixa de medição polifásica com visor e acesso para disjuntor ",null,"UNID",1]
[null,null,{"$f":"C305","v":5},null,{"$f":"SUM(IF(LEFT($J305:$J$1086,C305)=J305,1))-1","v":0}]
["y",null,{"$f":"LEN(J307)","v":5},{"$f":"COUNTIF($J$18:$J$1086,J307)","v":1},{"$f":"IF(E308=0,1,E308)","v":1},{"$f":"IF(C307=2,\"\",LEFT(J307,C307-3))","v":"09"},null,null,"Cotação","09.67","Chave blindada - Chave blindada de 600A com punho de acionamento externo equipado com fusível de proteção",null,"UNID",1]
[null,null,{"$f":"C307","v":5},null,{"$f":"SUM(IF(LEFT($J307:$J$1086,C307)=J307,1))-1","v":0}]
["x",null,{"$f":"LEN(J309)","v":5},{"$f":"COUNTIF($J$18:$J$1076,J309)","v":1},{"$f":"IF(E310=0,1,E310)","v":1},{"$f":"IF(C309=2,\"\",LEFT(J309,C309-3))","v":"09"},null,null,"Cotação","09.68","Dispositivo diferencial residual",null,"UNID",1]
[null,null,{"$f":"C309","v":5},null,{"$f":"SUM(IF(LEFT($J309:$J$1076,C309)=J309,1))-1","v":0}]
["x",null,{"$f":"LEN(J311)","v":5},{"$f":"COUNTIF($J$18:$J$1076,J311)","v":1},{"$f":"IF(E314=0,1,E314)","v":1},{"$f":"IF(C311=2,\"\",LEFT(J311,C311-3))","v":"09"},null,null,"Cotação","09.69","Dispositivo protetor de surtos",null,"UNID",1]
[]
["y",null,{"$f":"LEN(J313)","v":5},{"$f":"COUNTIF($J$18:$J$1084,J313)","v":1},{"$f":"IF(E314=0,1,E314)","v":1},{"$f":"IF(C313=2,\"\",LEFT(J313,C313-3))","v":"09"},null,null,"Cotação","09.70","Luminária de sobrepor tipo calha chapa em aço pintura epoxi controle de ofuscamento, refletor em aluminio alto brilho classe a/500lux para 2 lampadas fluorescentes 28w",null,"UNID",83]
[null,null,{"$f":"C311","v":5},null,{"$f":"SUM(IF(LEFT($J311:$J$1076,C311)=J311,1))-1","v":0}]
[null,null,{"$f":"LEN(J315)","v":2},{"$f":"COUNTIF($J$18:$J$1082,J315)","v":1},{"$f":"IF(E316=0,1,E316)","v":6},{"$f":"IF(C315=2,\"\",LEFT(J315,C315-3))","v":""},null,null,null,"10","SONORIZAÇÃO",null,"",0]
[null,null,{"$f":"C315","v":2},null,{"$f":"SUM(IF(LEFT($J315:$J$1082,C315)=J315,1))-1","v":6},null,null,null,null,null,null,null,null,0]
[null,null,{"$f":"LEN(J317)","v":5},{"$f":"COUNTIF($J$18:$J$1082,J317)","v":1},{"$f":"IF(E318=0,1,E318)","v":1},{"$f":"IF(C317=2,\"\",LEFT(J317,C317-3))","v":"10"},null,null,72934,"10.01","ELETRODUTO DE PVC FLEXIVEL CORRUGADO DN 20MM (3/4\") FORNECIMENTO E INSTALACAO",null,"M",118]
[null,null,{"$f":"C317","v":5},null,{"$f":"SUM(IF(LEFT($J317:$J$1082,C317)=J317,1))-1","v":0},null,null,null,null,null,null,null,null,0]
["y",null,{"$f":"LEN(J319)","v":5},{"$f":"COUNTIF($J$18:$J$1082,J319)","v":1},{"$f":"IF(E320=0,1,E320)","v":1},{"$f":"IF(C319=2,\"\",LEFT(J319,C319-3))","v":"10"},null,null,"Cotação","10.02","CAIXA ACUSTICA PARA SISTEMA DE SOM AMBIENTE COM POTÊNCIA MUSICAL DE 68W E POTÊNCIA RMS DE 34Wrms",null,"UNID",12]
[null,null,{"$f":"C319","v":5},null,{"$f":"SUM(IF(LEFT($J319:$J$1082,C319)=J319,1))-1","v":0},null,null,null,null,null,null,null,null,0]
["y",null,{"$f":"LEN(J321)","v":5},{"$f":"COUNTIF($J$18:$J$1082,J321)","v":1},{"$f":"IF(E322=0,1,E322)","v":1},{"$f":"IF(C321=2,\"\",LEFT(J321,C321-3))","v":"10"},null,null,"Cotação","10.03","TRANSFORMADORES DE LINHA 70V (ACOPLADOS NAS CAIXAS ACÚSTICAS)",null,"UNID",12]
[null,null,{"$f":"C321","v":5},null,{"$f":"SUM(IF(LEFT($J321:$J$1082,C321)=J321,1))-1","v":0},null,null,null,null,null,null,null,null,0]
[null,null,{"$f":"LEN(J323)","v":5},{"$f":"COUNTIF($J$18:$J$1082,J323)","v":1},{"$f":"IF(E324=0,1,E324)","v":1},{"$f":"IF(C323=2,\"\",LEFT(J323,C323-3))","v":"10"},null,null,83386,"10.04","CAIXA DE PASSAGEM PVC 4X4\" - FORNECIMENTO E INSTALACAO",null,"UNID",12]
[null,null,{"$f":"C323","v":5},null,{"$f":"SUM(IF(LEFT($J323:$J$1082,C323)=J323,1))-1","v":0},null,null,null,null,null,null,null,null,0]
[null,null,{"$f":"LEN(J325)","v":5},{"$f":"COUNTIF($J$18:$J$1082,J325)","v":1},{"$f":"IF(E326=0,1,E326)","v":1},{"$f":"IF(C325=2,\"\",LEFT(J325,C325-3))","v":"10"},null,null,"73860/008","10.05","CABO DE COBRE ISOLADO PVC 450/750V 2,5MM2 RESISTENTE A CHAMA - FORNECIMENTO E INSTALACAO",null,"M",235]
[null,null,{"$f":"C325","v":5},null,{"$f":"SUM(IF(LEFT($J325:$J$1082,C325)=J325,1))-1","v":0},null,null,null,null,null,null,null,null,0]
["y",null,{"$f":"LEN(J327)","v":5},{"$f":"COUNTIF($J$18:$J$1082,J327)","v":1},{"$f":"IF(E328=0,1,E328)","v":1},{"$f":"IF(C327=2,\"\",LEFT(J327,C327-3))","v":"10"},null,null,"Cotação","10.06","AMPLIFICADOR DE SOM COM POTÊNCIA MUSICAL DE 120W E POTÊNCIA RMS DE 60Wrms",null,"UNID",1]
[null,null,{"$f":"C327","v":5},null,{"$f":"SUM(IF(LEFT($J327:$J$1082,C327)=J327,1))-1","v":0},null,null,null,null,null,null,null,null,0]
[null,null,{"$f":"LEN(J329)","v":2},{"$f":"COUNTIF($J$18:$J$1148,J329)","v":1},{"$f":"IF(E330=0,1,E330)","v":43},{"$f":"IF(C329=2,\"\",LEFT(J329,C329-3))","v":""},null,null,null,"11","REDE DE DADOS",null,"",0]
[null,null,{"$f":"C329","v":2},null,{"$f":"SUM(IF(LEFT($J329:$J$1148,C329)=J329,1))-1","v":43},null,null,null,null,null,null,null,null,0]
[null,null,{"$f":"LEN(J331)","v":5},{"$f":"COUNTIF($J$18:$J$1148,J331)","v":1},{"$f":"IF(E332=0,1,E332)","v":7},{"$f":"IF(C331=2,\"\",LEFT(J331,C331-3))","v":"11"},null,null,null,"11.01","Cabeamento - Acessórios Cabeamento - Metálico",null,null,0]
[null,null,{"$f":"C331","v":5},null,{"$f":"SUM(IF(LEFT($J331:$J$1148,C331)=J331,1))-1","v":7},null,null,null,null,null,null,null,null,0]
[null,null,{"$f":"LEN(J333)","v":8},{"$f":"COUNTIF($J$18:$J$1148,J333)","v":1},{"$f":"IF(E334=0,1,E334)","v":1},{"$f":"IF(C333=2,\"\",LEFT(J333,C333-3))","v":"11.01"},null,null,"Cotação","11.01.01","Bloco conexão 110 IDC - 100 pares",null,"UNID",6]
[null,null,{"$f":"C333","v":8},null,{"$f":"SUM(IF(LEFT($J333:$J$1148,C333)=J333,1))-1","v":0},null,null,null,null,null,null,null,null,0]
[null,null,{"$f":"LEN(J335)","v":8},{"$f":"COUNTIF($J$18:$J$1148,J335)","v":1},{"$f":"IF(E336=0,1,E336)","v":1},{"$f":"IF(C335=2,\"\",LEFT(J335,C335-3))","v":"11.01"},null,null,"Cotação","11.01.02","Conector RJ45 (CM8v)",null,"UNID",75]
[null,null,{"$f":"C335","v":8},null,{"$f":"SUM(IF(LEFT($J335:$J$1148,C335)=J335,1))-1","v":0},null,null,null,null,null,null,null,null,0]
[null,null,{"$f":"LEN(J337)","v":8},{"$f":"COUNTIF($J$18:$J$1148,J337)","v":1},{"$f":"IF(E338=0,1,E338)","v":1},{"$f":"IF(C337=2,\"\",LEFT(J337,C337-3))","v":"11.01"},null,null,"Cotação","11.01.03","PABX 50/300",null,"UNID",1]
[null,null,{"$f":"C337","v":8},null,{"$f":"SUM(IF(LEFT($J337:$J$1148,C337)=J337,1))-1","v":0},null,null,null,null,null,null,null,null,0]
[null,null,{"$f":"LEN(J339)","v":8},{"$f":"COUNTIF($J$18:$J$1148,J339)","v":1},{"$f":"IF(E340=0,1,E340)","v":1},{"$f":"IF(C339=2,\"\",LEFT(J339,C339-3))","v":"11.01"},null,null,"Cotação","11.01.04","Patch panel 24 posições",null,"UNID",3]
[null,null,{"$f":"C339","v":8},null,{"$f":"SUM(IF(LEFT($J339:$J$1148,C339)=J339,1))-1","v":0},null,null,null,null,null,null,null,null,0]
[null,null,{"$f":"LEN(J341)","v":8},{"$f":"COUNTIF($J$18:$J$1148,J341)","v":1},{"$f":"IF(E342=0,1,E342)","v":1},{"$f":"IF(C341=2,\"\",LEFT(J341,C341-3))","v":"11.01"},null,null,"Cotação","11.01.05","Plugue 110 IDC - 4 pares",null,"UNID",100]
[null,null,{"$f":"C341","v":8},null,{"$f":"SUM(IF(LEFT($J341:$J$1148,C341)=J341,1))-1","v":0},null,null,null,null,null,null,null,null,0]
["x",null,{"$f":"LEN(J343)","v":8},{"$f":"COUNTIF($J$18:$J$1148,J343)","v":1},{"$f":"IF(E344=0,1,E344)","v":1},{"$f":"IF(C343=2,\"\",LEFT(J343,C343-3))","v":"11.01"},null,null,"Cotação","11.01.06","Plugue RJ45 (CM8v)",null,"UNID",142]
[null,null,{"$f":"C343","v":8},null,{"$f":"SUM(IF(LEFT($J343:$J$1148,C343)=J343,1))-1","v":0},null,null,null,null,null,null,null,null,0]
[null,null,{"$f":"LEN(J345)","v":8},{"$f":"COUNTIF($J$18:$J$1148,J345)","v":1},{"$f":"IF(E346=0,1,E346)","v":1},{"$f":"IF(C345=2,\"\",LEFT(J345,C345-3))","v":"11.01"},null,null,"Cotação","11.01.07","Switch (10/100)BaseTX 24 portas",null,"UNID",2]
[null,null,{"$f":"C345","v":8},null,{"$f":"SUM(IF(LEFT($J345:$J$1148,C345)=J345,1))-1","v":0},null,null,null,null,null,null,null,null,0]
[null,null,{"$f":"LEN(J347)","v":5},{"$f":"COUNTIF($J$18:$J$1148,J347)","v":1},{"$f":"IF(E348=0,1,E348)","v":3},{"$f":"IF(C347=2,\"\",LEFT(J347,C347-3))","v":"11"},null,null,null,"11.02","Cabeamento - Acessórios Cabeamento - Rack",null,null,0]
[null,null,{"$f":"C347","v":5},null,{"$f":"SUM(IF(LEFT($J347:$J$1148,C347)=J347,1))-1","v":3},null,null,null,null,null,null,null,null,0]
[null,null,{"$f":"LEN(J349)","v":8},{"$f":"COUNTIF($J$18:$J$1146,J349)","v":1},{"$f":"IF(E350=0,1,E350)","v":1},{"$f":"IF(C349=2,\"\",LEFT(J349,C349-3))","v":"11.02"},null,null,"Cotação","11.02.01","Caixa padrão 19\" incluindo Guia de cabos vertical fechado e Perfil de montagem",null,"UNID",1]
[null,null,{"$f":"C349","v":8},null,{"$f":"SUM(IF(LEFT($J349:$J$1146,C349)=J349,1))-1","v":0},null,null,null,null,null,null,null,null,0]
[null,null,{"$f":"LEN(J351)","v":8},{"$f":"COUNTIF($J$18:$J$1148,J351)","v":1},{"$f":"IF(E352=0,1,E352)","v":1},{"$f":"IF(C351=2,\"\",LEFT(J351,C351-3))","v":"11.02"},null,null,"Cotação","11.02.02","Gabinete padrão 19\" completo incluindo Base soleira, Perfil de montagem,Placa acionamento ventiladores,Tampa inferior bipartida e Unidade de ventilação.",null,"UNID",2]
[null,null,{"$f":"C351","v":8},null,{"$f":"SUM(IF(LEFT($J351:$J$1148,C351)=J351,1))-1","v":0},null,null,null,null,null,null,null,null,0]
[null,null,{"$f":"LEN(J353)","v":8},{"$f":"COUNTIF($J$18:$J$1148,J353)","v":1},{"$f":"IF(E354=0,1,E354)","v":1},{"$f":"IF(C353=2,\"\",LEFT(J353,C353-3))","v":"11.02"},null,null,"Cotação","11.02.03","Rack Aberto 19\" completo incluindo Anel organizador de cabos, Bandeja deslizante perfurada, Guia de cabos simples e Kit pés niveladores",null,"UNID",1]
[null,null,{"$f":"C353","v":8},null,{"$f":"SUM(IF(LEFT($J353:$J$1148,C353)=J353,1))-1","v":0},null,null,null,null,null,null,null,null,0]
[null,null,{"$f":"LEN(J355)","v":5},{"$f":"COUNTIF($J$18:$J$1148,J355)","v":1},{"$f":"IF(E356=0,1,E356)","v":1},{"$f":"IF(C355=2,\"\",LEFT(J355,C355-3))","v":"11"},null,null,null,"11.03","Cabeamento - Acessórios p/ eletrodutos",null,null,0]
[null,null,{"$f":"C355","v":5},null,{"$f":"SUM(IF(LEFT($J355:$J$1148,C355)=J355,1))-1","v":1},null,null,null,null,null,null,null,null,0]
[null,null,{"$f":"LEN(J357)","v":8},{"$f":"COUNTIF($J$18:$J$1148,J357)","v":1},{"$f":"IF(E358=0,1,E358)","v":1},{"$f":"IF(C357=2,\"\",LEFT(J357,C357-3))","v":"11.03"},null,null,83387,"11.03.01","CAIXA DE PASSAGEM PVC 4X2\" - FORNECIMENTO E INSTALACAO",null,"UNID",38]
[null,null,{"$f":"C357","v":8},null,{"$f":"SUM(IF(LEFT($J357:$J$1148,C357)=J357,1))-1","v":0},null,null,null,null,null,null,null,null,0]
[null,null,{"$f":"LEN(J359)","v":5},{"$f":"COUNTIF($J$18:$J$1148,J359)","v":1},{"$f":"IF(E360=0,1,E360)","v":3},{"$f":"IF(C359=2,\"\",LEFT(J359,C359-3))","v":"11"},null,null,null,"11.04","Cabeamento - Cabeamento estruturado - metálico",null,null,0]
[null,null,{"$f":"C359","v":5},null,{"$f":"SUM(IF(LEFT($J359:$J$1148,C359)=J359,1))-1","v":3},null,null,null,null,null,null,null,null,0]
[null,null,{"$f":"LEN(J361)","v":8},{"$f":"COUNTIF($J$18:$J$1148,J361)","v":1},{"$f":"IF(E362=0,1,E362)","v":1},{"$f":"IF(C361=2,\"\",LEFT(J361,C361-3))","v":"11.04"},null,null,"Cotação","11.04.01","Cabp UTP-6 (24AWG)-4",null,"M",2252.6999999999998]
[null,null,{"$f":"C361","v":8},null,{"$f":"SUM(IF(LEFT($J361:$J$1148,C361)=J361,1))-1","v":0},null,null,null,null,null,null,null,null,0]
[null,null,{"$f":"LEN(J363)","v":8},{"$f":"COUNTIF($J$18:$J$1148,J363)","v":1},{"$f":"IF(E364=0,1,E364)","v":1},{"$f":"IF(C363=2,\"\",LEFT(J363,C363-3))","v":"11.04"},null,null,"Cotação","11.04.02","UTP-5e (24AWG) 4 pares",null,"M",363]
[null,null,{"$f":"C363","v":8},null,{"$f":"SUM(IF(LEFT($J363:$J$1148,C363)=J363,1))-1","v":0},null,null,null,null,null,null,null,null,0]
[null,null,{"$f":"LEN(J365)","v":8},{"$f":"COUNTIF($J$18:$J$1148,J365)","v":1},{"$f":"IF(E366=0,1,E366)","v":1},{"$f":"IF(C365=2,\"\",LEFT(J365,C365-3))","v":"11.04"},null,null,"Cotação","11.04.03","Caixa de passagem - embutirAço pintada (ref Brum) 400x400x150 mm",null,"UNID",9]
[null,null,{"$f":"C365","v":8},null,{"$f":"SUM(IF(LEFT($J365:$J$1148,C365)=J365,1))-1","v":0},null,null,null,null,null,null,null,null,0]
[null,null,{"$f":"LEN(J367)","v":5},{"$f":"COUNTIF($J$18:$J$1148,J367)","v":1},{"$f":"IF(E368=0,1,E368)","v":2},{"$f":"IF(C367=2,\"\",LEFT(J367,C367-3))","v":"11"},null,null,null,"11.05","Cabeamento - Dispositivo de Cabeamento - embutir",null,null,0]
[null,null,{"$f":"C367","v":5},null,{"$f":"SUM(IF(LEFT($J367:$J$1148,C367)=J367,1))-1","v":2},null,null,null,null,null,null,null,null,0]
[null,null,{"$f":"LEN(J369)","v":8},{"$f":"COUNTIF($J$18:$J$1148,J369)","v":1},{"$f":"IF(E370=0,1,E370)","v":1},{"$f":"IF(C369=2,\"\",LEFT(J369,C369-3))","v":"11.05"},null,null,"Cotação","11.05.01","Placa 2x4\" - Branca 1 módulo - RJ45",null,"UNID",1]
[null,null,{"$f":"C369","v":8},null,{"$f":"SUM(IF(LEFT($J369:$J$1148,C369)=J369,1))-1","v":0},null,null,null,null,null,null,null,null,0]
[null,null,{"$f":"LEN(J371)","v":8},{"$f":"COUNTIF($J$18:$J$1148,J371)","v":1},{"$f":"IF(E372=0,1,E372)","v":1},{"$f":"IF(C371=2,\"\",LEFT(J371,C371-3))","v":"11.05"},null,null,"Cotação","11.05.02","Placa 2x4\" - Branca 2 módulos - RJ45",null,"UNID",37]
[null,null,{"$f":"C371","v":8},null,{"$f":"SUM(IF(LEFT($J371:$J$1148,C371)=J371,1))-1","v":0},null,null,null,null,null,null,null,null,0]
[null,null,{"$f":"LEN(J373)","v":5},{"$f":"COUNTIF($J$18:$J$1148,J373)","v":1},{"$f":"IF(E374=0,1,E374)","v":5},{"$f":"IF(C373=2,\"\",LEFT(J373,C373-3))","v":"11"},null,null,null,"11.06","Cabeamento - Eletroduto PVC rosca",null,null,0]
[null,null,{"$f":"C373","v":5},null,{"$f":"SUM(IF(LEFT($J373:$J$1148,C373)=J373,1))-1","v":5},null,null,null,null,null,null,null,null,0]
[null,null,{"$f":"LEN(J375)","v":8},{"$f":"COUNTIF($J$18:$J$1148,J375)","v":1},{"$f":"IF(E376=0,1,E376)","v":1},{"$f":"IF(C375=2,\"\",LEFT(J375,C375-3))","v":"11.06"},null,null,"74252/001","11.06.01","ELETRODUTO DE PVC RIGIDO ROSCAVEL DN 25MM (1\") INCL CONEXOES, FORNECIMENTO E INSTALACAO",null,"M",111.4]
[null,null,{"$f":"C375","v":8},null,{"$f":"SUM(IF(LEFT($J375:$J$1148,C375)=J375,1))-1","v":0},null,null,null,null,null,null,null,null,0]
[null,null,{"$f":"LEN(J377)","v":8},{"$f":"COUNTIF($J$18:$J$1148,J377)","v":1},{"$f":"IF(E378=0,1,E378)","v":1},{"$f":"IF(C377=2,\"\",LEFT(J377,C377-3))","v":"11.06"},null,null,55865,"11.06.02","ELETRODUTO DE PVC RIGIDO ROSCAVEL DN 40MM (1 1/2\") INCL CONEXOES, FORNECIMENTO E INSTALACAO",null,"M",33]
[null,null,{"$f":"C377","v":8},null,{"$f":"SUM(IF(LEFT($J377:$J$1148,C377)=J377,1))-1","v":0},null,null,null,null,null,null,null,null,0]
[null,null,{"$f":"LEN(J379)","v":8},{"$f":"COUNTIF($J$18:$J$1148,J379)","v":1},{"$f":"IF(E380=0,1,E380)","v":1},{"$f":"IF(C379=2,\"\",LEFT(J379,C379-3))","v":"11.06"},null,null,83407,"11.06.03","ELETRODUTO DE PVC RIGIDO ROSCAVEL DN 32MM (1 1/4\") INCL CONEXOES, FORNECIMENTO E INSTALACAO",null,"M",38.4]
[null,null,{"$f":"C379","v":8},null,{"$f":"SUM(IF(LEFT($J379:$J$1148,C379)=J379,1))-1","v":0},null,null,null,null,null,null,null,null,0]
[null,null,{"$f":"LEN(J381)","v":8},{"$f":"COUNTIF($J$18:$J$1148,J381)","v":1},{"$f":"IF(E382=0,1,E382)","v":1},{"$f":"IF(C381=2,\"\",LEFT(J381,C381-3))","v":"11.06"},null,null,55866,"11.06.04","ELETRODUTO DE PVC RIGIDO ROSCAVEL DN 50MM (2\"), INCL CONEXOES, FORNECIMENTO E INSTALACAO",null,"M",21.2]
[null,null,{"$f":"C381","v":8},null,{"$f":"SUM(IF(LEFT($J381:$J$1148,C381)=J381,1))-1","v":0},null,null,null,null,null,null,null,null,0]
[null,null,{"$f":"LEN(J383)","v":8},{"$f":"COUNTIF($J$18:$J$1148,J383)","v":1},{"$f":"IF(E384=0,1,E384)","v":1},{"$f":"IF(C383=2,\"\",LEFT(J383,C383-3))","v":"11.06"},null,null,73613,"11.06.05","ELETRODUTO DE PVC RIGIDO ROSCAVEL DN 20MM (3/4\") INCL CONEXOES, FORNECIMENTO E INSTALACAO",null,"M",100.4]
[null,null,{"$f":"C383","v":8},null,{"$f":"SUM(IF(LEFT($J383:$J$1148,C383)=J383,1))-1","v":0},null,null,null,null,null,null,null,null,0]
[null,null,{"$f":"LEN(J385)","v":5},{"$f":"COUNTIF($J$18:$J$1148,J385)","v":1},{"$f":"IF(E386=0,1,E386)","v":1},{"$f":"IF(C385=2,\"\",LEFT(J385,C385-3))","v":"11"},null,null,null,"11.07","TV Cabo - Acessórios p/ eletrodutos",null,null,0]
[null,null,{"$f":"C385","v":5},null,{"$f":"SUM(IF(LEFT($J385:$J$1148,C385)=J385,1))-1","v":1},null,null,null,null,null,null,null,null,0]
[null,null,{"$f":"LEN(J387)","v":8},{"$f":"COUNTIF($J$18:$J$1148,J387)","v":1},{"$f":"IF(E388=0,1,E388)","v":1},{"$f":"IF(C387=2,\"\",LEFT(J387,C387-3))","v":"11.07"},null,null,83387,"11.07.01","CAIXA DE PASSAGEM PVC 4X2\" - FORNECIMENTO E INSTALACAO",null,"UNID",5]
[null,null,{"$f":"C387","v":8},null,{"$f":"SUM(IF(LEFT($J387:$J$1148,C387)=J387,1))-1","v":0},null,null,null,null,null,null,null,null,0]
[null,null,{"$f":"LEN(J389)","v":5},{"$f":"COUNTIF($J$18:$J$1148,J389)","v":1},{"$f":"IF(E390=0,1,E390)","v":1},{"$f":"IF(C389=2,\"\",LEFT(J389,C389-3))","v":"11"},null,null,null,"11.08","TV Cabo - Dispositivo Lógica - embutir",null,null,0]
[null,null,{"$f":"C389","v":5},null,{"$f":"SUM(IF(LEFT($J389:$J$1148,C389)=J389,1))-1","v":1},null,null,null,null,null,null,null,null,0]
[null,null,{"$f":"LEN(J391)","v":8},{"$f":"COUNTIF($J$18:$J$1148,J391)","v":1},{"$f":"IF(E392=0,1,E392)","v":1},{"$f":"IF(C391=2,\"\",LEFT(J391,C391-3))","v":"11.08"},null,null,83386,"11.08.01","Placa redonda 3x3\" Tomada retangular RJ45",null,"UNID",5]
[null,null,{"$f":"C391","v":8},null,{"$f":"SUM(IF(LEFT($J391:$J$1148,C391)=J391,1))-1","v":0},null,null,null,null,null,null,null,null,0]
[null,null,{"$f":"LEN(J393)","v":5},{"$f":"COUNTIF($J$18:$J$1148,J393)","v":1},{"$f":"IF(E394=0,1,E394)","v":1},{"$f":"IF(C393=2,\"\",LEFT(J393,C393-3))","v":"11"},null,null,null,"11.09","TV Cabo - Dispositivo TV/Som",null,null,0]
[null,null,{"$f":"C393","v":5},null,{"$f":"SUM(IF(LEFT($J393:$J$1148,C393)=J393,1))-1","v":1},null,null,null,null,null,null,null,null,0]
[null,null,{"$f":"LEN(J395)","v":8},{"$f":"COUNTIF($J$18:$J$1148,J395)","v":1},{"$f":"IF(E396=0,1,E396)","v":1},{"$f":"IF(C395=2,\"\",LEFT(J395,C395-3))","v":"11.09"},null,null,72335,"11.09.01","Placa 2x4 tomada TV 9,5 mm",null,"UNID",5]
[null,null,{"$f":"C395","v":8},null,{"$f":"SUM(IF(LEFT($J395:$J$1148,C395)=J395,1))-1","v":0},null,null,null,null,null,null,null,null,0]
[null,null,{"$f":"LEN(J397)","v":5},{"$f":"COUNTIF($J$18:$J$1148,J397)","v":1},{"$f":"IF(E398=0,1,E398)","v":5},{"$f":"IF(C397=2,\"\",LEFT(J397,C397-3))","v":"11"},null,null,null,"11.10","TV Cabo - Eletroduto PVC flexível",null,null,0]
[null,null,{"$f":"C397","v":5},null,{"$f":"SUM(IF(LEFT($J397:$J$1148,C397)=J397,1))-1","v":5},null,null,null,null,null,null,null,null,0]
[null,null,{"$f":"LEN(J399)","v":8},{"$f":"COUNTIF($J$18:$J$1148,J399)","v":1},{"$f":"IF(E400=0,1,E400)","v":1},{"$f":"IF(C399=2,\"\",LEFT(J399,C399-3))","v":"11.10"},null,null,72934,"11.10.01","ELETRODUTO DE PVC FLEXIVEL CORRUGADO DN 20MM (3/4\") FORNECIMENTO E INSTALACAO",null,"M",64]
[null,null,{"$f":"C399","v":8},null,{"$f":"SUM(IF(LEFT($J399:$J$1148,C399)=J399,1))-1","v":0},null,null,null,null,null,null,null,null,0]
[null,null,{"$f":"LEN(J401)","v":8},{"$f":"COUNTIF($J$18:$J$1146,J401)","v":1},{"$f":"IF(E402=0,1,E402)","v":1},{"$f":"IF(C401=2,\"\",LEFT(J401,C401-3))","v":"11.10"},null,null,83447,"11.10.02","Caixa de passagem de concreto 40 x 40 x 40 cm ",null,"Und",8]
[null,null,{"$f":"C401","v":8},null,{"$f":"SUM(IF(LEFT($J401:$J$1146,C401)=J401,1))-1","v":0}]
[null,null,{"$f":"LEN(J403)","v":8},{"$f":"COUNTIF($J$18:$J$1154,J403)","v":1},{"$f":"IF(E404=0,1,E404)","v":1},{"$f":"IF(C403=2,\"\",LEFT(J403,C403-3))","v":"11.10"},null,null,"Cotação","11.10.03","Caixa para antena 60x60x12 cm ",null,"Und",1]
[null,null,{"$f":"C403","v":8},null,{"$f":"SUM(IF(LEFT($J403:$J$1154,C403)=J403,1))-1","v":0}]
[null,null,{"$f":"LEN(J405)","v":8},{"$f":"COUNTIF($J$18:$J$1140,J405)","v":1},{"$f":"IF(E406=0,1,E406)","v":1},{"$f":"IF(C405=2,\"\",LEFT(J405,C405-3))","v":"11.10"},null,null,55866,"11.10.04","ELETRODUTO DE PVC RIGIDO ROSCAVEL DN 50MM (2\"), INCL CONEXOES, FORNECIMENTO E INSTALACAO",null,"M",81.760000000000005]
[null,null,{"$f":"C405","v":8},null,{"$f":"SUM(IF(LEFT($J405:$J$1140,C405)=J405,1))-1","v":0}]
[null,null,{"$f":"LEN(J407)","v":8},{"$f":"COUNTIF($J$18:$J$1154,J407)","v":1},{"$f":"IF(E408=0,1,E408)","v":1},{"$f":"IF(C407=2,\"\",LEFT(J407,C407-3))","v":"11.10"},null,null,"Cotação","11.10.05","Cabeamento para antena (cabos coaxiais de 75)",null,"M",180]
[null,null,{"$f":"C407","v":8},null,{"$f":"SUM(IF(LEFT($J407:$J$1146,C407)=J407,1))-1","v":0}]
[null,null,{"$f":"LEN(J409)","v":5},{"$f":"COUNTIF($J$18:$J$1058,J409)","v":1},{"$f":"IF(E410=0,1,E410)","v":3},{"$f":"IF(C409=2,\"\",LEFT(J409,C409-3))","v":"11"},null,null,null,"11.11","TV Cabo - Eletroduto PVC flexível",null,null,0]
[null,null,{"$f":"C409","v":5},null,{"$f":"SUM(IF(LEFT($J409:$J$1058,C409)=J409,1))-1","v":3},null,null,null,null,null,null,null,null,0]
["y",null,{"$f":"LEN(J411)","v":8},{"$f":"COUNTIF($J$18:$J$1092,J411)","v":1},{"$f":"IF(E412=0,1,E412)","v":1},{"$f":"IF(C411=2,\"\",LEFT(J411,C411-3))","v":"11.11"},null,null,"Cotação","11.11.01","CAXA DE INSPEÇÃO PARA ATERRAMENTO EM PVC",null,"UNID",1]
[null,null,{"$f":"C411","v":8},null,{"$f":"SUM(IF(LEFT($J411:$J$1092,C411)=J411,1))-1","v":0},null,null,null,null,null,null,null,null,0]
[null,null,{"$f":"LEN(J413)","v":8},{"$f":"COUNTIF($J$18:$J$1094,J413)","v":1},{"$f":"IF(E414=0,1,E414)","v":1},{"$f":"IF(C413=2,\"\",LEFT(J413,C413-3))","v":"11.11"},null,null,68069,"11.11.02","HASTE COPPERWELD 5/8 X 3,0M COM CONECTOR",null,"UNID",1]
[null,null,{"$f":"C413","v":8},null,{"$f":"SUM(IF(LEFT($J413:$J$1094,C413)=J413,1))-1","v":0},null,null,null,null,null,null,null,null,0]
[null,null,{"$f":"LEN(J415)","v":8},{"$f":"COUNTIF($J$18:$J$1094,J415)","v":1},{"$f":"IF(E416=0,1,E416)","v":1},{"$f":"IF(C415=2,\"\",LEFT(J415,C415-3))","v":"11.11"},null,null,72927,"11.11.03","CORDOALHA DE COBRE NU, INCLUSIVE ISOLADORES - 16,00 MM2 - FORNECIMENTO E INSTALACAO                                                                         ",null,"M",4]
[null,null,{"$f":"C415","v":8},null,{"$f":"SUM(IF(LEFT($J415:$J$1094,C415)=J415,1))-1","v":0},null,null,null,null,null,null,null,null,0]
[null,null,{"$f":"LEN(J417)","v":2},{"$f":"COUNTIF($J$18:$J$1082,J417)","v":1},{"$f":"IF(E418=0,1,E418)","v":14},{"$f":"IF(C417=2,\"\",LEFT(J417,C417-3))","v":""},null,null,null,"12","SPDA",null,"",0]
[null,null,{"$f":"C417","v":2},null,{"$f":"SUM(IF(LEFT($J417:$J$1082,C417)=J417,1))-1","v":14},null,null,null,null,null,null,null,null,0]
[null,null,{"$f":"LEN(J419)","v":5},{"$f":"COUNTIF($J$18:$J$1082,J419)","v":1},{"$f":"IF(E420=0,1,E420)","v":1},{"$f":"IF(C419=2,\"\",LEFT(J419,C419-3))","v":"12"},null,null,72929,"12.01","CORDOALHA DE COBRE NU, INCLUSIVE ISOLADORES - 35,00 MM2 - FORNECIMENTO E INSTALACAO                                                                         ",null,"M",590]
[null,null,{"$f":"C419","v":5},null,{"$f":"SUM(IF(LEFT($J419:$J$1082,C419)=J419,1))-1","v":0},null,null,null,null,null,null,null,null,0]
[null,null,{"$f":"LEN(J421)","v":5},{"$f":"COUNTIF($J$18:$J$1082,J421)","v":1},{"$f":"IF(E422=0,1,E422)","v":1},{"$f":"IF(C421=2,\"\",LEFT(J421,C421-3))","v":"12"},null,null,72930,"12.02","CORDOALHA DE COBRE NU, INCLUSIVE ISOLADORES - 50,00 MM2 - FORNECIMENTO E INSTALACAO                                                                            ",null,"M",300]
[null,null,{"$f":"C421","v":5},null,{"$f":"SUM(IF(LEFT($J421:$J$1082,C421)=J421,1))-1","v":0},null,null,null,null,null,null,null,null,0]
[null,null,{"$f":"LEN(J423)","v":5},{"$f":"COUNTIF($J$18:$J$1092,J423)","v":1},{"$f":"IF(E424=0,1,E424)","v":1},{"$f":"IF(C423=2,\"\",LEFT(J423,C423-3))","v":"12"},null,null,"Cotação","12.03","FERRO ADICIONAL AÇO CA 25 ∅ 3/8\"",null,"M",68]
[null,null,{"$f":"C423","v":5},null,{"$f":"SUM(IF(LEFT($J423:$J$1092,C423)=J423,1))-1","v":0},null,null,null,null,null,null,null,null,0]
["y",null,{"$f":"LEN(J425)","v":5},{"$f":"COUNTIF($J$18:$J$1092,J425)","v":1},{"$f":"IF(E426=0,1,E426)","v":1},{"$f":"IF(C425=2,\"\",LEFT(J425,C425-3))","v":"12"},null,null,"Cotação","12.04","CAIXA DE EQUALIZAÇÃO DE POTENCIAL 20x20x10 PARA SPDA",null,"UNID",1]
[null,null,{"$f":"C425","v":5},null,{"$f":"SUM(IF(LEFT($J425:$J$1092,C425)=J425,1))-1","v":0},null,null,null,null,null,null,null,null,0]
["y",null,{"$f":"LEN(J427)","v":5},{"$f":"COUNTIF($J$18:$J$1092,J427)","v":1},{"$f":"IF(E428=0,1,E428)","v":1},{"$f":"IF(C427=2,\"\",LEFT(J427,C427-3))","v":"12"},null,null,"Cotação","12.05","CAXA DE INSPEÇÃO PARA ATERRAMENTO EM PVC",null,"UNID",17]
[null,null,{"$f":"C427","v":5},null,{"$f":"SUM(IF(LEFT($J427:$J$1092,C427)=J427,1))-1","v":0},null,null,null,null,null,null,null,null,0]
[null,null,{"$f":"LEN(J429)","v":5},{"$f":"COUNTIF($J$18:$J$1082,J429)","v":1},{"$f":"IF(E430=0,1,E430)","v":1},{"$f":"IF(C429=2,\"\",LEFT(J429,C429-3))","v":"12"},null,null,68069,"12.06","HASTE COPPERWELD 5/8 X 3,0M COM CONECTOR",null,"UNID",17]
[null,null,{"$f":"C429","v":5},null,{"$f":"SUM(IF(LEFT($J429:$J$1082,C429)=J429,1))-1","v":0},null,null,null,null,null,null,null,null,0]
[null,null,{"$f":"LEN(J431)","v":5},{"$f":"COUNTIF($J$18:$J$1082,J431)","v":1},{"$f":"IF(E432=0,1,E432)","v":1},{"$f":"IF(C431=2,\"\",LEFT(J431,C431-3))","v":"12"},null,null,72262,"12.07","TERMINAL OU CONECTOR DE PRESSAO - PARA CABO 35MM2 - FORNECIMENTO E INSTALACAO",null,"UNID",110]
[null,null,{"$f":"C431","v":5},null,{"$f":"SUM(IF(LEFT($J431:$J$1082,C431)=J431,1))-1","v":0},null,null,null,null,null,null,null,null,0]
[null,null,{"$f":"LEN(J433)","v":5},{"$f":"COUNTIF($J$18:$J$1082,J433)","v":1},{"$f":"IF(E434=0,1,E434)","v":1},{"$f":"IF(C433=2,\"\",LEFT(J433,C433-3))","v":"12"},null,null,72262,"12.08","CONECTOR DE PRESSÃO PARA AÇO CA-25",null,"UNID",34]
[null,null,{"$f":"C433","v":5},null,{"$f":"SUM(IF(LEFT($J433:$J$1082,C433)=J433,1))-1","v":0},null,null,null,null,null,null,null,null,0]
[null,null,{"$f":"LEN(J435)","v":5},{"$f":"COUNTIF($J$18:$J$1082,J435)","v":1},{"$f":"IF(E436=0,1,E436)","v":1},{"$f":"IF(C435=2,\"\",LEFT(J435,C435-3))","v":"12"},null,null,72262,"12.09","PRESILHAS PARA FIXAÇÃO DE CABOS NAS TELHAS",null,"UNID",700]
[null,null,{"$f":"C435","v":5},null,{"$f":"SUM(IF(LEFT($J435:$J$1082,C435)=J435,1))-1","v":0},null,null,null,null,null,null,null,null,0]
[null,null,{"$f":"LEN(J437)","v":5},{"$f":"COUNTIF($J$18:$J$1082,J437)","v":1},{"$f":"IF(E438=0,1,E438)","v":1},{"$f":"IF(C437=2,\"\",LEFT(J437,C437-3))","v":"12"},null,null,73543,"12.10","ARRUELA DE BORRACHA PARA PRESILHAS",null,"UNID",700]
[null,null,{"$f":"C437","v":5},null,{"$f":"SUM(IF(LEFT($J437:$J$1082,C437)=J437,1))-1","v":0},null,null,null,null,null,null,null,null,0]
["y",null,{"$f":"LEN(J439)","v":5},{"$f":"COUNTIF($J$18:$J$1092,J439)","v":1},{"$f":"IF(E440=0,1,E440)","v":1},{"$f":"IF(C439=2,\"\",LEFT(J439,C439-3))","v":"12"},null,null,"Cotação","12.11","SILICONE PARA MELHORAR VEDAÇÃO DAS PRESILHAS DOS CABOS NA TELHA DE COBRETURA",null,"LITRO",2]
[null,null,{"$f":"C439","v":5},null,{"$f":"SUM(IF(LEFT($J439:$J$1092,C439)=J439,1))-1","v":0},null,null,null,null,null,null,null,null,0]
["y",null,{"$f":"LEN(J441)","v":5},{"$f":"COUNTIF($J$18:$J$1092,J441)","v":1},{"$f":"IF(E442=0,1,E442)","v":1},{"$f":"IF(C441=2,\"\",LEFT(J441,C441-3))","v":"12"},null,null,"Cotação","12.12","REBITE POP ∅ 3/16\"x30mm",null,"UNID",575]
[null,null,{"$f":"C441","v":5},null,{"$f":"SUM(IF(LEFT($J441:$J$1092,C441)=J441,1))-1","v":0},null,null,null,null,null,null,null,null,0]
["y",null,{"$f":"LEN(J443)","v":5},{"$f":"COUNTIF($J$18:$J$1092,J443)","v":1},{"$f":"IF(E444=0,1,E444)","v":1},{"$f":"IF(C443=2,\"\",LEFT(J443,C443-3))","v":"12"},null,null,"Cotação","12.13","TAMPA GALVANIZADA PARA CAIXA DE PVC REDONDA",null,"UNID",17]
[null,null,{"$f":"C443","v":5},null,{"$f":"SUM(IF(LEFT($J443:$J$1092,C443)=J443,1))-1","v":0},null,null,null,null,null,null,null,null,0]
[null,null,{"$f":"LEN(J445)","v":5},{"$f":"COUNTIF($J$18:$J$1082,J445)","v":1},{"$f":"IF(E446=0,1,E446)","v":1},{"$f":"IF(C445=2,\"\",LEFT(J445,C445-3))","v":"12"},null,null,72262,"12.14","TERMINAL COMPRESSÃO 35 mm²",null,"UNID",17]
[null,null,{"$f":"C445","v":5},null,{"$f":"SUM(IF(LEFT($J445:$J$1082,C445)=J445,1))-1","v":0},null,null,null,null,null,null,null,null,0]
[null,null,{"$f":"LEN(J447)","v":2},{"$f":"COUNTIF($J$18:$J$1082,J447)","v":1},{"$f":"IF(E448=0,1,E448)","v":10},{"$f":"IF(C447=2,\"\",LEFT(J447,C447-3))","v":""},null,null,null,"13","DETECÇÃO DE FUMAÇA",null,"",0]
[null,null,{"$f":"C447","v":2},null,{"$f":"SUM(IF(LEFT($J447:$J$1082,C447)=J447,1))-1","v":10},null,null,null,null,null,null,null,null,0]
[null,null,{"$f":"LEN(J449)","v":5},{"$f":"COUNTIF($J$18:$J$1082,J449)","v":1},{"$f":"IF(E450=0,1,E450)","v":1},{"$f":"IF(C449=2,\"\",LEFT(J449,C449-3))","v":"13"},null,null,73613,"13.01","ELETRODUTO DE PVC RIGIDO ROSCAVEL DN 20MM (3/4\") INCL CONEXOES, FORNECIMENTO E INSTALACAO",null,"M",310]
[null,null,{"$f":"C449","v":5},null,{"$f":"SUM(IF(LEFT($J449:$J$1082,C449)=J449,1))-1","v":0},null,null,null,null,null,null,null,null,0]
[null,null,{"$f":"LEN(J451)","v":5},{"$f":"COUNTIF($J$18:$J$1082,J451)","v":1},{"$f":"IF(E452=0,1,E452)","v":1},{"$f":"IF(C451=2,\"\",LEFT(J451,C451-3))","v":"13"},null,null,"Cotação","13.02","DETCTOR DE FUMAÇA OPTICO ENDEREÇAVEL",null,"UNID",66]
[null,null,{"$f":"C451","v":5},null,{"$f":"SUM(IF(LEFT($J451:$J$1082,C451)=J451,1))-1","v":0},null,null,null,null,null,null,null,null,0]
[null,null,{"$f":"LEN(J453)","v":5},{"$f":"COUNTIF($J$18:$J$1082,J453)","v":1},{"$f":"IF(E454=0,1,E454)","v":1},{"$f":"IF(C453=2,\"\",LEFT(J453,C453-3))","v":"13"},null,null,"Cotação","13.03","ACIONADOR MANUAL DO SISTEMA DE ALARME (BOTOEIRA TIPO QUEBRA VIDRO) COM ENDEREÇAMENTO DIGITAL",null,"UNID",3]
[null,null,{"$f":"C453","v":5},null,{"$f":"SUM(IF(LEFT($J453:$J$1082,C453)=J453,1))-1","v":0},null,null,null,null,null,null,null,null,0]
[null,null,{"$f":"LEN(J455)","v":5},{"$f":"COUNTIF($J$18:$J$1082,J455)","v":1},{"$f":"IF(E456=0,1,E456)","v":1},{"$f":"IF(C455=2,\"\",LEFT(J455,C455-3))","v":"13"},null,null,"Cotação","13.04","CENTRAL DE ALARME DE INCÊNDIO ENDEREÇAVEL COM 125 ENDEREÇOS POR LAÇO",null,"UNID",1]
[null,null,{"$f":"C455","v":5},null,{"$f":"SUM(IF(LEFT($J455:$J$1082,C455)=J455,1))-1","v":0},null,null,null,null,null,null,null,null,0]
[null,null,{"$f":"LEN(J457)","v":5},{"$f":"COUNTIF($J$18:$J$1082,J457)","v":1},{"$f":"IF(E458=0,1,E458)","v":1},{"$f":"IF(C457=2,\"\",LEFT(J457,C457-3))","v":"13"},null,null,"Cotação","13.05","AVISADOR SONORO TIPO SIRENE PARA ALARME DE INCÊNDIO",null,"UNID",3]
[null,null,{"$f":"C457","v":5},null,{"$f":"SUM(IF(LEFT($J457:$J$1082,C457)=J457,1))-1","v":0},null,null,null,null,null,null,null,null,0]
[null,null,{"$f":"LEN(J459)","v":5},{"$f":"COUNTIF($J$18:$J$1076,J459)","v":1},{"$f":"IF(E460=0,1,E460)","v":1},{"$f":"IF(C459=2,\"\",LEFT(J459,C459-3))","v":"13"},null,null,"Cotação","13.06","AVISADOR LUMINOSO EM LED PARA ALARME DE INCÊNDIO",null,"UNID",3]
[null,null,{"$f":"C459","v":5},null,{"$f":"SUM(IF(LEFT($J459:$J$1076,C459)=J459,1))-1","v":0},null,null,null,null,null,null,null,null,0]
[null,null,{"$f":"LEN(J461)","v":5},{"$f":"COUNTIF($J$18:$J$1082,J461)","v":1},{"$f":"IF(E462=0,1,E462)","v":1},{"$f":"IF(C461=2,\"\",LEFT(J461,C461-3))","v":"13"},null,null,"Cotação","13.07","BATERIA 24V DE ALIMENTAÇÃO DO SISTEMA DE ALARME.",null,"UNID",1]
[null,null,{"$f":"C461","v":5},null,{"$f":"SUM(IF(LEFT($J461:$J$1082,C461)=J461,1))-1","v":0},null,null,null,null,null,null,null,null,0]
[null,null,{"$f":"LEN(J463)","v":5},{"$f":"COUNTIF($J$18:$J$1082,J463)","v":1},{"$f":"IF(E464=0,1,E464)","v":1},{"$f":"IF(C463=2,\"\",LEFT(J463,C463-3))","v":"13"},null,null,83386,"13.08","CAIXA DE PASSAGEM PVC 4X4\" - FORNECIMENTO E INSTALACAO",null,"UNID",66]
[null,null,{"$f":"C463","v":5},null,{"$f":"SUM(IF(LEFT($J463:$J$1082,C463)=J463,1))-1","v":0},null,null,null,null,null,null,null,null,0]
[null,null,{"$f":"LEN(J465)","v":5},{"$f":"COUNTIF($J$18:$J$1144,J465)","v":1},{"$f":"IF(E466=0,1,E466)","v":1},{"$f":"IF(C465=2,\"\",LEFT(J465,C465-3))","v":"13"},null,null,"Cotação","13.09","Cabo 2x1,50 mm² blindado com cordoalha de cobre",null,"m",367.52]
[null,null,{"$f":"C465","v":5},null,{"$f":"SUM(IF(LEFT($J329:$J$1144,C465)=J465,1))-1","v":0},null,null,null,null,null,null,null,null,0]
[null,null,{"$f":"LEN(J467)","v":5},{"$f":"COUNTIF($J$18:$J$1052,J467)","v":1},{"$f":"IF(E468=0,1,E468)","v":1},{"$f":"IF(C467=2,\"\",LEFT(J467,C467-3))","v":"13"},null,null,"Cotação","13.10","Cabo 2x2,50 mm² blindado com cordoalha de cobre",null,"m",58.9]
[null,null,{"$f":"C467","v":5},null,{"$f":"SUM(IF(LEFT($J331:$J$1052,C467)=J467,1))-1","v":0},null,null,null,null,null,null,null,null,0]
[null,null,{"$f":"LEN(J469)","v":2},{"$f":"COUNTIF($J$18:$J$1150,J469)","v":1},{"$f":"IF(E470=0,1,E470)","v":8},{"$f":"IF(C469=2,\"\",LEFT(J469,C469-3))","v":""},null,null,null,"14","CFTV"]
[null,null,{"$f":"C469","v":2},null,{"$f":"SUM(IF(LEFT($J469:$J$1150,C469)=J469,1))-1","v":8}]
[null,null,{"$f":"LEN(J471)","v":5},{"$f":"COUNTIF($J$18:$J$1150,J471)","v":1},{"$f":"IF(E472=0,1,E472)","v":1},{"$f":"IF(C471=2,\"\",LEFT(J471,C471-3))","v":"14"},null,null,73613,"14.01","ELETRODUTO DE PVC RIGIDO ROSCAVEL DN 20MM (3/4\") INCL CONEXOES, FORNECIMENTO E INSTALACAO",null,"M",183]
[null,null,{"$f":"C471","v":5},null,{"$f":"SUM(IF(LEFT($J471:$J$1150,C471)=J471,1))-1","v":0}]
[null,null,{"$f":"LEN(J473)","v":5},{"$f":"COUNTIF($J$18:$J$1150,J473)","v":1},{"$f":"IF(E474=0,1,E474)","v":1},{"$f":"IF(C473=2,\"\",LEFT(J473,C473-3))","v":"14"},null,null,"74252/001","14.02","ELETRODUTO DE PVC RIGIDO ROSCAVEL DN 25MM (1\") INCL CONEXOES, FORNECIMENTO E INSTALACAO",null,"M",183]
[null,null,{"$f":"C473","v":5},null,{"$f":"SUM(IF(LEFT($J473:$J$1150,C473)=J473,1))-1","v":0}]
[null,null,{"$f":"LEN(J475)","v":5},{"$f":"COUNTIF($J$18:$J$1150,J475)","v":1},{"$f":"IF(E476=0,1,E476)","v":1},{"$f":"IF(C475=2,\"\",LEFT(J475,C475-3))","v":"14"},null,null,"Cotação","14.03","Câmeras coloridas com sensor CCD de 1/3” ou ¼”, auto-iris",null,"Und",15]
[null,null,{"$f":"C475","v":5},null,{"$f":"SUM(IF(LEFT($J475:$J$1150,C475)=J475,1))-1","v":0}]
[null,null,{"$f":"LEN(J477)","v":5},{"$f":"COUNTIF($J$18:$J$1150,J477)","v":1},{"$f":"IF(E478=0,1,E478)","v":1},{"$f":"IF(C477=2,\"\",LEFT(J477,C477-3))","v":"14"},null,null,"Cotação","14.04","Caixa de proteção em alumínio anodizado com suporte de aço para câmera fixa (forro ou parede)",null,"Und",15]
[null,null,{"$f":"C477","v":5},null,{"$f":"SUM(IF(LEFT($J477:$J$1150,C477)=J477,1))-1","v":0}]
[null,null,{"$f":"LEN(J479)","v":5},{"$f":"COUNTIF($J$18:$J$1150,J479)","v":1},{"$f":"IF(E480=0,1,E480)","v":1},{"$f":"IF(C479=2,\"\",LEFT(J479,C479-3))","v":"14"},null,null,83388,"14.05","CAIXA DE PASSAGEM PVC 3\" OCTOGONAL",null,"Und",15]
[null,null,{"$f":"C479","v":5},null,{"$f":"SUM(IF(LEFT($J479:$J$1150,C479)=J479,1))-1","v":0}]
[null,null,{"$f":"LEN(J481)","v":5},{"$f":"COUNTIF($J$18:$J$1150,J481)","v":1},{"$f":"IF(E482=0,1,E482)","v":1},{"$f":"IF(C481=2,\"\",LEFT(J481,C481-3))","v":"14"},null,null,"Cotação","14.06","Cabeamento para sinal de vídeo – cabo coaxial RG59",null,"M",190]
[null,null,{"$f":"C481","v":5},null,{"$f":"SUM(IF(LEFT($J481:$J$1150,C481)=J481,1))-1","v":0}]
[null,null,{"$f":"LEN(J483)","v":5},{"$f":"COUNTIF($J$18:$J$1150,J483)","v":1},{"$f":"IF(E484=0,1,E484)","v":1},{"$f":"IF(C483=2,\"\",LEFT(J483,C483-3))","v":"14"},null,null,"Cotação","14.07","No Break1000VA – QD-CFTV",null,"Und",1]
[null,null,{"$f":"C483","v":5},null,{"$f":"SUM(IF(LEFT($J483:$J$1150,C483)=J483,1))-1","v":0}]
[null,null,{"$f":"LEN(J485)","v":5},{"$f":"COUNTIF($J$18:$J$1136,J485)","v":1},{"$f":"IF(E486=0,1,E486)","v":1},{"$f":"IF(C485=2,\"\",LEFT(J485,C485-3))","v":"14"},null,null,"Cotação","14.08","Quadro para 16 canais de vídeo CFTV",null,"Und",1]
[null,null,{"$f":"C485","v":5},null,{"$f":"SUM(IF(LEFT($J485:$J$1136,C485)=J485,1))-1","v":0}]
[null,null,{"$f":"LEN(J487)","v":2},{"$f":"COUNTIF($J$18:$J$1158,J487)","v":1},{"$f":"IF(E488=0,1,E488)","v":30},{"$f":"IF(C487=2,\"\",LEFT(J487,C487-3))","v":""},null,null,null,"15","SUBESTAÇÃO AÉREA"]
[null,null,{"$f":"C487","v":2},null,{"$f":"SUM(IF(LEFT($J487:$J$1158,C487)=J487,1))-1","v":30}]
[null,null,{"$f":"LEN(J489)","v":5},{"$f":"COUNTIF($J$18:$J$1158,J489)","v":1},{"$f":"IF(E490=0,1,E490)","v":1},{"$f":"IF(C489=2,\"\",LEFT(J489,C489-3))","v":"15"},null,null,"Cotação","15.01","Poste de concreto armado duplo T 11mts/600Kgt",null,"UNID",1]
[null,null,{"$f":"C489","v":5},null,{"$f":"SUM(IF(LEFT($J489:$J$1158,C489)=J489,1))-1","v":0}]
[null,null,{"$f":"LEN(J491)","v":5},{"$f":"COUNTIF($J$18:$J$1158,J491)","v":1},{"$f":"IF(E492=0,1,E492)","v":1},{"$f":"IF(C491=2,\"\",LEFT(J491,C491-3))","v":"15"},null,null,"Cotação","15.02","XS-100 Elo Fusivel 8K 15KV 100A",null,"UNID",2]
[null,null,{"$f":"C491","v":5},null,{"$f":"SUM(IF(LEFT($J491:$J$1158,C491)=J491,1))-1","v":0}]
[null,null,{"$f":"LEN(J493)","v":5},{"$f":"COUNTIF($J$18:$J$1158,J493)","v":1},{"$f":"IF(E494=0,1,E494)","v":1},{"$f":"IF(C493=2,\"\",LEFT(J493,C493-3))","v":"15"},null,null,"Cotação","15.03","ParaRaios tipo Valvula 15KV 10 KA Sistema aterrado",null,"UNID",3]
[null,null,{"$f":"C493","v":5},null,{"$f":"SUM(IF(LEFT($J493:$J$1158,C493)=J493,1))-1","v":0}]
[null,null,{"$f":"LEN(J495)","v":5},{"$f":"COUNTIF($J$18:$J$1158,J495)","v":1},{"$f":"IF(E496=0,1,E496)","v":1},{"$f":"IF(C495=2,\"\",LEFT(J495,C495-3))","v":"15"},null,null,"Cotação","15.04","Isolador de suspensao 75mm",null,"UNID",4]
[null,null,{"$f":"C495","v":5},null,{"$f":"SUM(IF(LEFT($J495:$J$1158,C495)=J495,1))-1","v":0}]
[null,null,{"$f":"LEN(J497)","v":5},{"$f":"COUNTIF($J$18:$J$1158,J497)","v":1},{"$f":"IF(E498=0,1,E498)","v":1},{"$f":"IF(C497=2,\"\",LEFT(J497,C497-3))","v":"15"},null,null,"Cotação","15.05","Conector parafuso fendido",null,"UNID",1]
[null,null,{"$f":"C497","v":5},null,{"$f":"SUM(IF(LEFT($J497:$J$1158,C497)=J497,1))-1","v":0}]
[null,null,{"$f":"LEN(J499)","v":5},{"$f":"COUNTIF($J$18:$J$1158,J499)","v":1},{"$f":"IF(E500=0,1,E500)","v":1},{"$f":"IF(C499=2,\"\",LEFT(J499,C499-3))","v":"15"},null,null,"Cotação","15.06","Conector estribo compressão até cabo 1/0",null,"UNID",1]
[null,null,{"$f":"C499","v":5},null,{"$f":"SUM(IF(LEFT($J499:$J$1158,C499)=J499,1))-1","v":0}]
[null,null,{"$f":"LEN(J501)","v":5},{"$f":"COUNTIF($J$18:$J$1158,J501)","v":1},{"$f":"IF(E502=0,1,E502)","v":1},{"$f":"IF(C501=2,\"\",LEFT(J501,C501-3))","v":"15"},null,null,"Cotação","15.07","Conector estribo - pressão ampact - cabo 4/0 a 477",null,"UNID",1]
[null,null,{"$f":"C501","v":5},null,{"$f":"SUM(IF(LEFT($J501:$J$1158,C501)=J501,1))-1","v":0}]
[null,null,{"$f":"LEN(J503)","v":5},{"$f":"COUNTIF($J$18:$J$1158,J503)","v":1},{"$f":"IF(E504=0,1,E504)","v":1},{"$f":"IF(C503=2,\"\",LEFT(J503,C503-3))","v":"15"},null,null,"Cotação","15.08","Fio de cobre Nu 4AWG",null,"M",51]
[null,null,{"$f":"C503","v":5},null,{"$f":"SUM(IF(LEFT($J503:$J$1158,C503)=J503,1))-1","v":0}]
[null,null,{"$f":"LEN(J505)","v":5},{"$f":"COUNTIF($J$18:$J$1158,J505)","v":1},{"$f":"IF(E506=0,1,E506)","v":1},{"$f":"IF(C505=2,\"\",LEFT(J505,C505-3))","v":"15"},null,null,"Cotação","15.09","Cabo de aluminio Nu 1.0 AWG",null,"M",51]
[null,null,{"$f":"C505","v":5},null,{"$f":"SUM(IF(LEFT($J505:$J$1158,C505)=J505,1))-1","v":0}]
[null,null,{"$f":"LEN(J507)","v":5},{"$f":"COUNTIF($J$18:$J$1158,J507)","v":1},{"$f":"IF(E508=0,1,E508)","v":1},{"$f":"IF(C507=2,\"\",LEFT(J507,C507-3))","v":"15"},null,null,"Cotação","15.10","Cabo de cobre Isolado 0,6/1KV 2x3F120mm2 + 2N120mm2",null,"M",{"$f":"16*8+20*3","v":188}]
[null,null,{"$f":"C507","v":5},null,{"$f":"SUM(IF(LEFT($J507:$J$1158,C507)=J507,1))-1","v":0}]
[null,null,{"$f":"LEN(J509)","v":5},{"$f":"COUNTIF($J$18:$J$1158,J509)","v":1},{"$f":"IF(E510=0,1,E510)","v":1},{"$f":"IF(C509=2,\"\",LEFT(J509,C509-3))","v":"15"},null,null,"Cotação","15.11","Eletroduto de aco zincado 4\"",null,"M",16]
[null,null,{"$f":"C509","v":5},null,{"$f":"SUM(IF(LEFT($J509:$J$1158,C509)=J509,1))-1","v":0}]
[null,null,{"$f":"LEN(J511)","v":5},{"$f":"COUNTIF($J$18:$J$1158,J511)","v":1},{"$f":"IF(E512=0,1,E512)","v":1},{"$f":"IF(C511=2,\"\",LEFT(J511,C511-3))","v":"15"},null,null,"Cotação","15.12","Cabeçote de aluminio",null,"UNID",1]
[null,null,{"$f":"C511","v":5},null,{"$f":"SUM(IF(LEFT($J511:$J$1158,C511)=J511,1))-1","v":0}]
[null,null,{"$f":"LEN(J513)","v":5},{"$f":"COUNTIF($J$18:$J$1158,J513)","v":1},{"$f":"IF(E514=0,1,E514)","v":1},{"$f":"IF(C513=2,\"\",LEFT(J513,C513-3))","v":"15"},null,null,"Cotação","15.13","Luva para eletroduto de aço zincado 4\"",null,"UNID",2]
[null,null,{"$f":"C513","v":5},null,{"$f":"SUM(IF(LEFT($J513:$J$1158,C513)=J513,1))-1","v":0}]
[null,null,{"$f":"LEN(J515)","v":5},{"$f":"COUNTIF($J$18:$J$1158,J515)","v":1},{"$f":"IF(E516=0,1,E516)","v":1},{"$f":"IF(C515=2,\"\",LEFT(J515,C515-3))","v":"15"},null,null,"Cotação","15.14","Transformador trifasico 150KVA/13.8KV - 220V/127V",null,"UNID",1]
[null,null,{"$f":"C515","v":5},null,{"$f":"SUM(IF(LEFT($J515:$J$1158,C515)=J515,1))-1","v":0}]
[null,null,{"$f":"LEN(J517)","v":5},{"$f":"COUNTIF($J$18:$J$1158,J517)","v":1},{"$f":"IF(E518=0,1,E518)","v":1},{"$f":"IF(C517=2,\"\",LEFT(J517,C517-3))","v":"15"},null,null,"Cotação","15.15","SECCIONADOR TRIPOLAR 15KV/400A ACIONAM SIMULT PUNHO MANOBRA (COMANDO) - FORNECIMENTO E INSTALACAO",null,"UNID",1]
[null,null,{"$f":"C517","v":5},null,{"$f":"SUM(IF(LEFT($J517:$J$1158,C517)=J517,1))-1","v":0}]
[null,null,{"$f":"LEN(J519)","v":5},{"$f":"COUNTIF($J$18:$J$1158,J519)","v":1},{"$f":"IF(E520=0,1,E520)","v":1},{"$f":"IF(C519=2,\"\",LEFT(J519,C519-3))","v":"15"},null,null,"Cotação","15.16","Haste de aterramento Ø5/8\" x 2.400mm",null,"UNID",2]
[null,null,{"$f":"C519","v":5},null,{"$f":"SUM(IF(LEFT($J519:$J$1158,C519)=J519,1))-1","v":0}]
[null,null,{"$f":"LEN(J521)","v":5},{"$f":"COUNTIF($J$18:$J$1158,J521)","v":1},{"$f":"IF(E522=0,1,E522)","v":1},{"$f":"IF(C521=2,\"\",LEFT(J521,C521-3))","v":"15"},null,null,"Cotação","15.17","Cruzeta de madeira 2.400mm",null,"UNID",1]
[null,null,{"$f":"C521","v":5},null,{"$f":"SUM(IF(LEFT($J521:$J$1158,C521)=J521,1))-1","v":0}]
[null,null,{"$f":"LEN(J523)","v":5},{"$f":"COUNTIF($J$18:$J$1158,J523)","v":1},{"$f":"IF(E524=0,1,E524)","v":1},{"$f":"IF(C523=2,\"\",LEFT(J523,C523-3))","v":"15"},null,null,"Cotação","15.18","Porca quadrada 24mm para parafuso de 16mm",null,"UNID",1]
[null,null,{"$f":"C523","v":5},null,{"$f":"SUM(IF(LEFT($J523:$J$1158,C523)=J523,1))-1","v":0}]
[null,null,{"$f":"LEN(J525)","v":5},{"$f":"COUNTIF($J$18:$J$1158,J525)","v":1},{"$f":"IF(E526=0,1,E526)","v":1},{"$f":"IF(C525=2,\"\",LEFT(J525,C525-3))","v":"15"},null,null,"Cotação","15.19","Arruela quadrada de 38mm com furo de 18mm",null,"UNID",1]
[null,null,{"$f":"C525","v":5},null,{"$f":"SUM(IF(LEFT($J525:$J$1158,C525)=J525,1))-1","v":0}]
[null,null,{"$f":"LEN(J527)","v":5},{"$f":"COUNTIF($J$18:$J$1158,J527)","v":1},{"$f":"IF(E528=0,1,E528)","v":1},{"$f":"IF(C527=2,\"\",LEFT(J527,C527-3))","v":"15"},null,null,"Cotação","15.20","Arruela quadrada de 38mm com furo de 16mm",null,"UNID",1]
[null,null,{"$f":"C527","v":5},null,{"$f":"SUM(IF(LEFT($J527:$J$1158,C527)=J527,1))-1","v":0}]
[null,null,{"$f":"LEN(J529)","v":5},{"$f":"COUNTIF($J$18:$J$1158,J529)","v":1},{"$f":"IF(E530=0,1,E530)","v":1},{"$f":"IF(C529=2,\"\",LEFT(J529,C529-3))","v":"15"},null,null,"Cotação","15.21","Suporte para transformador ",null,"UNID",1]
[null,null,{"$f":"C529","v":5},null,{"$f":"SUM(IF(LEFT($J529:$J$1158,C529)=J529,1))-1","v":0}]
[null,null,{"$f":"LEN(J531)","v":5},{"$f":"COUNTIF($J$18:$J$1158,J531)","v":1},{"$f":"IF(E532=0,1,E532)","v":1},{"$f":"IF(C531=2,\"\",LEFT(J531,C531-3))","v":"15"},null,null,"Cotação","15.22","Mao francesa",null,"UNID",4]
[null,null,{"$f":"C531","v":5},null,{"$f":"SUM(IF(LEFT($J531:$J$1158,C531)=J531,1))-1","v":0}]
[null,null,{"$f":"LEN(J533)","v":5},{"$f":"COUNTIF($J$18:$J$1158,J533)","v":1},{"$f":"IF(E534=0,1,E534)","v":1},{"$f":"IF(C533=2,\"\",LEFT(J533,C533-3))","v":"15"},null,null,"Cotação","15.23","Olhala para parafusos de 16mm",null,"UNID",1]
[null,null,{"$f":"C533","v":5},null,{"$f":"SUM(IF(LEFT($J533:$J$1158,C533)=J533,1))-1","v":0}]
[null,null,{"$f":"LEN(J535)","v":5},{"$f":"COUNTIF($J$18:$J$1158,J535)","v":1},{"$f":"IF(E536=0,1,E536)","v":1},{"$f":"IF(C535=2,\"\",LEFT(J535,C535-3))","v":"15"},null,null,"Cotação","15.24","Gancho de suspensao com olhal",null,"UNID",1]
[null,null,{"$f":"C535","v":5},null,{"$f":"SUM(IF(LEFT($J535:$J$1158,C535)=J535,1))-1","v":0}]
[null,null,{"$f":"LEN(J537)","v":5},{"$f":"COUNTIF($J$18:$J$1158,J537)","v":1},{"$f":"IF(E538=0,1,E538)","v":1},{"$f":"IF(C537=2,\"\",LEFT(J537,C537-3))","v":"15"},null,null,"Cotação","15.25","Alça preformada de distribuição ou grampo tensor",null,"UNID",1]
[null,null,{"$f":"C537","v":5},null,{"$f":"SUM(IF(LEFT($J537:$J$1158,C537)=J537,1))-1","v":0}]
[null,null,{"$f":"LEN(J539)","v":5},{"$f":"COUNTIF($J$18:$J$1158,J539)","v":1},{"$f":"IF(E540=0,1,E540)","v":1},{"$f":"IF(C539=2,\"\",LEFT(J539,C539-3))","v":"15"},null,null,"Cotação","15.26","Eletroduto PVC Ø4\"",null,"UNID",20]
[null,null,{"$f":"C539","v":5},null,{"$f":"SUM(IF(LEFT($J539:$J$1158,C539)=J539,1))-1","v":0}]
[null,null,{"$f":"LEN(J541)","v":5},{"$f":"COUNTIF($J$18:$J$1158,J541)","v":1},{"$f":"IF(E542=0,1,E542)","v":1},{"$f":"IF(C541=2,\"\",LEFT(J541,C541-3))","v":"15"},null,null,"Cotação","15.27","Conector parafuso fundido Split-bolt",null,"UNID",1]
[null,null,{"$f":"C541","v":5},null,{"$f":"SUM(IF(LEFT($J541:$J$1158,C541)=J541,1))-1","v":0}]
[null,null,{"$f":"LEN(J543)","v":5},{"$f":"COUNTIF($J$18:$J$1158,J543)","v":1},{"$f":"IF(E544=0,1,E544)","v":1},{"$f":"IF(C543=2,\"\",LEFT(J543,C543-3))","v":"15"},null,null,"Cotação","15.28","Fita de aluminio para amarracao",null,"UNID",1]
[null,null,{"$f":"C543","v":5},null,{"$f":"SUM(IF(LEFT($J543:$J$1158,C543)=J543,1))-1","v":0}]
[null,null,{"$f":"LEN(J545)","v":5},{"$f":"COUNTIF($J$18:$J$1158,J545)","v":1},{"$f":"IF(E546=0,1,E546)","v":1},{"$f":"IF(C545=2,\"\",LEFT(J545,C545-3))","v":"15"},null,null,"Cotação","15.29","Condutor de protecao 35mm2 cobre nu",null,"M",20]
[null,null,{"$f":"C545","v":5},null,{"$f":"SUM(IF(LEFT($J545:$J$1158,C545)=J545,1))-1","v":0}]
[null,null,{"$f":"LEN(J547)","v":5},{"$f":"COUNTIF($J$18:$J$1158,J547)","v":1},{"$f":"IF(E548=0,1,E548)","v":1},{"$f":"IF(C547=2,\"\",LEFT(J547,C547-3))","v":"15"},null,null,83450,"15.30","CAIXA DE PASSAGEM 80X80X62 FUNDO BRITA COM TAMPA",null,"UN",4]
[null,null,{"$f":"C547","v":5},null,{"$f":"SUM(IF(LEFT($J547:$J$1158,C547)=J547,1))-1","v":0}]
[null,null,{"$f":"LEN(J549)","v":2},{"$f":"COUNTIF($J$18:$J$1082,J549)","v":1},{"$f":"IF(E550=0,1,E550)","v":14},{"$f":"IF(C549=2,\"\",LEFT(J549,C549-3))","v":""},null,null,null,"16","COMBATE A INCÊNDIO",null,"",0]
[null,null,{"$f":"C549","v":2},null,{"$f":"SUM(IF(LEFT($J549:$J$1082,C549)=J549,1))-1","v":14},null,null,null,null,null,null,null,null,0]
[null,null,{"$f":"LEN(J551)","v":5},{"$f":"COUNTIF($J$18:$J$1082,J551)","v":1},{"$f":"IF(E552=0,1,E552)","v":1},{"$f":"IF(C551=2,\"\",LEFT(J551,C551-3))","v":"16"},null,null,72283,"16.01","CAIXA DE INCÊNDIO 90X60CM COM UMA MANGUEIRA Ø38MM X 30M COM ESGUICHO Ø16MM - FORNECIMENTO E INSTALAÇÃO",null,"UNID",3]
[null,null,{"$f":"C551","v":5},null,{"$f":"SUM(IF(LEFT($J551:$J$1082,C551)=J551,1))-1","v":0},null,null,null,null,null,null,null,null,0]
[null,null,{"$f":"LEN(J553)","v":5},{"$f":"COUNTIF($J$18:$J$1082,J553)","v":1},{"$f":"IF(E554=0,1,E554)","v":1},{"$f":"IF(C553=2,\"\",LEFT(J553,C553-3))","v":"16"},null,null,"73775/002","16.02","EXTINTOR INCENDIO AGUA-PRESSURIZADA 10L INCL SUPORTE PAREDE CARGA COMPLETA FORNECIMENTO E COLOCACAO",null,"UNID",6]
[null,null,{"$f":"C553","v":5},null,{"$f":"SUM(IF(LEFT($J553:$J$1082,C553)=J553,1))-1","v":0},null,null,null,null,null,null,null,null,0]
[null,null,{"$f":"LEN(J555)","v":5},{"$f":"COUNTIF($J$18:$J$1082,J555)","v":1},{"$f":"IF(E556=0,1,E556)","v":1},{"$f":"IF(C555=2,\"\",LEFT(J555,C555-3))","v":"16"},null,null,72554,"16.03","EXTINTOR DE CO2 6KG - FORNECIMENTO E INSTALACAO",null,"UNID",5]
[null,null,{"$f":"C555","v":5},null,{"$f":"SUM(IF(LEFT($J555:$J$1082,C555)=J555,1))-1","v":0},null,null,null,null,null,null,null,null,0]
[null,null,{"$f":"LEN(J557)","v":5},{"$f":"COUNTIF($J$18:$J$1082,J557)","v":1},{"$f":"IF(E558=0,1,E558)","v":1},{"$f":"IF(C557=2,\"\",LEFT(J557,C557-3))","v":"16"},null,null,"73775/001","16.04","EXTINTOR INCENDIO TP PO QUIMICO 4KG FORNECIMENTO E COLOCACAO",null,"UNID",1]
[null,null,{"$f":"C557","v":5},null,{"$f":"SUM(IF(LEFT($J557:$J$1082,C557)=J557,1))-1","v":0},null,null,null,null,null,null,null,null,0]
[null,null,{"$f":"LEN(J559)","v":5},{"$f":"COUNTIF($J$18:$J$1082,J559)","v":1},{"$f":"IF(E560=0,1,E560)","v":1},{"$f":"IF(C559=2,\"\",LEFT(J559,C559-3))","v":"16"},null,null,"73976/008","16.05","TUBO DE AÇO GALVANIZADO COM COSTURA 2.1/2\" (65MM), INCLUSIVE CONEXOES- FORNECIMENTO E INSTALACAO",null,"M",84]
[null,null,{"$f":"C559","v":5},null,{"$f":"SUM(IF(LEFT($J559:$J$1082,C559)=J559,1))-1","v":0},null,null,null,null,null,null,null,null,0]
[null,null,null,null,null,null,null,null,"Cotação","16.06","Placa de sinalização tipo \"saída de emergência\"",null,"UNID",10]
[]
[null,null,null,null,null,null,null,null,"Cotação","16.07","Placa de sinalização \"Saida\"",null,"UNID",6]
[]
[null,null,null,null,null,null,null,null,"Cotação","16.08","Placa de sinalização \"Identificação de agente extintor\"",null,"UNID",{"$f":"SUM(N553:N558)","v":12}]
[]
[null,null,null,null,null,null,null,null,"Cotação","16.09","Placa de sinalização \"Seta de Hidranter\"",null,"UNID",{"$f":"N551","v":3}]
[]
[null,null,null,null,null,null,null,null,"Cotação","16.10","Placa de sinalização \"Alarme sonoro\"",null,"UNID",4]
[]
[null,null,null,null,null,null,null,null,"Cotação","16.11","Placa de sinalização \"Comando manual de alarme\"",null,"UNID",4]
[]
[null,null,null,null,null,null,null,null,"Cotação","16.12","Registro de recalque 2.1/2\"",null,"UNID",1]
[]
[null,null,null,null,null,null,null,null,"Cotação","16.13","Caixa com tampa para o registro de recalque ",null,"Und",1]
[]
[null,null,null,null,null,null,null,null,"Cotação","16.14","Sinalização de piso dos locais de extintores e hidrantes ",null,"M²",9]
[null,null,{"$f":"C577","v":0},null,{"$f":"SUM(IF(LEFT($J577:$J$1174,C577)=J577,1))-1","v":-1}]
[null,null,{"$f":"LEN(J579)","v":2},{"$f":"COUNTIF($J$18:$J$1082,J579)","v":1},{"$f":"IF(E580=0,1,E580)","v":24},{"$f":"IF(C579=2,\"\",LEFT(J579,C579-3))","v":""},null,null,null,"17","ÁGUA FRIA ",null,"",0]
[null,null,{"$f":"C579","v":2},null,{"$f":"SUM(IF(LEFT($J579:$J$1082,C579)=J579,1))-1","v":24},null,null,null,null,null,null,null,null,0]
[null,null,{"$f":"LEN(J581)","v":5},{"$f":"COUNTIF($J$18:$J$1082,J581)","v":1},{"$f":"IF(E582=0,1,E582)","v":1},{"$f":"IF(C581=2,\"\",LEFT(J581,C581-3))","v":"17"},null,null,"74175/001","17.01","REGISTRO GAVETA 1\" COM CANOPLA ACABAMENTO CROMADO SIMPLES - FORNECIMENTO E INSTALACAO",null,"UNID",2]
[null,null,{"$f":"C581","v":5},null,{"$f":"SUM(IF(LEFT($J581:$J$1082,C581)=J581,1))-1","v":0}]
[null,null,{"$f":"LEN(J583)","v":5},{"$f":"COUNTIF($J$18:$J$1082,J583)","v":1},{"$f":"IF(E584=0,1,E584)","v":1},{"$f":"IF(C583=2,\"\",LEFT(J583,C583-3))","v":"17"},null,null,"74181/001","17.02","REGISTRO GAVETA 2\" BRUTO LATAO - FORNECIMENTO E INSTALACAO",null,"UNID",3]
[null,null,{"$f":"C583","v":5},null,{"$f":"SUM(IF(LEFT($J583:$J$1082,C583)=J583,1))-1","v":0}]
[null,null,{"$f":"LEN(J585)","v":5},{"$f":"COUNTIF($J$18:$J$1082,J585)","v":1},{"$f":"IF(E586=0,1,E586)","v":1},{"$f":"IF(C585=2,\"\",LEFT(J585,C585-3))","v":"17"},null,null,"74176/001","17.03","REGISTRO GAVETA 3/4\" COM CANOPLA ACABAMENTO CROMADO SIMPLES - FORNECIMENTO E INSTALACAO",null,"UNID",57]
[null,null,{"$f":"C585","v":5},null,{"$f":"SUM(IF(LEFT($J585:$J$1082,C585)=J585,1))-1","v":0}]
[null,null,{"$f":"LEN(J587)","v":5},{"$f":"COUNTIF($J$18:$J$1082,J587)","v":1},{"$f":"IF(E588=0,1,E588)","v":1},{"$f":"IF(C587=2,\"\",LEFT(J587,C587-3))","v":"17"},null,null,85118,"17.04","REGISTRO PRESSAO 3/4\" COM CANOPLA ACABAMENTO CROMADO - FORNECIMENTO EINSTALACAO",null,"UNID",7]
[null,null,{"$f":"C587","v":5},null,{"$f":"SUM(IF(LEFT($J587:$J$1082,C587)=J587,1))-1","v":0}]
[null,null,{"$f":"LEN(J589)","v":5},{"$f":"COUNTIF($J$18:$J$1082,J589)","v":1},{"$f":"IF(E590=0,1,E590)","v":1},{"$f":"IF(C589=2,\"\",LEFT(J589,C589-3))","v":"17"},null,null,"75030-001","17.05","TUBO PVC SOLDAVEL AGUA FRIA DN 25MM, INCLUSIVE CONEXOES - FORNECIMENTOE INSTALACAO",null,"M",299.26]
[null,null,{"$f":"C589","v":5},null,{"$f":"SUM(IF(LEFT($J589:$J$1082,C589)=J589,1))-1","v":0}]
[null,null,{"$f":"LEN(J591)","v":5},{"$f":"COUNTIF($J$18:$J$1082,J591)","v":1},{"$f":"IF(E592=0,1,E592)","v":1},{"$f":"IF(C591=2,\"\",LEFT(J591,C591-3))","v":"17"},null,null,"75030/002","17.06","TUBO PVC SOLDAVEL AGUA FRIA DN 32MM, INCLUSIVE CONEXOES - FORNECIMENTOE INSTALACAO",null,"M",46.55]
[null,null,{"$f":"C591","v":5},null,{"$f":"SUM(IF(LEFT($J591:$J$1082,C591)=J591,1))-1","v":0}]
[null,null,{"$f":"LEN(J593)","v":5},{"$f":"COUNTIF($J$18:$J$1082,J593)","v":1},{"$f":"IF(E594=0,1,E594)","v":1},{"$f":"IF(C593=2,\"\",LEFT(J593,C593-3))","v":"17"},null,null,"75030/003","17.07","TUBO PVC SOLDAVEL AGUA FRIA DN 40MM, INCLUSIVE CONEXOES - FORNECIMENTOE INSTALACAO",null,"M",93.41]
[null,null,{"$f":"C593","v":5},null,{"$f":"SUM(IF(LEFT($J593:$J$1082,C593)=J593,1))-1","v":0}]
[null,null,{"$f":"LEN(J595)","v":5},{"$f":"COUNTIF($J$18:$J$1082,J595)","v":1},{"$f":"IF(E596=0,1,E596)","v":1},{"$f":"IF(C595=2,\"\",LEFT(J595,C595-3))","v":"17"},null,null,"75030/005","17.08","TUBO PVC SOLDAVEL AGUA FRIA DN 60MM, INCLUSIVE CONEXOES - FORNECIMENTOE INSTALACAO",null,"M",58.59]
[null,null,{"$f":"C595","v":5},null,{"$f":"SUM(IF(LEFT($J595:$J$1082,C595)=J595,1))-1","v":0},null,null,null,null,null,null,null,null,0]
[null,null,{"$f":"LEN(J597)","v":5},{"$f":"COUNTIF($J$18:$J$1076,J597)","v":1},{"$f":"IF(E598=0,1,E598)","v":15},{"$f":"IF(C597=2,\"\",LEFT(J597,C597-3))","v":"17"},null,null,null,"17.09","Reservatórios / recalque ",null,null,0]
[null,null,{"$f":"C597","v":5},null,{"$f":"SUM(IF(LEFT($J597:$J$1076,C597)=J597,1))-1","v":15},null,null,null,null,null,null,null,null,0]
[null,null,{"$f":"LEN(J599)","v":8},{"$f":"COUNTIF($J$18:$J$1126,J599)","v":1},{"$f":"IF(E600=0,1,E600)","v":1},{"$f":"IF(C599=2,\"\",LEFT(J599,C599-3))","v":"17.09"},null,null,"75030/002","17.09.01","TUBO PVC SOLDAVEL AGUA FRIA DN 32MM, INCLUSIVE CONEXOES - FORNECIMENTO E INSTALACAO",null,"M",45]
[null,null,{"$f":"C599","v":8},null,{"$f":"SUM(IF(LEFT($J599:$J$1126,C599)=J599,1))-1","v":0},null,null,null,null,null,null,null,null,0]
[null,null,{"$f":"LEN(J601)","v":8},{"$f":"COUNTIF($J$18:$J$1126,J601)","v":1},{"$f":"IF(E602=0,1,E602)","v":1},{"$f":"IF(C601=2,\"\",LEFT(J601,C601-3))","v":"17.09"},null,null,"75030/003","17.09.02","TUBO PVC SOLDAVEL AGUA FRIA DN 40MM, INCLUSIVE CONEXOES - FORNECIMENTO E INSTALACAO",null,"M",65]
[null,null,{"$f":"C601","v":8},null,{"$f":"SUM(IF(LEFT($J601:$J$1126,C601)=J601,1))-1","v":0},null,null,null,null,null,null,null,null,0]
[null,null,{"$f":"LEN(J603)","v":8},{"$f":"COUNTIF($J$18:$J$1126,J603)","v":1},{"$f":"IF(E604=0,1,E604)","v":1},{"$f":"IF(C603=2,\"\",LEFT(J603,C603-3))","v":"17.09"},null,null,"74175/001","17.09.03","REGISTRO GAVETA 1\" COM CANOPLA ACABAMENTO CROMADO SIMPLES - FORNECIMENTO E INSTALACAO",null,"UNID",8]
[null,null,{"$f":"C603","v":8},null,{"$f":"SUM(IF(LEFT($J603:$J$1126,C603)=J603,1))-1","v":0},null,null,null,null,null,null,null,null,0]
[null,null,{"$f":"LEN(J605)","v":8},{"$f":"COUNTIF($J$18:$J$1126,J605)","v":1},{"$f":"IF(E606=0,1,E606)","v":1},{"$f":"IF(C605=2,\"\",LEFT(J605,C605-3))","v":"17.09"},null,null,"74181/001","17.09.04","REGISTRO GAVETA 2\" BRUTO LATAO - FORNECIMENTO E INSTALACAO",null,"UNID",7]
[null,null,{"$f":"C605","v":8},null,{"$f":"SUM(IF(LEFT($J605:$J$1126,C605)=J605,1))-1","v":0},null,null,null,null,null,null,null,null,0]
[null,null,{"$f":"LEN(J607)","v":8},{"$f":"COUNTIF($J$18:$J$1126,J607)","v":1},{"$f":"IF(E608=0,1,E608)","v":1},{"$f":"IF(C607=2,\"\",LEFT(J607,C607-3))","v":"17.09"},null,null,"73795/004","17.09.05","VÁLVULA DE PÉ COM CRIVO Ø 40MM (1.1/2\") - FORNECIMENTO E INSTALAÇÃO",null,"UNID",2]
[null,null,{"$f":"C607","v":8},null,{"$f":"SUM(IF(LEFT($J607:$J$1126,C607)=J607,1))-1","v":0}]
[null,null,{"$f":"LEN(J609)","v":8},{"$f":"COUNTIF($J$18:$J$1126,J609)","v":1},{"$f":"IF(E610=0,1,E610)","v":1},{"$f":"IF(C609=2,\"\",LEFT(J609,C609-3))","v":"17.09"},null,null,"73795/013","17.09.06","VÁLVULA DE RETENÇÃO HORIZONTAL Ø 65MM (2.1/2\") - FORNECIMENTO E INSTALACAO",null,"UNID",2]
[null,null,{"$f":"C609","v":8},null,{"$f":"SUM(IF(LEFT($J609:$J$1126,C609)=J609,1))-1","v":0}]
[null,null,{"$f":"LEN(J611)","v":8},{"$f":"COUNTIF($J$18:$J$1126,J611)","v":1},{"$f":"IF(E612=0,1,E612)","v":1},{"$f":"IF(C611=2,\"\",LEFT(J611,C611-3))","v":"17.09"},null,null,"73796/003","17.09.07","Válvula de governo",null,"UNID",1]
[null,null,{"$f":"C611","v":8},null,{"$f":"SUM(IF(LEFT($J611:$J$1126,C611)=J611,1))-1","v":0},null,null,null,null,null,null,null,null,0]
["x",null,{"$f":"LEN(J613)","v":8},{"$f":"COUNTIF($J$18:$J$1126,J613)","v":1},{"$f":"IF(E614=0,1,E614)","v":1},{"$f":"IF(C613=2,\"\",LEFT(J613,C613-3))","v":"17.09"},null,null,"Cotação","17.09.08","Bombas para recalque de água fria, Potência 1CV, Hm=10,76m e Q=0,889 litros/s",null,"Und",2]
[null,null,{"$f":"C613","v":8},null,{"$f":"SUM(IF(LEFT($J613:$J$1126,C613)=J613,1))-1","v":0}]
["x",null,{"$f":"LEN(J615)","v":8},{"$f":"COUNTIF($J$18:$J$1126,J615)","v":1},{"$f":"IF(E616=0,1,E616)","v":1},{"$f":"IF(C615=2,\"\",LEFT(J615,C615-3))","v":"17.09"},null,null,"Cotação","17.09.09","Bomba para recalque de incêndio Potência de 5 cv, Q=305 litros/min e pressão de 33 mca",null,"Und",1]
[null,null,{"$f":"C615","v":8},null,{"$f":"SUM(IF(LEFT($J615:$J$1126,C615)=J615,1))-1","v":0}]
["x",null,{"$f":"LEN(J617)","v":8},{"$f":"COUNTIF($J$18:$J$1126,J617)","v":1},{"$f":"IF(E618=0,1,E618)","v":1},{"$f":"IF(C617=2,\"\",LEFT(J617,C617-3))","v":"17.09"},null,null,"Cotação","17.09.10","Bomba jockey de pressurização 2 cv",null,"Und",1]
[null,null,{"$f":"C617","v":8},null,{"$f":"SUM(IF(LEFT($J617:$J$1126,C617)=J617,1))-1","v":0}]
["x",null,{"$f":"LEN(J619)","v":8},{"$f":"COUNTIF($J$18:$J$1126,J619)","v":1},{"$f":"IF(E620=0,1,E620)","v":1},{"$f":"IF(C619=2,\"\",LEFT(J619,C619-3))","v":"17.09"},null,null,"Cotação","17.09.11","Bomba de esgotamento da casa de bombas tipo sapo potência 450 W",null,"Und",1]
[null,null,{"$f":"C619","v":8},null,{"$f":"SUM(IF(LEFT($J619:$J$1126,C619)=J619,1))-1","v":0}]
[null,null,{"$f":"LEN(J621)","v":8},{"$f":"COUNTIF($J$18:$J$1126,J621)","v":1},{"$f":"IF(E622=0,1,E622)","v":1},{"$f":"IF(C621=2,\"\",LEFT(J621,C621-3))","v":"17.09"},null,null,"Cotação","17.09.12","Pressostato",null,"UNID",2]
[null,null,{"$f":"C621","v":8},null,{"$f":"SUM(IF(LEFT($J621:$J$1126,C621)=J621,1))-1","v":0},null,null,null,null,null,null,null,null,0]
[null,null,{"$f":"LEN(J623)","v":8},{"$f":"COUNTIF($J$18:$J$1126,J623)","v":1},{"$f":"IF(E624=0,1,E624)","v":1},{"$f":"IF(C623=2,\"\",LEFT(J623,C623-3))","v":"17.09"},null,null,85120,"17.09.13","MANOMETRO 0 A 200 PSI (0 A 14 KGF/CM2), D = 50MM - FORNECIMENTO E COLOCACAO",null,"UNID",2]
[null,null,{"$f":"C623","v":8},null,{"$f":"SUM(IF(LEFT($J623:$J$1126,C623)=J623,1))-1","v":0},null,null,null,null,null,null,null,null,0]
[null,null,{"$f":"LEN(J625)","v":8},{"$f":"COUNTIF($J$18:$J$1126,J625)","v":1},{"$f":"IF(E626=0,1,E626)","v":1},{"$f":"IF(C625=2,\"\",LEFT(J625,C625-3))","v":"17.09"},null,null,"Cotação","17.09.14","Cilindro de pressão",null,"UNID",1]
[null,null,{"$f":"C625","v":8},null,{"$f":"SUM(IF(LEFT($J625:$J$1126,C625)=J625,1))-1","v":0},null,null,null,null,null,null,null,null,0]
["y",null,{"$f":"LEN(J627)","v":8},{"$f":"COUNTIF($J$18:$J$1134,J627)","v":1},{"$f":"IF(E628=0,1,E628)","v":1},{"$f":"IF(C627=2,\"\",LEFT(J627,C627-3))","v":"17.09"},null,null,"Cotação","17.09.15","Reservatório de fibra de vidro cap. 3000 L",null,"UNID",3]
[null,null,{"$f":"C627","v":8},null,{"$f":"SUM(IF(LEFT($J627:$J$1126,C627)=J627,1))-1","v":0},null,null,null,null,null,null,null,null,0]
[null,null,{"$f":"LEN(J629)","v":2},{"$f":"COUNTIF($J$18:$J$1082,J629)","v":1},{"$f":"IF(E630=0,1,E630)","v":8},{"$f":"IF(C629=2,\"\",LEFT(J629,C629-3))","v":""},null,null,null,"18","ESGOTO PREDIAL",null,"",0]
[null,null,{"$f":"C629","v":2},null,{"$f":"SUM(IF(LEFT($J629:$J$1082,C629)=J629,1))-1","v":8},null,null,null,null,null,null,null,null,0]
[null,null,{"$f":"LEN(J631)","v":5},{"$f":"COUNTIF($J$18:$J$1082,J631)","v":1},{"$f":"IF(E632=0,1,E632)","v":1},{"$f":"IF(C631=2,\"\",LEFT(J631,C631-3))","v":"18"},null,null,40777,"18.01","CAIXA SIFONADA PVC 150X150X50MM COM GRELHA REDONDA BRANCA - FORNECIMENTO E INSTALACAO",null,"UNID",24]
[null,null,{"$f":"C631","v":5},null,{"$f":"SUM(IF(LEFT($J631:$J$1082,C631)=J631,1))-1","v":0},null,null,null,null,null,null,null,null,0]
[null,null,{"$f":"LEN(J633)","v":5},{"$f":"COUNTIF($J$18:$J$1082,J633)","v":1},{"$f":"IF(E634=0,1,E634)","v":1},{"$f":"IF(C633=2,\"\",LEFT(J633,C633-3))","v":"18"},null,null,"74165/001","18.02","TUBO PVC ESGOTO JS PREDIAL DN 40MM, INCLUSIVE CONEXOES - FORNECIMENTOE INSTALACAO",null,"M",100]
[null,null,{"$f":"C633","v":5},null,{"$f":"SUM(IF(LEFT($J633:$J$1082,C633)=J633,1))-1","v":0},null,null,null,null,null,null,null,null,0]
[null,null,{"$f":"LEN(J635)","v":5},{"$f":"COUNTIF($J$18:$J$1082,J635)","v":1},{"$f":"IF(E636=0,1,E636)","v":1},{"$f":"IF(C635=2,\"\",LEFT(J635,C635-3))","v":"18"},null,null,"74165/002","18.03","TUBO PVC ESGOTO PREDIAL DN 50MM, INCLUSIVE CONEXOES - FORNECIMENTO E INSTALACAO",null,"M",151]
[null,null,{"$f":"C635","v":5},null,{"$f":"SUM(IF(LEFT($J635:$J$1082,C635)=J635,1))-1","v":0},null,null,null,null,null,null,null,null,0]
[null,null,{"$f":"LEN(J637)","v":5},{"$f":"COUNTIF($J$18:$J$1082,J637)","v":1},{"$f":"IF(E638=0,1,E638)","v":1},{"$f":"IF(C637=2,\"\",LEFT(J637,C637-3))","v":"18"},null,null,"74165/003","18.04","TUBO PVC ESGOTO PREDIAL DN 75MM, INCLUSIVE CONEXOES - FORNECIMENTO E INSTALACAO",null,"M",84]
[null,null,{"$f":"C637","v":5},null,{"$f":"SUM(IF(LEFT($J637:$J$1082,C637)=J637,1))-1","v":0},null,null,null,null,null,null,null,null,0]
[null,null,{"$f":"LEN(J639)","v":5},{"$f":"COUNTIF($J$18:$J$1082,J639)","v":1},{"$f":"IF(E640=0,1,E640)","v":1},{"$f":"IF(C639=2,\"\",LEFT(J639,C639-3))","v":"18"},null,null,"74165/004","18.05","TUBO PVC ESGOTO PREDIAL DN 100MM, INCLUSIVE CONEXOES - FORNECIMENTO E INSTALACAO",null,"M",97]
[null,null,{"$f":"C639","v":5},null,{"$f":"SUM(IF(LEFT($J639:$J$1082,C639)=J639,1))-1","v":0},null,null,null,null,null,null,null,null,0]
[null,null,{"$f":"LEN(J641)","v":5},{"$f":"COUNTIF($J$18:$J$1082,J641)","v":1},{"$f":"IF(E642=0,1,E642)","v":1},{"$f":"IF(C641=2,\"\",LEFT(J641,C641-3))","v":"18"},null,null,"74168/001","18.06","TUBO PVC ESGOTO SERIE R DN 150MM C/ ANEL DE BORRACHA - FORNECIMENTO EINSTALACAO",null,"M",58]
[null,null,{"$f":"C641","v":5},null,{"$f":"SUM(IF(LEFT($J641:$J$1082,C641)=J641,1))-1","v":0},null,null,null,null,null,null,null,null,0]
[null,null,{"$f":"LEN(J643)","v":5},{"$f":"COUNTIF($J$18:$J$1076,J643)","v":1},{"$f":"IF(E644=0,1,E644)","v":1},{"$f":"IF(C643=2,\"\",LEFT(J643,C643-3))","v":"18"},null,null,"74104/001","18.07","CAIXA DE INSPEÇÃO EM ALVENARIA DE TIJOLO MACIÇO 60X60X60CM,  E REVESTIDA INTERNAMENTe COM BARRA LISA (CIMENTO E AREIA, TRAÇO 1:4) E=2,0CM, COM TAMPA PRÉ-MOLDADA DE CONCRETO E FUNDO DE CONCRETO 15MPA TIPO C - ESCAVAÇÃO E CONFECÇÃO",null,"UNID",12]
[null,null,{"$f":"C643","v":5},null,{"$f":"SUM(IF(LEFT($J643:$J$1076,C643)=J643,1))-1","v":0}]
[null,null,{"$f":"LEN(J645)","v":5},{"$f":"COUNTIF($J$18:$J$1102,J645)","v":1},{"$f":"IF(E646=0,1,E646)","v":1},{"$f":"IF(C645=2,\"\",LEFT(J645,C645-3))","v":"18"},null,null,"74051/002","18.08","CAIXA DE GORDURA SIMPLES EM CONCRETO PRE-MOLDADO DN 40MM COM TAMPA - FORNECIMENTO E INSTALACAO",null,"Und",2]
[null,null,{"$f":"C645","v":5},null,{"$f":"SUM(IF(LEFT($J645:$J$1102,C645)=J645,1))-1","v":0}]
[null,null,{"$f":"LEN(J647)","v":2},{"$f":"COUNTIF($J$18:$J$1076,J647)","v":1},{"$f":"IF(E648=0,1,E648)","v":14},{"$f":"IF(C647=2,\"\",LEFT(J647,C647-3))","v":""},null,null,null,"19","DRENAGEM PLUVIAL",null,"",0]
[null,null,{"$f":"C647","v":2},null,{"$f":"SUM(IF(LEFT($J647:$J$1076,C647)=J647,1))-1","v":14},null,null,null,null,null,null,null,null,0]
[null,null,{"$f":"LEN(J649)","v":5},{"$f":"COUNTIF($J$18:$J$1102,J649)","v":1},{"$f":"IF(E650=0,1,E650)","v":1},{"$f":"IF(C649=2,\"\",LEFT(J649,C649-3))","v":"19"},null,null,"74165/003","19.01","TUBO PVC ESGOTO PREDIAL DN 75MM, INCLUSIVE CONEXOES - FORNECIMENTO E INSTALACAO",null,"M",27]
[null,null,{"$f":"C649","v":5},null,{"$f":"SUM(IF(LEFT($J649:$J$1102,C649)=J649,1))-1","v":0},null,null,null,null,null,null,null,null,0]
[null,null,{"$f":"LEN(J651)","v":5},{"$f":"COUNTIF($J$18:$J$1088,J651)","v":1},{"$f":"IF(E652=0,1,E652)","v":1},{"$f":"IF(C651=2,\"\",LEFT(J651,C651-3))","v":"19"},null,null,"74168/002","19.02","TUBO PVC ESGOTO SERIE R DN 100MM C/ ANEL DE BORRACHA - FORNECIMENTO E INSTALACAO",null,"M",170]
[null,null,{"$f":"C651","v":5},null,{"$f":"SUM(IF(LEFT($J651:$J$1088,C651)=J651,1))-1","v":0},null,null,null,null,null,null,null,null,0]
[null,null,{"$f":"LEN(J653)","v":5},{"$f":"COUNTIF($J$18:$J$1088,J653)","v":1},{"$f":"IF(E654=0,1,E654)","v":1},{"$f":"IF(C653=2,\"\",LEFT(J653,C653-3))","v":"19"},null,null,"74168/001","19.03","TUBO PVC ESGOTO SERIE R DN 150MM C/ ANEL DE BORRACHA - FORNECIMENTO EINSTALACAO",null,"M",12]
[null,null,{"$f":"C653","v":5},null,{"$f":"SUM(IF(LEFT($J653:$J$1088,C653)=J653,1))-1","v":0},null,null,null,null,null,null,null,null,0]
["x",null,{"$f":"LEN(J655)","v":5},{"$f":"COUNTIF($J$18:$J$1102,J655)","v":1},{"$f":"IF(E656=0,1,E656)","v":1},{"$f":"IF(C655=2,\"\",LEFT(J655,C655-3))","v":"19"},null,null,"Cotação","19.04","TUBO PVC ESGOTO SERIE R DN 200MM C/ ANEL DE BORRACHA - FORNECIMENTO EINSTALACAO",null,"M",57]
[null,null,{"$f":"C655","v":5},null,{"$f":"SUM(IF(LEFT($J655:$J$1102,C655)=J655,1))-1","v":0}]
["x",null,{"$f":"LEN(J657)","v":5},{"$f":"COUNTIF($J$18:$J$1102,J657)","v":1},{"$f":"IF(E658=0,1,E658)","v":1},{"$f":"IF(C657=2,\"\",LEFT(J657,C657-3))","v":"19"},null,null,"CPU0026","19.05","Tubo de concreto simples de diâmetro de 300 mm",null,"M",90]
[null,null,{"$f":"C657","v":5},null,{"$f":"SUM(IF(LEFT($J657:$J$1102,C657)=J657,1))-1","v":0}]
[null,null,{"$f":"LEN(J659)","v":5},{"$f":"COUNTIF($J$18:$J$1088,J659)","v":1},{"$f":"IF(E660=0,1,E660)","v":1},{"$f":"IF(C659=2,\"\",LEFT(J659,C659-3))","v":"19"},null,null,72289,"19.06","CAIXA DE INSPEÇÃO 80X80X80CM EM ALVENARIA - EXECUÇÃO",null,"UNID",3]
[null,null,{"$f":"C659","v":5},null,{"$f":"SUM(IF(LEFT($J659:$J$1088,C659)=J659,1))-1","v":0}]
["x",null,{"$f":"LEN(J661)","v":5},{"$f":"COUNTIF($J$18:$J$1102,J661)","v":1},{"$f":"IF(E662=0,1,E662)","v":1},{"$f":"IF(C661=2,\"\",LEFT(J661,C661-3))","v":"19"},null,null,"73799/001","19.07","GRELHA EM FERRO FUNDIDO, DIMENSÕES 30X90CM, 85KG PARA CX RALO, FORNECIDA E ASSENTADA COM ARGAMASSA 1:4 CIMENTO:AREIA.",null,"UNID",14]
[null,null,{"$f":"C661","v":5},null,{"$f":"SUM(IF(LEFT($J661:$J$1102,C661)=J661,1))-1","v":0}]
[null,null,{"$f":"LEN(J663)","v":5},{"$f":"COUNTIF($J$18:$J$1088,J663)","v":1},{"$f":"IF(E664=0,1,E664)","v":1},{"$f":"IF(C663=2,\"\",LEFT(J663,C663-3))","v":"19"},null,null,73481,"19.08","ESCAVACAO MANUAL DE VALAS EM TERRA COMPACTA, PROF. 0 M < H <= 1 M",null,"m³",92.33]
[null,null,{"$f":"C663","v":5},null,{"$f":"SUM(IF(LEFT($J663:$J$1088,C663)=J663,1))-1","v":0}]
[null,null,{"$f":"LEN(J665)","v":5},{"$f":"COUNTIF($J$18:$J$1102,J665)","v":1},{"$f":"IF(E666=0,1,E666)","v":1},{"$f":"IF(C665=2,\"\",LEFT(J665,C665-3))","v":"19"},null,null,5622,"19.09","REGULARIZACAO E COMPACTACAO MANUAL DE TERRENO COM SOQUETE (FUNDO DE VALA)",null,"M2",109.9]
[null,null,{"$f":"C665","v":5},null,{"$f":"SUM(IF(LEFT($J665:$J$1102,C665)=J665,1))-1","v":0}]
[null,null,{"$f":"LEN(J667)","v":5},{"$f":"COUNTIF($J$18:$J$1102,J667)","v":1},{"$f":"IF(E668=0,1,E668)","v":1},{"$f":"IF(C667=2,\"\",LEFT(J667,C667-3))","v":"19"},null,null,"74115/001","19.10","EXECUÇÃO DE LASTRO EM CONCRETO (1:2,5:6), PREPARO MANUAL - Envelopamento de tubulação sob pavimentação, esp. 10cm",null,"M3",2.15]
[null,null,{"$f":"C667","v":5},null,{"$f":"SUM(IF(LEFT($J667:$J$1102,C667)=J667,1))-1","v":0}]
[null,null,{"$f":"LEN(J669)","v":5},{"$f":"COUNTIF($J$18:$J$1102,J669)","v":1},{"$f":"IF(E670=0,1,E670)","v":1},{"$f":"IF(C669=2,\"\",LEFT(J669,C669-3))","v":"19"},null,null,"74164/004","19.11","LASTRO DE BRITA esp. 5cm",null,"M3",6.35]
[null,null,{"$f":"C669","v":5},null,{"$f":"SUM(IF(LEFT($J669:$J$1102,C669)=J669,1))-1","v":0}]
[null,null,{"$f":"LEN(J671)","v":5},{"$f":"COUNTIF($J$18:$J$1102,J671)","v":1},{"$f":"IF(E672=0,1,E672)","v":1},{"$f":"IF(C671=2,\"\",LEFT(J671,C671-3))","v":"19"},null,null,"73964/006","19.12","REATERRO DE VALA COM COMPACTAÇÃO MANUAL",null,"m3",68.650000000000006]
[null,null,{"$f":"C671","v":5},null,{"$f":"SUM(IF(LEFT($J671:$J$1102,C671)=J671,1))-1","v":0}]
[null,null,{"$f":"LEN(J673)","v":5},{"$f":"COUNTIF($J$18:$J$1102,J673)","v":1},{"$f":"IF(E674=0,1,E674)","v":1},{"$f":"IF(C673=2,\"\",LEFT(J673,C673-3))","v":"19"},null,null,72209,"19.13","CARGA MANUAL E REMOCAO E ENTULHO COM TRANSPORTE ATE 1KM EM CAMINHAO BASCULANTE 6M3",null,"m3",20.55]
[null,null,{"$f":"C673","v":5},null,{"$f":"SUM(IF(LEFT($J673:$J$1102,C673)=J673,1))-1","v":0}]
[null,null,{"$f":"LEN(J675)","v":5},{"$f":"COUNTIF($J$18:$J$1102,J675)","v":1},{"$f":"IF(E676=0,1,E676)","v":1},{"$f":"IF(C675=2,\"\",LEFT(J675,C675-3))","v":"19"},null,null,83659,"19.14","BOCA DE LOBO EM ALVENARIA TIJOLO MACICO, REVESTIDA C/ ARGAMASSA DE CIMENTO E AREIA 1:3, SOBRE LASTRO DE CONCRETO 10CM E TAMPA DE CONCRETO ARMADO",null,"Und",11]
[null,null,{"$f":"C675","v":5},null,{"$f":"SUM(IF(LEFT($J675:$J$1102,C675)=J675,1))-1","v":0}]
[null,null,{"$f":"LEN(J677)","v":2},{"$f":"COUNTIF($J$18:$J$1082,J677)","v":1},{"$f":"IF(E678=0,1,E678)","v":7},{"$f":"IF(C677=2,\"\",LEFT(J677,C677-3))","v":""},null,null,null,"20","INSTALAÇÕES GLP",null,"",0]
[null,null,{"$f":"C677","v":2},null,{"$f":"SUM(IF(LEFT($J677:$J$1082,C677)=J677,1))-1","v":7},null,null,null,null,null,null,null,null,0]
[null,null,{"$f":"LEN(J679)","v":5},{"$f":"COUNTIF($J$18:$J$1114,J679)","v":1},{"$f":"IF(E680=0,1,E680)","v":1},{"$f":"IF(C679=2,\"\",LEFT(J679,C679-3))","v":"20"},null,null,"74061/001","20.01","TUBO DE COBRE Ø1/2\" - FORNECIMENTO E INSTALACAO",null,"M",27.5]
[null,null,{"$f":"C679","v":5},null,{"$f":"SUM(IF(LEFT($J679:$J$1114,C679)=J679,1))-1","v":0}]
[null,null,{"$f":"LEN(J681)","v":5},{"$f":"COUNTIF($J$18:$J$1114,J681)","v":1},{"$f":"IF(E682=0,1,E682)","v":1},{"$f":"IF(C681=2,\"\",LEFT(J681,C681-3))","v":"20"},null,null,"79517/001","20.02","ESCAVACAO MANUAL EM SOLO-PROF. ATE 1,50 M",null,"M3",4.97]
[null,null,{"$f":"C681","v":5},null,{"$f":"SUM(IF(LEFT($J681:$J$1114,C681)=J681,1))-1","v":0}]
[null,null,{"$f":"LEN(J683)","v":5},{"$f":"COUNTIF($J$18:$J$1114,J683)","v":1},{"$f":"IF(E684=0,1,E684)","v":1},{"$f":"IF(C683=2,\"\",LEFT(J683,C683-3))","v":"20"},null,null,5622,"20.03","REGULARIZACAO E COMPACTACAO MANUAL DE FUNDO DE VALA COM SOQUETE ",null,"M2",{"$f":"25.5*0.3","v":7.6499999999999995}]
[null,null,{"$f":"C683","v":5},null,{"$f":"SUM(IF(LEFT($J683:$J$1114,C683)=J683,1))-1","v":0}]
[null,null,{"$f":"LEN(J685)","v":5},{"$f":"COUNTIF($J$18:$J$1114,J685)","v":1},{"$f":"IF(E686=0,1,E686)","v":1},{"$f":"IF(C685=2,\"\",LEFT(J685,C685-3))","v":"20"},null,null,"74115/001","20.04","EXECUÇÃO DE LASTRO EM CONCRETO (1:2,5:6), PREPARO MANUAL H=15CM,CONFORME PROJETO",null,"M3",{"$f":"0.3*25.5*0.15","v":1.1475}]
[null,null,{"$f":"C685","v":5},null,{"$f":"SUM(IF(LEFT($J685:$J$1114,C685)=J685,1))-1","v":0}]
[null,null,{"$f":"LEN(J687)","v":5},{"$f":"COUNTIF($J$18:$J$1114,J687)","v":1},{"$f":"IF(E688=0,1,E688)","v":1},{"$f":"IF(C687=2,\"\",LEFT(J687,C687-3))","v":"20"},null,null,73692,"20.05","LASTRO DE AREIA MEDIA H=23CM, CONFORME PROJETO",null,"M3",{"$f":"25.5*0.3*0.23","v":1.7595000000000001}]
[null,null,{"$f":"C687","v":5},null,{"$f":"SUM(IF(LEFT($J687:$J$1114,C687)=J687,1))-1","v":0}]
[null,null,{"$f":"LEN(J689)","v":5},{"$f":"COUNTIF($J$18:$J$1114,J689)","v":1},{"$f":"IF(E690=0,1,E690)","v":1},{"$f":"IF(C689=2,\"\",LEFT(J689,C689-3))","v":"20"},null,null,"73964/006","20.06","REATERRO DE VALA COM COMPACTAÇÃO MANUAL H=27CM, CONFORME PROJETO",null,"m3",{"$f":"25.5*0.3*0.27","v":2.0655000000000001}]
[null,null,{"$f":"C689","v":5},null,{"$f":"SUM(IF(LEFT($J689:$J$1114,C689)=J689,1))-1","v":0}]
[null,null,{"$f":"LEN(J691)","v":5},{"$f":"COUNTIF($J$18:$J$1114,J691)","v":1},{"$f":"IF(E692=0,1,E692)","v":1},{"$f":"IF(C691=2,\"\",LEFT(J691,C691-3))","v":"20"},null,null,72209,"20.07","CARGA MANUAL E REMOCAO E ENTULHO COM TRANSPORTE ATE 1KM EM CAMINHAO BASCULANTE 6M3",null,"m3",{"$f":"(N681-N689)*1.35","v":3.9210749999999996}]
[null,null,{"$f":"C691","v":5},null,{"$f":"SUM(IF(LEFT($J691:$J$1114,C691)=J691,1))-1","v":0}]
[null,null,{"$f":"LEN(J693)","v":2},{"$f":"COUNTIF($J$18:$J$1082,J693)","v":1},{"$f":"IF(E694=0,1,E694)","v":51},{"$f":"IF(C693=2,\"\",LEFT(J693,C693-3))","v":""},null,null,null,"21","ESQUADRIAS ",null,"",0]
[null,null,{"$f":"C693","v":2},null,{"$f":"SUM(IF(LEFT($J693:$J$1082,C693)=J693,1))-1","v":51},null,null,null,null,null,null,null,null,0]
[null,null,{"$f":"LEN(J695)","v":5},{"$f":"COUNTIF($J$18:$J$1082,J695)","v":1},{"$f":"IF(E696=0,1,E696)","v":15},{"$f":"IF(C695=2,\"\",LEFT(J695,C695-3))","v":"21"},null,null,null,"21.01","Esquadrias de madeira ",null,"",0]
[null,null,{"$f":"C695","v":5},null,{"$f":"SUM(IF(LEFT($J695:$J$1082,C695)=J695,1))-1","v":15},null,null,null,null,null,null,null,null,0]
[null,null,{"$f":"LEN(J697)","v":8},{"$f":"COUNTIF($J$18:$J$1082,J697)","v":1},{"$f":"IF(E698=0,1,E698)","v":8},{"$f":"IF(C697=2,\"\",LEFT(J697,C697-3))","v":"21.01"},null,null,null,"21.01.01","Portas ",null,"",0]
[null,null,{"$f":"C697","v":8},null,{"$f":"SUM(IF(LEFT($J697:$J$1082,C697)=J697,1))-1","v":8},null,null,null,null,null,null,null,null,0]
[null,null,{"$f":"LEN(J699)","v":11},{"$f":"COUNTIF($J$18:$J$1082,J699)","v":1},{"$f":"IF(E700=0,1,E700)","v":1},{"$f":"IF(C699=2,\"\",LEFT(J699,C699-3))","v":"21.01.01"},null,null,"74139/002","21.01.01.01","PA1 - PORTA DE MADEIRA PARA BANHEIRO, EM CHAPA DE MADEIRA COMPENSADA, REVESTIDA COM LAMINADO TEXTURIZADO, 60X160CM, INCLUSO MARCO E DOBRADICAS",null,"UNID",4]
[null,null,{"$f":"C699","v":11},null,{"$f":"SUM(IF(LEFT($J699:$J$1082,C699)=J699,1))-1","v":0},null,null,null,null,null,null,null,null,0]
[null,null,{"$f":"LEN(J701)","v":11},{"$f":"COUNTIF($J$18:$J$1082,J701)","v":1},{"$f":"IF(E702=0,1,E702)","v":1},{"$f":"IF(C701=2,\"\",LEFT(J701,C701-3))","v":"21.01.01"},null,null,"73934/001","21.01.01.02","PC1 - PORTA EM CHAPA DE FIBRA DE EUCALIPTO LISA PARA PINTURA, 80X210X3,5CM INCLUSO ADUELA 2A, ALIZAR 2A E DOBRADICAS (Fechadura cotada no item 10.01.03.04 e pintura esmalte cotada nos itens 20.02.01 e 20.02.02)",null,"UNID",32]
[null,null,{"$f":"C701","v":11},null,{"$f":"SUM(IF(LEFT($J701:$J$1082,C701)=J701,1))-1","v":0},null,null,null,null,null,null,null,null,0]
[null,null,{"$f":"LEN(J703)","v":11},{"$f":"COUNTIF($J$18:$J$1082,J703)","v":1},{"$f":"IF(E704=0,1,E704)","v":1},{"$f":"IF(C703=2,\"\",LEFT(J703,C703-3))","v":"21.01.01"},null,null,"CPU0009","21.01.01.03","PC2 - Porta chapeada madeira com visor, pintura esmalte sintético acetinado 80X210 cm  (Fechadura cotada no item 10.01.03.04 e pintura esmalte cotada nos itens 20.02.01 e 20.02.02)",null,"UNID",12]
[null,null,{"$f":"C703","v":11},null,{"$f":"SUM(IF(LEFT($J703:$J$1082,C703)=J703,1))-1","v":0},null,null,null,null,null,null,null,null,0]
[null,null,{"$f":"LEN(J705)","v":11},{"$f":"COUNTIF($J$18:$J$1082,J705)","v":1},{"$f":"IF(E706=0,1,E706)","v":1},{"$f":"IF(C705=2,\"\",LEFT(J705,C705-3))","v":"21.01.01"},null,null,"74139/001","21.01.01.04","PC3 - Porta em laminado melamínico estrutural ts, a prova d'água, acabamento texturizado,  80X160 cm (Barras consideradas no item 10.01.03.05)",null,"UNID",4]
[null,null,{"$f":"C705","v":11},null,{"$f":"SUM(IF(LEFT($J705:$J$1082,C705)=J705,1))-1","v":0},null,null,null,null,null,null,null,null,0]
[null,null,{"$f":"LEN(J707)","v":11},{"$f":"COUNTIF($J$18:$J$1082,J707)","v":1},{"$f":"IF(E708=0,1,E708)","v":1},{"$f":"IF(C707=2,\"\",LEFT(J707,C707-3))","v":"21.01.01"},null,null,"73934/001","21.01.01.05","PC4 - PORTA EM CHAPA DE FIBRA DE EUCALIPTO LISA PARA PINTURA, 80X210X3,5CM INCLUSO ADUELA 2A, ALIZAR 2A E DOBRADICAS (dobradiças vai-e-vem cotadas no item 10.01.03.01, fechadura cotada no item 10.01.03.04, pintura esmalte cotada nos itens 20.02.01 e 20.02.02, barras cotadas no item 10.01.03.05)",null,"UNID",9]
[null,null,{"$f":"C707","v":11},null,{"$f":"SUM(IF(LEFT($J707:$J$1082,C707)=J707,1))-1","v":0},null,null,null,null,null,null,null,null,0]
[null,null,{"$f":"LEN(J709)","v":11},{"$f":"COUNTIF($J$18:$J$1082,J709)","v":1},{"$f":"IF(E710=0,1,E710)","v":1},{"$f":"IF(C709=2,\"\",LEFT(J709,C709-3))","v":"21.01.01"},null,null,"73910/010","21.01.01.06","PD1 - PORTA DE MADEIRA COMPENSADA LISA PARA PINTURA, 90X210X3,5CM, INCLUSO ADUELA 2A, ALIZAR 2A E DOBRADICAS  (Fechadura cotada no item 10.01.03.04 e pintura esmalte cotada nos itens 20.02.01 e 20.02.02)",null,"UNID",1]
[null,null,{"$f":"C709","v":11},null,{"$f":"SUM(IF(LEFT($J709:$J$1082,C709)=J709,1))-1","v":0},null,null,null,null,null,null,null,null,0]
[null,null,{"$f":"LEN(J711)","v":11},{"$f":"COUNTIF($J$18:$J$1082,J711)","v":1},{"$f":"IF(E712=0,1,E712)","v":1},{"$f":"IF(C711=2,\"\",LEFT(J711,C711-3))","v":"21.01.01"},null,null,"CPU0010","21.01.01.07","PH2 - Porta chapeada madeira com visor,  2 folhas (70+70), pintura esm. sintético acetinado 140X210 cm   (Fechadura cotada no item 10.01.03.04 e pintura esmalte cotada nos itens 20.02.01 e 20.02.02)",null,"UNID",3]
[null,null,{"$f":"C711","v":11},null,{"$f":"SUM(IF(LEFT($J711:$J$1082,C711)=J711,1))-1","v":0},null,null,null,null,null,null,null,null,0]
[null,null,{"$f":"LEN(J713)","v":11},{"$f":"COUNTIF($J$18:$J$1082,J713)","v":1},{"$f":"IF(E714=0,1,E714)","v":1},{"$f":"IF(C713=2,\"\",LEFT(J713,C713-3))","v":"21.01.01"},null,null,"CPU0010","21.01.01.08","PH4 - Porta vai e vem 2fls (70+70 cm) chapeada madeira com visor, pintura esm. sintético acetinado 140X210 cm    (Dobradiças vai-e-vem cotadas no item 10.01.03.01, fechadura cotada no item 10.01.03.04 e pintura esmalte cotada nos itens 20.02.01 e 20.02.02)",null,"UNID",4]
[null,null,{"$f":"C713","v":11},null,{"$f":"SUM(IF(LEFT($J713:$J$1082,C713)=J713,1))-1","v":0},null,null,null,null,null,null,null,null,0]
[null,null,{"$f":"LEN(J715)","v":8},{"$f":"COUNTIF($J$18:$J$1082,J715)","v":1},{"$f":"IF(E716=0,1,E716)","v":5},{"$f":"IF(C715=2,\"\",LEFT(J715,C715-3))","v":"21.01"},null,null,null,"21.01.02","Ferragens e complementos ",null,null,0]
[null,null,{"$f":"C715","v":8},null,{"$f":"SUM(IF(LEFT($J715:$J$1082,C715)=J715,1))-1","v":5},null,null,null,null,null,null,null,null,0]
[null,null,{"$f":"LEN(J717)","v":11},{"$f":"COUNTIF($J$18:$J$1082,J717)","v":1},{"$f":"IF(E718=0,1,E718)","v":1},{"$f":"IF(C717=2,\"\",LEFT(J717,C717-3))","v":"21.01.02"},null,null,"73736/001","21.01.02.01","DOBRADICA TIPO VAI E VEM EM LATAO POLIDO 3\"",null,"UNID",51]
[null,null,{"$f":"C717","v":11},null,{"$f":"SUM(IF(LEFT($J717:$J$1082,C717)=J717,1))-1","v":0},null,null,null,null,null,null,null,null,0]
[null,null,{"$f":"LEN(J719)","v":11},{"$f":"COUNTIF($J$18:$J$1082,J719)","v":1},{"$f":"IF(E720=0,1,E720)","v":1},{"$f":"IF(C719=2,\"\",LEFT(J719,C719-3))","v":"21.01.02"},null,null,"74068/003","21.01.02.02","FECHADURA DE EMBUTIR COMPLETA, PARA PORTAS EXTERNAS, PADRAO DE ACABAMENTO SUPERIOR",null,"UNID",68]
[null,null,{"$f":"C719","v":11},null,{"$f":"SUM(IF(LEFT($J719:$J$1082,C719)=J719,1))-1","v":0},null,null,null,null,null,null,null,null,0]
["y",null,{"$f":"LEN(J721)","v":11},{"$f":"COUNTIF($J$18:$J$1082,J721)","v":1},{"$f":"IF(E722=0,1,E722)","v":1},{"$f":"IF(C721=2,\"\",LEFT(J721,C721-3))","v":"21.01.02"},null,null,"Cotação","21.01.02.03","Barra para portas de sanitários PNE",null,"UNID",8]
[null,null,{"$f":"C721","v":11},null,{"$f":"SUM(IF(LEFT($J721:$J$1082,C721)=J721,1))-1","v":0},null,null,null,null,null,null,null,null,0]
[null,null,{"$f":"LEN(J723)","v":11},{"$f":"COUNTIF($J$18:$J$1082,J723)","v":1},{"$f":"IF(E724=0,1,E724)","v":1},{"$f":"IF(C723=2,\"\",LEFT(J723,C723-3))","v":"21.01.02"},null,null,"Cotação","21.01.02.04","Conjunto de ferragens para porta de correr com montagem por fora da alvenaria ",null,"CONJ",1]
[null,null,{"$f":"C723","v":11},null,{"$f":"SUM(IF(LEFT($J723:$J$1082,C723)=J723,1))-1","v":0},null,null,null,null,null,null,null,null,0]
[null,null,{"$f":"LEN(J725)","v":11},{"$f":"COUNTIF($J$18:$J$1082,J725)","v":1},{"$f":"IF(E726=0,1,E726)","v":1},{"$f":"IF(C725=2,\"\",LEFT(J725,C725-3))","v":"21.01.02"},null,null,"74069/002","21.01.02.05","Trinco das portas PA1 e PC3 (box banheiros) - FECHADURA DE EMBUTIR COMPLETA, PARA PORTAS DE BANHEIRO, PADRAO DE ACABAMENTO SUPERIOR",null,"Conjunto",1]
[null,null,{"$f":"C725","v":11},null,{"$f":"SUM(IF(LEFT($J725:$J$1082,C725)=J725,1))-1","v":0},null,null,null,null,null,null,null,null,0]
[null,null,{"$f":"LEN(J727)","v":5},{"$f":"COUNTIF($J$18:$J$1082,J727)","v":1},{"$f":"IF(E728=0,1,E728)","v":25},{"$f":"IF(C727=2,\"\",LEFT(J727,C727-3))","v":"21"},null,null,null,"21.02","Esquadrias de alumínio",null,"",0]
[null,null,{"$f":"C727","v":5},null,{"$f":"SUM(IF(LEFT($J727:$J$1082,C727)=J727,1))-1","v":25},null,null,null,null,null,null,null,null,0]
[null,null,{"$f":"LEN(J729)","v":8},{"$f":"COUNTIF($J$18:$J$1082,J729)","v":1},{"$f":"IF(E730=0,1,E730)","v":4},{"$f":"IF(C729=2,\"\",LEFT(J729,C729-3))","v":"21.02"},null,null,null,"21.02.01","Portas ",null,"",0]
[null,null,{"$f":"C729","v":8},null,{"$f":"SUM(IF(LEFT($J729:$J$1082,C729)=J729,1))-1","v":4},null,null,null,null,null,null,null,null,0]
[null,null,{"$f":"LEN(J731)","v":11},{"$f":"COUNTIF($J$18:$J$1082,J731)","v":1},{"$f":"IF(E732=0,1,E732)","v":1},{"$f":"IF(C731=2,\"\",LEFT(J731,C731-3))","v":"21.02.01"},null,null,68050,"21.02.01.01","PH3 - Porta 2fls (70+70 cm) em quadro de alumínio anodizado fosco e vidro incolor 6mm 140X210 cm",null,"M2",{"$f":"Y731*Z731","v":8.82},null,null,null,null,null,null,null,null,1.4,2.1,{"$f":"W731*X731","v":2.94},3]
[null,null,{"$f":"C731","v":11},null,{"$f":"SUM(IF(LEFT($J731:$J$1082,C731)=J731,1))-1","v":0},null,null,null,null,null,null,null,null,0,null,null,null,null,null,null,null,null,null,null,null,0]
[null,null,{"$f":"LEN(J733)","v":11},{"$f":"COUNTIF($J$18:$J$1082,J733)","v":1},{"$f":"IF(E734=0,1,E734)","v":1},{"$f":"IF(C733=2,\"\",LEFT(J733,C733-3))","v":"21.02.01"},null,null,68050,"21.02.01.02","PJ1 - Porta 2fls (80+80 cm), em quadro de alumínio anodizado fosco e vidro incolor 6mm 160X250 cm",null,"M2",{"$f":"Y733*Z733","v":8},null,null,null,null,null,null,null,null,1.6,2.5,4,2]
[null,null,{"$f":"C733","v":11},null,{"$f":"SUM(IF(LEFT($J733:$J$1082,C733)=J733,1))-1","v":0},null,null,null,null,null,null,null,null,0,null,null,null,null,null,null,null,null,null,null,null,0]
[null,null,{"$f":"LEN(J735)","v":11},{"$f":"COUNTIF($J$18:$J$1082,J735)","v":1},{"$f":"IF(E736=0,1,E736)","v":1},{"$f":"IF(C735=2,\"\",LEFT(J735,C735-3))","v":"21.02.01"},null,null,68050,"21.02.01.03","PJ2 - Porta 2fls (80+80 cm) de correr, em quadro de alumínio anodizado fosco e vidro incolor 6mm 160X210 cm",null,"M2",{"$f":"Y735*Z735","v":23.520000000000003},null,null,null,null,null,null,null,null,1.6,2.1,3.3600000000000003,7]
[null,null,{"$f":"C735","v":11},null,{"$f":"SUM(IF(LEFT($J735:$J$1082,C735)=J735,1))-1","v":0},null,null,null,null,null,null,null,null,0,null,null,null,null,null,null,null,null,null,null,null,0]
[null,null,{"$f":"LEN(J737)","v":11},{"$f":"COUNTIF($J$18:$J$1082,J737)","v":1},{"$f":"IF(E738=0,1,E738)","v":1},{"$f":"IF(C737=2,\"\",LEFT(J737,C737-3))","v":"21.02.01"},null,null,85010,"21.02.01.04","D4 - Esquadria em alumínio anodizado fosco, perfil extrudado e vidro incolor",null,"M2",{"$f":"Y737*Z737","v":70.728000000000009},null,null,null,null,null,null,null,null,1,1,1,70.728000000000009]
[null,null,{"$f":"C737","v":11},null,{"$f":"SUM(IF(LEFT($J737:$J$1082,C737)=J737,1))-1","v":0},null,null,null,null,null,null,null,null,0,null,null,null,null,null,null,null,null,null,null,null,0]
[null,null,{"$f":"LEN(J739)","v":8},{"$f":"COUNTIF($J$18:$J$1082,J739)","v":1},{"$f":"IF(E740=0,1,E740)","v":19},{"$f":"IF(C739=2,\"\",LEFT(J739,C739-3))","v":"21.02"},null,null,null,"21.02.02","Janelas ",null,"",{"$f":"Y739*Z739","v":0}]
[null,null,{"$f":"C739","v":8},null,{"$f":"SUM(IF(LEFT($J739:$J$1082,C739)=J739,1))-1","v":19},null,null,null,null,null,null,null,null,0]
[null,null,{"$f":"LEN(J741)","v":11},{"$f":"COUNTIF($J$18:$J$1082,J741)","v":1},{"$f":"IF(E742=0,1,E742)","v":1},{"$f":"IF(C741=2,\"\",LEFT(J741,C741-3))","v":"21.02.02"},null,null,"73809/001","21.02.02.01","JAN 01 - Esquadria tipo maximo ar com bandeira fixa, em alumínio anodizado fosco, perfil extrudado e vidro laminado 6mm incolor 220X100 cm",null,"M2",{"$f":"Y741*Z741","v":8.8000000000000007},null,null,null,null,null,null,null,null,2.2000000000000002,1,{"$f":"W741*X741","v":2.2000000000000002},4]
[null,null,{"$f":"C741","v":11},null,{"$f":"SUM(IF(LEFT($J741:$J$1082,C741)=J741,1))-1","v":0},null,null,null,null,null,null,null,null,0,null,null,null,null,null,null,null,null,null,null,null,0]
[null,null,{"$f":"LEN(J743)","v":11},{"$f":"COUNTIF($J$18:$J$1082,J743)","v":1},{"$f":"IF(E744=0,1,E744)","v":1},{"$f":"IF(C743=2,\"\",LEFT(J743,C743-3))","v":"21.02.02"},null,null,"73809/001","21.02.02.02","JAN 02 - Esquadria tipo maximo ar, em alumínio anodizado fosco, perfil extrudado e vidro laminado 6mm incolor 160X70 cm",null,"M2",{"$f":"Y743*Z743","v":4.4799999999999995},null,null,null,null,null,null,null,null,1.6,0.7,1.1199999999999999,4]
[null,null,{"$f":"C743","v":11},null,{"$f":"SUM(IF(LEFT($J743:$J$1082,C743)=J743,1))-1","v":0},null,null,null,null,null,null,null,null,0]
[null,null,{"$f":"LEN(J745)","v":11},{"$f":"COUNTIF($J$18:$J$1082,J745)","v":1},{"$f":"IF(E746=0,1,E746)","v":1},{"$f":"IF(C745=2,\"\",LEFT(J745,C745-3))","v":"21.02.02"},null,null,"74067/002","21.02.02.03","JAN 03 - Esquadria de correr, em alumínio anodizado fosco, perfil extrudado e vidro laminado 6mm incolor 200x100 cm",null,"M2",{"$f":"Y745*Z745","v":2},null,null,null,null,null,null,null,null,2,1,2,1]
[null,null,{"$f":"C745","v":11},null,{"$f":"SUM(IF(LEFT($J745:$J$1082,C745)=J745,1))-1","v":0},null,null,null,null,null,null,null,null,0]
[null,null,{"$f":"LEN(J747)","v":11},{"$f":"COUNTIF($J$18:$J$1082,J747)","v":1},{"$f":"IF(E748=0,1,E748)","v":1},{"$f":"IF(C747=2,\"\",LEFT(J747,C747-3))","v":"21.02.02"},null,null,68052,"21.02.02.04","JAN 04 - Esquadria tipo basculante, em alumínio anodizado fosco, perfil extrudado e vidro laminado 6mm incolor 180X190 cm",null,"M2",{"$f":"Y747*Z747","v":6.84},null,null,null,null,null,null,null,null,1.8,1.9,3.42,2]
[null,null,{"$f":"C747","v":11},null,{"$f":"SUM(IF(LEFT($J747:$J$1082,C747)=J747,1))-1","v":0},null,null,null,null,null,null,null,null,0]
[null,null,{"$f":"LEN(J749)","v":11},{"$f":"COUNTIF($J$18:$J$1082,J749)","v":1},{"$f":"IF(E750=0,1,E750)","v":1},{"$f":"IF(C749=2,\"\",LEFT(J749,C749-3))","v":"21.02.02"},null,null,"73809/001","21.02.02.05","JAN 01 - Esquadria tipo maximo ar com bandeira fixa, em alumínio anodizado fosco, perfil extrudado e vidro laminado 6mm incolor 200X100 cm",null,"M2",{"$f":"Y749*Z749","v":58},null,null,null,null,null,null,null,null,2,1,2,29]
[null,null,{"$f":"C749","v":11},null,{"$f":"SUM(IF(LEFT($J749:$J$1082,C749)=J749,1))-1","v":0},null,null,null,null,null,null,null,null,0]
[null,null,{"$f":"LEN(J751)","v":11},{"$f":"COUNTIF($J$18:$J$1082,J751)","v":1},{"$f":"IF(E752=0,1,E752)","v":1},{"$f":"IF(C751=2,\"\",LEFT(J751,C751-3))","v":"21.02.02"},null,null,"73809/001","21.02.02.06","JAN 02 - Esquadria tipo maximo ar, em alumínio anodizado fosco, perfil extrudado e vidro laminado 6mm incolor 100X50 cm",null,"M2",{"$f":"Y751*Z751","v":4},null,null,null,null,null,null,null,null,1,0.5,0.5,8]
[null,null,{"$f":"C751","v":11},null,{"$f":"SUM(IF(LEFT($J751:$J$1082,C751)=J751,1))-1","v":0},null,null,null,null,null,null,null,null,0]
[null,null,{"$f":"LEN(J753)","v":11},{"$f":"COUNTIF($J$18:$J$1082,J753)","v":1},{"$f":"IF(E754=0,1,E754)","v":1},{"$f":"IF(C753=2,\"\",LEFT(J753,C753-3))","v":"21.02.02"},null,null,"73809/001","21.02.02.07","JAN 02 - Esquadria tipo maximo ar, em alumínio anodizado fosco, perfil extrudado e vidro laminado 6mm incolor 200X50 cm",null,"M2",{"$f":"Y753*Z753","v":3},null,null,null,null,null,null,null,null,2,0.5,1,3]
[null,null,{"$f":"C753","v":11},null,{"$f":"SUM(IF(LEFT($J753:$J$1082,C753)=J753,1))-1","v":0},null,null,null,null,null,null,null,null,0]
[null,null,{"$f":"LEN(J755)","v":11},{"$f":"COUNTIF($J$18:$J$1082,J755)","v":1},{"$f":"IF(E756=0,1,E756)","v":1},{"$f":"IF(C755=2,\"\",LEFT(J755,C755-3))","v":"21.02.02"},null,null,68052,"21.02.02.08","JAN 04 - Esquadria tipo basculante, em alumínio anodizado fosco, perfil extrudado e vidro laminado 6mm incolor 210X190 cm",null,"M2",{"$f":"Y755*Z755","v":3.9899999999999998},null,null,null,null,null,null,null,null,2.1,1.9,3.9899999999999998,1]
[null,null,{"$f":"C755","v":11},null,{"$f":"SUM(IF(LEFT($J755:$J$1082,C755)=J755,1))-1","v":0},null,null,null,null,null,null,null,null,0,null,null,null,null,null,null,null,null,null,null,null,0]
[null,null,{"$f":"LEN(J757)","v":11},{"$f":"COUNTIF($J$18:$J$1082,J757)","v":1},{"$f":"IF(E758=0,1,E758)","v":1},{"$f":"IF(C757=2,\"\",LEFT(J757,C757-3))","v":"21.02.02"},null,null,68052,"21.02.02.09","JAN 04 - Esquadria tipo basculante, em alumínio anodizado fosco, perfil extrudado e vidro laminado 6mm incolor 450X190 cm",null,"M2",{"$f":"Y757*Z757","v":8.5499999999999989},null,null,null,null,null,null,null,null,4.5,1.9,8.5499999999999989,1]
[null,null,{"$f":"C757","v":11},null,{"$f":"SUM(IF(LEFT($J757:$J$1082,C757)=J757,1))-1","v":0},null,null,null,null,null,null,null,null,0,null,null,null,null,null,null,null,null,null,null,null,0]
[null,null,{"$f":"LEN(J759)","v":11},{"$f":"COUNTIF($J$18:$J$1082,J759)","v":1},{"$f":"IF(E760=0,1,E760)","v":1},{"$f":"IF(C759=2,\"\",LEFT(J759,C759-3))","v":"21.02.02"},null,null,68052,"21.02.02.10","JAN 04 - Esquadria tipo basculante, em alumínio anodizado fosco, perfil extrudado e vidro laminado 6mm incolor 150X100 cm",null,"M2",{"$f":"Y759*Z759","v":1.5},null,null,null,null,null,null,null,null,1.5,1,1.5,1]
[null,null,{"$f":"C759","v":11},null,{"$f":"SUM(IF(LEFT($J759:$J$1082,C759)=J759,1))-1","v":0},null,null,null,null,null,null,null,null,0,null,null,null,null,null,null,null,null,null,null,null,0]
[null,null,{"$f":"LEN(J761)","v":11},{"$f":"COUNTIF($J$18:$J$1082,J761)","v":1},{"$f":"IF(E762=0,1,E762)","v":1},{"$f":"IF(C761=2,\"\",LEFT(J761,C761-3))","v":"21.02.02"},null,null,"73809/001","21.02.02.11","JAN 01 - Esquadria tipo maximo ar com bandeira fixa, em alumínio anodizado fosco, perfil extrudado e vidro laminado 6mm incolor 150X100 cm",null,"M2",{"$f":"Y761*Z761","v":1.5},null,null,null,null,null,null,null,null,1.5,1,1.5,1]
[null,null,{"$f":"C761","v":11},null,{"$f":"SUM(IF(LEFT($J761:$J$1082,C761)=J761,1))-1","v":0},null,null,null,null,null,null,null,null,0,null,null,null,null,null,null,null,null,null,null,null,0]
[null,null,{"$f":"LEN(J763)","v":11},{"$f":"COUNTIF($J$18:$J$1082,J763)","v":1},{"$f":"IF(E764=0,1,E764)","v":1},{"$f":"IF(C763=2,\"\",LEFT(J763,C763-3))","v":"21.02.02"},null,null,68052,"21.02.02.12","JAN 04 - Esquadria tipo basculante, em alumínio anodizado fosco, perfil extrudado e vidro laminado 6mm incolor 720X220 cm",null,"M2",{"$f":"Y763*Z763","v":15.840000000000002},null,null,null,null,null,null,null,null,7.2,2.2000000000000002,15.840000000000002,1]
[null,null,{"$f":"C763","v":11},null,{"$f":"SUM(IF(LEFT($J763:$J$1082,C763)=J763,1))-1","v":0},null,null,null,null,null,null,null,null,0,null,null,null,null,null,null,null,null,null,null,null,0]
[null,null,{"$f":"LEN(J765)","v":11},{"$f":"COUNTIF($J$18:$J$1082,J765)","v":1},{"$f":"IF(E766=0,1,E766)","v":1},{"$f":"IF(C765=2,\"\",LEFT(J765,C765-3))","v":"21.02.02"},null,null,68052,"21.02.02.13","JAN 04 - Esquadria tipo basculante, em alumínio anodizado fosco, perfil extrudado e vidro laminado 6mm incolor 150X220 cm",null,"M2",{"$f":"Y765*Z765","v":6.6000000000000005},null,null,null,null,null,null,null,null,1.5,2.2000000000000002,3.3000000000000003,2]
[null,null,{"$f":"C765","v":11},null,{"$f":"SUM(IF(LEFT($J765:$J$1082,C765)=J765,1))-1","v":0},null,null,null,null,null,null,null,null,0,null,null,null,null,null,null,null,null,null,null,null,0]
[null,null,{"$f":"LEN(J767)","v":11},{"$f":"COUNTIF($J$18:$J$1082,J767)","v":1},{"$f":"IF(E768=0,1,E768)","v":1},{"$f":"IF(C767=2,\"\",LEFT(J767,C767-3))","v":"21.02.02"},null,null,"73809/001","21.02.02.14","JAN 01 - Esquadria tipo maximo ar com bandeira fixa, em alumínio anodizado fosco, perfil extrudado e vidro laminado 6mm incolor 100X100 cm",null,"M2",{"$f":"Y767*Z767","v":2},null,null,null,null,null,null,null,null,1,1,1,2]
[null,null,{"$f":"C767","v":11},null,{"$f":"SUM(IF(LEFT($J767:$J$1082,C767)=J767,1))-1","v":0},null,null,null,null,null,null,null,null,0]
[null,null,{"$f":"LEN(J769)","v":11},{"$f":"COUNTIF($J$18:$J$1094,J769)","v":1},{"$f":"IF(E770=0,1,E770)","v":1},{"$f":"IF(C769=2,\"\",LEFT(J769,C769-3))","v":"21.02.02"},null,null,"73809/001","21.02.02.16","Esquadria alta para área de convivência interna 1180x103cm",null,"M2",{"$f":"Y769*Z769","v":24.308000000000003},null,null,null,null,null,null,null,0.5,11.8,1.03,{"$f":"W769*X769","v":12.154000000000002},2]
[null,null,{"$f":"C769","v":11},null,{"$f":"SUM(IF(LEFT($J769:$J$1094,C769)=J769,1))-1","v":0},null,null,null,null,null,null,null,null,0,null,null,null,null,null,null,null,null,null,null,null,0]
[null,null,{"$f":"LEN(J771)","v":11},{"$f":"COUNTIF($J$18:$J$1094,J771)","v":1},{"$f":"IF(E772=0,1,E772)","v":1},{"$f":"IF(C771=2,\"\",LEFT(J771,C771-3))","v":"21.02.02"},null,null,"73809/001","21.02.02.17","Esquadria alta para ginásio 1175x108cm",null,"M2",{"$f":"Y771*Z771","v":12.690000000000001},null,null,null,null,null,null,null,0.5,11.75,1.08,{"$f":"W771*X771","v":12.690000000000001},1]
[null,null,{"$f":"C771","v":11},null,{"$f":"SUM(IF(LEFT($J771:$J$1094,C771)=J771,1))-1","v":0},null,null,null,null,null,null,null,null,0,null,null,null,null,null,null,null,null,null,null,null,0]
[null,null,{"$f":"LEN(J773)","v":11},{"$f":"COUNTIF($J$18:$J$1094,J773)","v":1},{"$f":"IF(E774=0,1,E774)","v":1},{"$f":"IF(C773=2,\"\",LEFT(J773,C773-3))","v":"21.02.02"},null,null,"73809/001","21.02.02.18","Esquadria alta para ginásio 1175x147cm",null,"M2",{"$f":"Y773*Z773","v":17.272500000000001},null,null,null,null,null,null,null,0.5,11.75,1.47,{"$f":"W773*X773","v":17.272500000000001},1]
[null,null,{"$f":"C773","v":11},null,{"$f":"SUM(IF(LEFT($J773:$J$1094,C773)=J773,1))-1","v":0},null,null,null,null,null,null,null,null,0,null,null,null,null,null,null,null,null,null,null,null,0]
[null,null,{"$f":"LEN(J775)","v":11},{"$f":"COUNTIF($J$18:$J$1096,J775)","v":1},{"$f":"IF(E776=0,1,E776)","v":1},{"$f":"IF(C775=2,\"\",LEFT(J775,C775-3))","v":"21.02.02"},null,null,"73809/001","21.02.02.19","Esquadria tipo maximo ar, em alumínio anodizado fosco, perfil extrudado e vidro laminado 6mm incolor 70X70 cm",null,"M2",{"$f":"Y775*Z775","v":0.48999999999999994},null,null,null,null,null,null,null,0.7,0.7,0.7,{"$f":"W775*X775","v":0.48999999999999994},1]
[null,null,{"$f":"C775","v":11},null,{"$f":"SUM(IF(LEFT($J775:$J$1096,C775)=J775,1))-1","v":0},null,null,null,null,null,null,null,null,0,null,null,null,null,null,null,null,null,null,null,null,0]
[null,null,{"$f":"LEN(J777)","v":11},{"$f":"COUNTIF($J$18:$J$1082,J777)","v":1},{"$f":"IF(E778=0,1,E778)","v":1},{"$f":"IF(C777=2,\"\",LEFT(J777,C777-3))","v":"21.02.02"},null,null,68052,"21.02.02.20","JAN 04 - Esquadria tipo basculante, em alumínio anodizado fosco, perfil extrudado e vidro laminado 6mm incolor 280X220 cm",null,"M2",{"$f":"Y777*Z777","v":12.32},null,null,null,null,null,null,null,null,2.8,2.2000000000000002,{"$f":"W777*X777","v":6.16},2]
[null,null,{"$f":"C777","v":11},null,{"$f":"SUM(IF(LEFT($J777:$J$1082,C777)=J777,1))-1","v":0},null,null,null,null,null,null,null,null,0,null,null,null,null,null,null,null,null,null,null,null,0]
[null,null,{"$f":"LEN(J779)","v":5},{"$f":"COUNTIF($J$18:$J$1082,J779)","v":1},{"$f":"IF(E780=0,1,E780)","v":6},{"$f":"IF(C779=2,\"\",LEFT(J779,C779-3))","v":"21"},null,null,null,"21.03","Esquadrias de aço ",null,"",0]
[null,null,{"$f":"C779","v":5},null,{"$f":"SUM(IF(LEFT($J779:$J$1082,C779)=J779,1))-1","v":6},null,null,null,null,null,null,null,null,0]
[null,null,{"$f":"LEN(J781)","v":8},{"$f":"COUNTIF($J$18:$J$1082,J781)","v":1},{"$f":"IF(E782=0,1,E782)","v":1},{"$f":"IF(C781=2,\"\",LEFT(J781,C781-3))","v":"21.03"},null,null,"74072/003","21.03.01","CO - Corrimão tubular (∅ 1x1/4\") em aço  ( pintura no item 20.02.04)",null,"M",121.6]
[null,null,{"$f":"C781","v":8},null,{"$f":"SUM(IF(LEFT($J781:$J$1082,C781)=J781,1))-1","v":0},null,null,null,null,null,null,null,null,0]
["y",null,{"$f":"LEN(J783)","v":8},{"$f":"COUNTIF($J$18:$J$1082,J783)","v":1},{"$f":"IF(E784=0,1,E784)","v":1},{"$f":"IF(C783=2,\"\",LEFT(J783,C783-3))","v":"21.03"},null,null,"Cotação","21.03.02","GC - Guarda-corpo / corrimão tubular + montantes vigas \"i\" e cabo de aço",null,"M",41.95]
[null,null,{"$f":"C783","v":8},null,{"$f":"SUM(IF(LEFT($J783:$J$1082,C783)=J783,1))-1","v":0}]
["y",null,{"$f":"LEN(J785)","v":8},{"$f":"COUNTIF($J$18:$J$1260,J785)","v":1},{"$f":"IF(E786=0,1,E786)","v":1},{"$f":"IF(C785=2,\"\",LEFT(J785,C785-3))","v":"21.03"},null,null,"Cotação","21.03.03","Chapa de  aço inox de 0,5mm para proteção da base das portas com barras  para PNEs",null,"M²",33.54]
[null,null,{"$f":"C785","v":8},null,{"$f":"SUM(IF(LEFT($J785:$J$1260,C785)=J785,1))-1","v":0},null,null,null,null,null,null,null,null,0]
[null,null,{"$f":"LEN(J787)","v":8},{"$f":"COUNTIF($J$18:$J$1208,J787)","v":1},{"$f":"IF(E788=0,1,E788)","v":1},{"$f":"IF(C787=2,\"\",LEFT(J787,C787-3))","v":"21.03"},null,null,"73933/003","21.03.04","ESQUADRIA DE FERRO TIPO VENEZIANA",null,"M2",1.2]
[null,null,{"$f":"C787","v":8},null,{"$f":"SUM(IF(LEFT($J787:$J$1208,C787)=J787,1))-1","v":0}]
[null,null,{"$f":"LEN(J789)","v":8},{"$f":"COUNTIF($J$18:$J$1208,J789)","v":1},{"$f":"IF(E790=0,1,E790)","v":1},{"$f":"IF(C789=2,\"\",LEFT(J789,C789-3))","v":"21.03"},null,null,"73787/001","21.03.05","Tela de arame 12 BWG, malha 13x13 ",null,"M2",0.6]
[null,null,{"$f":"C789","v":8},null,{"$f":"SUM(IF(LEFT($J789:$J$1208,C789)=J789,1))-1","v":0}]
[null,null,{"$f":"LEN(J791)","v":8},{"$f":"COUNTIF($J$18:$J$1208,J791)","v":1},{"$f":"IF(E792=0,1,E792)","v":1},{"$f":"IF(C791=2,\"\",LEFT(J791,C791-3))","v":"21.03"},null,null,"74238/002","21.03.06","Portão tubular de aço 1 ¼” com tela soldada 5x5 ",null,"M2",1.57]
[null,null,{"$f":"C791","v":8},null,{"$f":"SUM(IF(LEFT($J791:$J$1208,C791)=J791,1))-1","v":0}]
[null,null,{"$f":"LEN(J793)","v":5},{"$f":"COUNTIF($J$18:$J$1076,J793)","v":1},{"$f":"IF(E794=0,1,E794)","v":1},{"$f":"IF(C793=2,\"\",LEFT(J793,C793-3))","v":"21"},null,null,null,"21.04","Cortinas vinílicas ",null,"",0]
[null,null,{"$f":"C793","v":5},null,{"$f":"SUM(IF(LEFT($J793:$J$1076,C793)=J793,1))-1","v":1},null,null,null,null,null,null,null,null,0]
["Y",null,{"$f":"LEN(J795)","v":8},{"$f":"COUNTIF($J$18:$J$1076,J795)","v":1},{"$f":"IF(E796=0,1,E796)","v":1},{"$f":"IF(C795=2,\"\",LEFT(J795,C795-3))","v":"21.04"},null,null,"Cotação","21.04.01","Cortinas vinílicas H=200cm",null,"ML",{"$f":"13*1.35","v":17.55}]
[null,null,{"$f":"C795","v":8},null,{"$f":"SUM(IF(LEFT($J795:$J$1076,C795)=J795,1))-1","v":0},null,null,null,null,null,null,null,null,0]
[null,null,{"$f":"LEN(J797)","v":2},{"$f":"COUNTIF($J$18:$J$1082,J797)","v":1},{"$f":"IF(E798=0,1,E798)","v":5},{"$f":"IF(C797=2,\"\",LEFT(J797,C797-3))","v":""},null,null,null,"22","VIDROS",null,"",0]
[null,null,{"$f":"C797","v":2},null,{"$f":"SUM(IF(LEFT($J797:$J$1082,C797)=J797,1))-1","v":5},null,null,null,null,null,null,null,null,0]
[null,null,{"$f":"LEN(J799)","v":5},{"$f":"COUNTIF($J$18:$J$1082,J799)","v":1},{"$f":"IF(E800=0,1,E800)","v":2},{"$f":"IF(C799=2,\"\",LEFT(J799,C799-3))","v":"22"},null,null,null,"22.01","Esquadrias de vidro ",null,"",0]
[null,null,{"$f":"C799","v":5},null,{"$f":"SUM(IF(LEFT($J799:$J$1082,C799)=J799,1))-1","v":2},null,null,null,null,null,null,null,null,0]
[null,null,{"$f":"LEN(J801)","v":8},{"$f":"COUNTIF($J$18:$J$1082,J801)","v":1},{"$f":"IF(E802=0,1,E802)","v":1},{"$f":"IF(C801=2,\"\",LEFT(J801,C801-3))","v":"22.01"},null,null,"73838/001","22.01.01","PC5 - Porta em vidro temperado 10mm, com puxador em aço inoxidável, e mola hidráulica no piso 80X210 cm",null,"UNID",3]
[null,null,{"$f":"C801","v":8},null,{"$f":"SUM(IF(LEFT($J801:$J$1082,C801)=J801,1))-1","v":0},null,null,null,null,null,null,null,null,0]
[null,null,{"$f":"LEN(J803)","v":8},{"$f":"COUNTIF($J$18:$J$1082,J803)","v":1},{"$f":"IF(E804=0,1,E804)","v":1},{"$f":"IF(C803=2,\"\",LEFT(J803,C803-3))","v":"22.01"},null,null,"73838/001","22.01.02","PE1 - Porta de correr, em vidro temperado 10mm, com puxador em aço inoxidável 100X210 cm",null,"UNID",2.1]
[null,null,{"$f":"C803","v":8},null,{"$f":"SUM(IF(LEFT($J803:$J$1082,C803)=J803,1))-1","v":0},null,null,null,null,null,null,null,null,0]
[null,null,{"$f":"LEN(J805)","v":5},{"$f":"COUNTIF($J$18:$J$1082,J805)","v":1},{"$f":"IF(E806=0,1,E806)","v":1},{"$f":"IF(C805=2,\"\",LEFT(J805,C805-3))","v":"22"},null,null,null,"22.02","Vidraçaria ",null,"",0]
[null,null,{"$f":"C805","v":5},null,{"$f":"SUM(IF(LEFT($J805:$J$1082,C805)=J805,1))-1","v":1},null,null,null,null,null,null,null,null,0]
[null,null,{"$f":"LEN(J807)","v":8},{"$f":"COUNTIF($J$18:$J$1082,J807)","v":1},{"$f":"IF(E808=0,1,E808)","v":1},{"$f":"IF(C807=2,\"\",LEFT(J807,C807-3))","v":"22.02"},null,null,"CPU0008","22.02.01","D2 - Divisória em vidro temperado 12mm",null,"M2",43.65]
[null,null,{"$f":"C807","v":8},null,{"$f":"SUM(IF(LEFT($J807:$J$1082,C807)=J807,1))-1","v":0},null,null,null,null,null,null,null,null,0]
[null,null,{"$f":"LEN(J809)","v":2},{"$f":"COUNTIF($J$18:$J$1082,J809)","v":1},{"$f":"IF(E810=0,1,E810)","v":6},{"$f":"IF(C809=2,\"\",LEFT(J809,C809-3))","v":""},null,null,null,"23","MARCENARIA ",null,"",0]
[null,null,{"$f":"C809","v":2},null,{"$f":"SUM(IF(LEFT($J809:$J$1082,C809)=J809,1))-1","v":6},null,null,null,null,null,null,null,null,0]
[null,null,{"$f":"LEN(J811)","v":5},{"$f":"COUNTIF($J$18:$J$1082,J811)","v":1},{"$f":"IF(E812=0,1,E812)","v":5},{"$f":"IF(C811=2,\"\",LEFT(J811,C811-3))","v":"23"},null,null,null,"23.01","Armarios ",null,"",0]
[null,null,{"$f":"C811","v":5},null,{"$f":"SUM(IF(LEFT($J811:$J$1082,C811)=J811,1))-1","v":5},null,null,null,null,null,null,null,null,0]
[null,null,{"$f":"LEN(J813)","v":8},{"$f":"COUNTIF($J$18:$J$1082,J813)","v":1},{"$f":"IF(E814=0,1,E814)","v":1},{"$f":"IF(C813=2,\"\",LEFT(J813,C813-3))","v":"23.01"},null,null,"Cotação","23.01.01","A1 - Armário modulado sob bancada em mdf, com revestimento em laminado texturizado branco e puxador tipo \"alça\" em aço escovado conforme projeto específico",null,"M2",5.17]
[null,null,{"$f":"C813","v":8},null,{"$f":"SUM(IF(LEFT($J813:$J$1082,C813)=J813,1))-1","v":0},null,null,null,null,null,null,null,null,0]
[null,null,{"$f":"LEN(J815)","v":8},{"$f":"COUNTIF($J$18:$J$1082,J815)","v":1},{"$f":"IF(E816=0,1,E816)","v":1},{"$f":"IF(C815=2,\"\",LEFT(J815,C815-3))","v":"23.01"},null,null,"Cotação","23.01.02","A2 - Armário modulado de parede em mdf, com revestimento em laminado texturizado branco e puxador tipo \"alça\" em aço escovado  conforme projeto específico",null,"M2",6.84]
[null,null,{"$f":"C815","v":8},null,{"$f":"SUM(IF(LEFT($J815:$J$1082,C815)=J815,1))-1","v":0},null,null,null,null,null,null,null,null,0]
[null,null,{"$f":"LEN(J817)","v":8},{"$f":"COUNTIF($J$18:$J$1100,J817)","v":1},{"$f":"IF(E818=0,1,E818)","v":1},{"$f":"IF(C817=2,\"\",LEFT(J817,C817-3))","v":"23.01"},null,null,"Cotação","23.01.03","A3- Armário modulado de parede em mdf, com revestimento em laminado texturizado branco e puxador tipo \"alça\" em aço escovado conforme projeto específico",null,"M²",1.27]
[null,null,{"$f":"C817","v":8},null,{"$f":"SUM(IF(LEFT($J817:$J$1100,C817)=J817,1))-1","v":0}]
[null,null,{"$f":"LEN(J819)","v":8},{"$f":"COUNTIF($J$18:$J$1082,J819)","v":1},{"$f":"IF(E820=0,1,E820)","v":1},{"$f":"IF(C819=2,\"\",LEFT(J819,C819-3))","v":"23.01"},null,null,"Cotação","23.01.04","T3 - tampo (h = 75 cm) em mdf (20 mm) revestido com laminado melamínico post-forming na cor branca",null,"M2",6.58]
[null,null,{"$f":"C819","v":8},null,{"$f":"SUM(IF(LEFT($J819:$J$1082,C819)=J819,1))-1","v":0},null,null,null,null,null,null,null,null,0]
[null,null,{"$f":"LEN(J821)","v":8},{"$f":"COUNTIF($J$18:$J$1094,J821)","v":1},{"$f":"IF(E822=0,1,E822)","v":1},{"$f":"IF(C821=2,\"\",LEFT(J821,C821-3))","v":"23.01"},null,null,"Cotação","23.01.05","Móvel de apoio \"Atrio/Prescrição médica\"",null,"M2",{"$f":"1.2*3.5","v":4.2}]
[null,null,{"$f":"C821","v":8},null,{"$f":"SUM(IF(LEFT($J821:$J$1094,C821)=J821,1))-1","v":0},null,null,null,null,null,null,null,null,0]
[null,null,{"$f":"LEN(J823)","v":2},{"$f":"COUNTIF($J$18:$J$1082,J823)","v":1},{"$f":"IF(E824=0,1,E824)","v":18},{"$f":"IF(C823=2,\"\",LEFT(J823,C823-3))","v":""},null,null,null,"24","PISOS E PAVIMENTAÇÃO INTERNA",null,"",0]
[null,null,{"$f":"C823","v":2},null,{"$f":"SUM(IF(LEFT($J823:$J$1082,C823)=J823,1))-1","v":18},null,null,null,null,null,null,null,null,0]
[null,null,{"$f":"LEN(J825)","v":5},{"$f":"COUNTIF($J$18:$J$1082,J825)","v":1},{"$f":"IF(E826=0,1,E826)","v":3},{"$f":"IF(C825=2,\"\",LEFT(J825,C825-3))","v":"24"},null,null,null,"24.01","Serviços complentares ao piso",null,null,0]
[null,null,{"$f":"C825","v":5},null,{"$f":"SUM(IF(LEFT($J825:$J$1082,C825)=J825,1))-1","v":3},null,null,null,null,null,null,null,null,0]
[null,null,{"$f":"LEN(J827)","v":8},{"$f":"COUNTIF($J$18:$J$1082,J827)","v":1},{"$f":"IF(E828=0,1,E828)","v":1},{"$f":"IF(C827=2,\"\",LEFT(J827,C827-3))","v":"24.01"},null,null,"74005/001","24.01.01","COMPACTACAO MECANICA, SEM CONTROLE DO GC (C/COMPACTADOR PLACA 400 KG) - CONSIDERADO ESPESSURA DE 10CM",null,"M3",{"$f":"N829*0.1","v":143.65}]
[null,null,{"$f":"C827","v":8},null,{"$f":"SUM(IF(LEFT($J101:$J$1082,C827)=J827,1))-1","v":0},null,null,null,null,null,null,null,null,0]
[null,null,{"$f":"LEN(J829)","v":8},{"$f":"COUNTIF($J$18:$J$1092,J829)","v":2},{"$f":"IF(E830=0,1,E830)","v":1},{"$f":"IF(C829=2,\"\",LEFT(J829,C829-3))","v":"24.01"},null,null,"73907/003","24.01.02","CONTRAPISO/LASTRO DE CONCRETO NAO-ESTRUTURAL, E=5CM, PREPARO COM BETONEIRA",null,"M2",{"$f":"N831","v":1436.5}]
[null,null,{"$f":"C829","v":8},null,{"$f":"SUM(IF(LEFT($J93:$J$1092,C829)=J829,1))-1","v":1},null,null,null,null,null,null,null,null,0]
[null,null,{"$f":"LEN(J831)","v":8},{"$f":"COUNTIF($J$18:$J$1082,J831)","v":2},{"$f":"IF(E832=0,1,E832)","v":1},{"$f":"IF(C831=2,\"\",LEFT(J831,C831-3))","v":"24.01"},null,null,87645,"24.01.02","CONTRAPISO EM ARGAMASSA TRAÇO 1:4 (CIMENTO E AREIA), PREPARO MECÂNICOCOM BETONEIRA 400 L, APLICADO EM ÁREAS SECAS MAIORES QUE 10M2 SOBRE LAJE, ADERIDO, ESPESSURA 2CM, ACABAMENTO REFORÇADO. AF_06/2014",null,"M2",{"$f":"SUM(N837:N850)","v":1436.5}]
[null,null,{"$f":"C831","v":8},null,{"$f":"SUM(IF(LEFT($J831:$J$1082,C831)=J831,1))-1","v":0},null,null,null,null,null,null,null,null,0]
[null,null,{"$f":"LEN(J833)","v":5},{"$f":"COUNTIF($J$18:$J$1082,J833)","v":1},{"$f":"IF(E834=0,1,E834)","v":8},{"$f":"IF(C833=2,\"\",LEFT(J833,C833-3))","v":"24"},null,null,null,"24.02","Pisos internos ",null,"",0]
[null,null,{"$f":"C833","v":5},null,{"$f":"SUM(IF(LEFT($J833:$J$1082,C833)=J833,1))-1","v":8},null,null,null,null,null,null,null,null,0]
[null,null,{"$f":"LEN(J835)","v":8},{"$f":"COUNTIF($J$18:$J$1082,J835)","v":1},{"$f":"IF(E836=0,1,E836)","v":1},{"$f":"IF(C835=2,\"\",LEFT(J835,C835-3))","v":"24.02"},null,null,null,"24.02.01","Cerâmicos",null,null,0]
[null,null,{"$f":"C835","v":8},null,{"$f":"SUM(IF(LEFT($J835:$J$1082,C835)=J835,1))-1","v":1},null,null,null,null,null,null,null,null,0]
[null,null,{"$f":"LEN(J837)","v":11},{"$f":"COUNTIF($J$18:$J$1082,J837)","v":1},{"$f":"IF(E838=0,1,E838)","v":1},{"$f":"IF(C837=2,\"\",LEFT(J837,C837-3))","v":"24.02.01"},null,null,87249,"24.02.01.01","P01 - Piso ceramico 45 X 45 cm cor champagne matte - PISO CERAMICO PADRAO MEDIO PEI 4 ASSENTADO SOBRE ARGAMASSA DE CIMENTO COLANTE REJUNTADO COM CIMENTO BRANCO.",null,"M2",76.23]
[null,null,{"$f":"C837","v":11},null,{"$f":"SUM(IF(LEFT($J837:$J$1082,C837)=J837,1))-1","v":0},null,null,null,null,null,null,null,null,0]
[null,null,{"$f":"LEN(J839)","v":8},{"$f":"COUNTIF($J$18:$J$1082,J839)","v":1},{"$f":"IF(E840=0,1,E840)","v":3},{"$f":"IF(C839=2,\"\",LEFT(J839,C839-3))","v":"24.02"},null,null,null,"24.02.02","Porcelanato",null,"",0]
[null,null,{"$f":"C839","v":8},null,{"$f":"SUM(IF(LEFT($J839:$J$1082,C839)=J839,1))-1","v":3},null,null,null,null,null,null,null,null,0]
[null,null,{"$f":"LEN(J841)","v":11},{"$f":"COUNTIF($J$18:$J$1082,J841)","v":1},{"$f":"IF(E842=0,1,E842)","v":1},{"$f":"IF(C841=2,\"\",LEFT(J841,C841-3))","v":"24.02.02"},null,null,"CPU0021","24.02.02.01","REVESTIMENTO PARA PISO COM PLACAS TIPO PORCELANATO DE DIMENSÕES 60X60CM APLICADA EM AMBIENTES DE ÁREA MAIOR QUE 10 M². AF_06/2014",null,"M2",1075.52]
[null,null,{"$f":"C841","v":11},null,{"$f":"SUM(IF(LEFT($J841:$J$1082,C841)=J841,1))-1","v":0},null,null,null,null,null,null,null,null,0]
[null,null,{"$f":"LEN(J843)","v":11},{"$f":"COUNTIF($J$18:$J$1082,J843)","v":1},{"$f":"IF(E844=0,1,E844)","v":1},{"$f":"IF(C843=2,\"\",LEFT(J843,C843-3))","v":"24.02.02"},null,null,"CPU0022","24.02.02.02","Piso porcelanato técnico de textura de sinalização tátil alerta/ direcional colorido 24,5 x 24,5 cm Cor 1 ",null,"M2",{"$f":"92.02-N845","v":39.76}]
[null,null,{"$f":"C843","v":11},null,{"$f":"SUM(IF(LEFT($J839:$J$1082,C843)=J843,1))-1","v":0}]
[null,null,{"$f":"LEN(J845)","v":11},{"$f":"COUNTIF($J$18:$J$1082,J845)","v":1},{"$f":"IF(E846=0,1,E846)","v":1},{"$f":"IF(C845=2,\"\",LEFT(J845,C845-3))","v":"24.02.02"},null,null,"CPU0023","24.02.02.03","Piso porcelanato técnico de textura de sinalização tátil alerta/ direcional colorido 24,5 x 24,5 cm  Cor 2",null,"M2",52.26]
[null,null,{"$f":"C845","v":11},null,{"$f":"SUM(IF(LEFT($J845:$J$1082,C845)=J845,1))-1","v":0},null,null,null,null,null,null,null,null,0]
[null,null,{"$f":"LEN(J847)","v":8},{"$f":"COUNTIF($J$18:$J$1082,J847)","v":1},{"$f":"IF(E848=0,1,E848)","v":1},{"$f":"IF(C847=2,\"\",LEFT(J847,C847-3))","v":"24.02"},null,null,null,"24.02.03","Sintéticos e Vinílicos",null,"",0]
[null,null,{"$f":"C847","v":8},null,{"$f":"SUM(IF(LEFT($J847:$J$1082,C847)=J847,1))-1","v":1},null,null,null,null,null,null,null,null,0]
[null,null,{"$f":"LEN(J849)","v":11},{"$f":"COUNTIF($J$18:$J$1082,J849)","v":1},{"$f":"IF(E850=0,1,E850)","v":1},{"$f":"IF(C849=2,\"\",LEFT(J849,C849-3))","v":"24.02.03"},null,null,72185,"24.02.03.01","P03 - PISO VINILICO SEMIFLEXIVEL ESPESSURA 2MM, FIXADO COM COLA",null,"M2",192.73]
[null,null,{"$f":"C849","v":11},null,{"$f":"SUM(IF(LEFT($J849:$J$1082,C849)=J849,1))-1","v":0},null,null,null,null,null,null,null,null,0]
[null,null,{"$f":"LEN(J851)","v":5},{"$f":"COUNTIF($J$18:$J$1082,J851)","v":1},{"$f":"IF(E852=0,1,E852)","v":4},{"$f":"IF(C851=2,\"\",LEFT(J851,C851-3))","v":"24"},null,null,null,"24.03","Rodapés internos ",null,"",0]
[null,null,{"$f":"C851","v":5},null,{"$f":"SUM(IF(LEFT($J851:$J$1082,C851)=J851,1))-1","v":4},null,null,null,null,null,null,null,null,0]
[null,null,{"$f":"LEN(J853)","v":8},{"$f":"COUNTIF($J$18:$J$1082,J853)","v":1},{"$f":"IF(E854=0,1,E854)","v":1},{"$f":"IF(C853=2,\"\",LEFT(J853,C853-3))","v":"24.03"},null,null,null,"24.03.01","Porcelanato",null,"",0]
[null,null,{"$f":"C853","v":8},null,{"$f":"SUM(IF(LEFT($J853:$J$1082,C853)=J853,1))-1","v":1},null,null,null,null,null,null,null,null,0]
[null,null,{"$f":"LEN(J855)","v":11},{"$f":"COUNTIF($J$18:$J$1082,J855)","v":1},{"$f":"IF(E856=0,1,E856)","v":1},{"$f":"IF(C855=2,\"\",LEFT(J855,C855-3))","v":"24.03.01"},null,null,"CPU0024","24.03.01.01","RODAPE EM PORCELANATO ALTURA 8CM ASSENTADO SOBRE ARGAMASSA DE CIMENTO COLANTE REJUNTADO COM CIMENTO BRANCO",null,"M",854]
[null,null,{"$f":"C855","v":11},null,{"$f":"SUM(IF(LEFT($J855:$J$1082,C855)=J855,1))-1","v":0},null,null,null,null,null,null,null,null,0]
[null,null,{"$f":"LEN(J857)","v":8},{"$f":"COUNTIF($J$18:$J$1082,J857)","v":1},{"$f":"IF(E858=0,1,E858)","v":1},{"$f":"IF(C857=2,\"\",LEFT(J857,C857-3))","v":"24.03"},null,null,null,"24.03.02","Sintéticos e Vinílicos",null,"",0]
[null,null,{"$f":"C857","v":8},null,{"$f":"SUM(IF(LEFT($J857:$J$1082,C857)=J857,1))-1","v":1},null,null,null,null,null,null,null,null,0]
[null,null,{"$f":"LEN(J859)","v":11},{"$f":"COUNTIF($J$18:$J$1082,J859)","v":1},{"$f":"IF(E860=0,1,E860)","v":1},{"$f":"IF(C859=2,\"\",LEFT(J859,C859-3))","v":"24.03.02"},null,null,72189,"24.03.02.01","RODAPE VINILICO ALTURA 5CM, ESPESSURA 1MM, FIXADO COM COLA",null,"M",85]
[null,null,{"$f":"C859","v":11},null,{"$f":"SUM(IF(LEFT($J859:$J$1082,C859)=J859,1))-1","v":0},null,null,null,null,null,null,null,null,0]
[null,null,{"$f":"LEN(J861)","v":2},{"$f":"COUNTIF($J$18:$J$1082,J861)","v":1},{"$f":"IF(E862=0,1,E862)","v":11},{"$f":"IF(C861=2,\"\",LEFT(J861,C861-3))","v":""},null,null,null,"25","PISOS E PAVIMENTAÇÃO EXTERNA",null,"",0]
[null,null,{"$f":"C861","v":2},null,{"$f":"SUM(IF(LEFT($J861:$J$1082,C861)=J861,1))-1","v":11},null,null,null,null,null,null,null,null,0]
[null,null,{"$f":"LEN(J863)","v":5},{"$f":"COUNTIF($J$18:$J$1082,J863)","v":1},{"$f":"IF(E864=0,1,E864)","v":2},{"$f":"IF(C863=2,\"\",LEFT(J863,C863-3))","v":"25"},null,null,null,"25.01","Passeios ",null,null,0]
[null,null,{"$f":"C863","v":5},null,{"$f":"SUM(IF(LEFT($J863:$J$1082,C863)=J863,1))-1","v":2},null,null,null,null,null,null,null,null,0]
[null,null,{"$f":"LEN(J865)","v":8},{"$f":"COUNTIF($J$18:$J$1082,J865)","v":1},{"$f":"IF(E866=0,1,E866)","v":1},{"$f":"IF(C865=2,\"\",LEFT(J865,C865-3))","v":"25.01"},null,null,85181,"25.01.01","PASSEIO EM CONCRETO DESEMPENADO, TRACO 1:2,5:3,5 E ESPESSURA 5CM",null,"M2",{"$f":"204.88","v":204.88}]
[null,null,{"$f":"C865","v":8},null,{"$f":"SUM(IF(LEFT($J865:$J$1082,C865)=J865,1))-1","v":0},null,null,null,null,null,null,null,null,0]
[null,null,{"$f":"LEN(J867)","v":8},{"$f":"COUNTIF($J$18:$J$1082,J867)","v":1},{"$f":"IF(E868=0,1,E868)","v":1},{"$f":"IF(C867=2,\"\",LEFT(J867,C867-3))","v":"25.01"},null,null,"73763/001","25.01.02","MEIO-FIO E SARJETA DE CONCRETO MOLDADO NO LOCAL, USINADO 15 MPA, COM 0 M,65 M BASE X 0,30 M ALTURA, REJUNTE EM ARGAMASSA TRACO 1:3,5 (CIMENTO E AREIA)",null,"M",167.48]
[null,null,{"$f":"C867","v":8},null,{"$f":"SUM(IF(LEFT($J867:$J$1082,C867)=J867,1))-1","v":0},null,null,null,null,null,null,null,null,0]
[null,null,{"$f":"LEN(J869)","v":5},{"$f":"COUNTIF($J$18:$J$1082,J869)","v":1},{"$f":"IF(E870=0,1,E870)","v":4},{"$f":"IF(C869=2,\"\",LEFT(J869,C869-3))","v":"25"},null,null,null,"25.02","Pisos intertravados"]
[null,null,{"$f":"C869","v":5},null,{"$f":"SUM(IF(LEFT($J869:$J$1082,C869)=J869,1))-1","v":4},null,null,null,null,null,null,null,null,0]
[null,null,{"$f":"LEN(J871)","v":8},{"$f":"COUNTIF($J$18:$J$1082,J871)","v":1},{"$f":"IF(E872=0,1,E872)","v":1},{"$f":"IF(C871=2,\"\",LEFT(J871,C871-3))","v":"25.02"},null,null,5622,"25.02.01","REGULARIZACAO E COMPACTACAO MANUAL DE TERRENO COM SOQUETE",null,"M²",{"$f":"SUM(N875:N877)","v":133.79}]
[null,null,{"$f":"C871","v":8},null,{"$f":"SUM(IF(LEFT($J871:$J$1082,C871)=J871,1))-1","v":0}]
[null,null,{"$f":"LEN(J873)","v":8},{"$f":"COUNTIF($J$18:$J$1082,J873)","v":1},{"$f":"IF(E874=0,1,E874)","v":1},{"$f":"IF(C873=2,\"\",LEFT(J873,C873-3))","v":"25.02"},null,null,"74164/004","25.02.02","LASTRO DE BRITA ESP. 10CM",null,"M3",{"$f":"N875*0.1","v":2.581}]
[null,null,{"$f":"C873","v":8},null,{"$f":"SUM(IF(LEFT($J873:$J$1082,C873)=J873,1))-1","v":0}]
[null,null,{"$f":"LEN(J875)","v":8},{"$f":"COUNTIF($J$18:$J$1082,J875)","v":1},{"$f":"IF(E876=0,1,E876)","v":1},{"$f":"IF(C875=2,\"\",LEFT(J875,C875-3))","v":"25.02"},null,null,"Cotação","25.02.03","Piso de borracha intertravado na cor verde, com 50 mm de espessura, para uso externo  sobre cobertura de brita ",null,"M²",25.81]
[null,null,{"$f":"C875","v":8},null,{"$f":"SUM(IF(LEFT($J875:$J$1082,C875)=J875,1))-1","v":0},null,null,null,null,null,null,null,null,0]
[null,null,{"$f":"LEN(J877)","v":8},{"$f":"COUNTIF($J$18:$J$1082,J877)","v":1},{"$f":"IF(E878=0,1,E878)","v":1},{"$f":"IF(C877=2,\"\",LEFT(J877,C877-3))","v":"25.02"},null,null,"CPU0025","25.02.04","PAVIMENTACAO EM BLOCOS INTERTRAVADOS DE CONCRETO, ESPESSURA 6,0 CM, FCK 35MPA, ASSENTADOS SOBRE COLCHAO DE AREIA,  INCLUINDO PEÇAS ESPECÍFICAS PARA ROTA TÁTIL.",null,"M2",107.98]
[null,null,{"$f":"C877","v":8},null,{"$f":"SUM(IF(LEFT($J839:$J$1082,C877)=J877,1))-1","v":0},null,null,null,null,null,null,null,null,0]
[null,null,{"$f":"LEN(J879)","v":5},{"$f":"COUNTIF($J$18:$J$1092,J879)","v":1},{"$f":"IF(E880=0,1,E880)","v":2},{"$f":"IF(C879=2,\"\",LEFT(J879,C879-3))","v":"25"},null,null,null,"25.03","PISOS INDUSTRIAIS PARA APOIO DE GERADOR",null,null,0]
[null,null,{"$f":"C879","v":5},null,{"$f":"SUM(IF(LEFT($J879:$J$1092,C879)=J879,1))-1","v":2},null,null,null,null,null,null,null,null,0]
[null,null,{"$f":"LEN(J881)","v":8},{"$f":"COUNTIF($J$18:$J$1092,J881)","v":1},{"$f":"IF(E884=0,1,E884)","v":1},{"$f":"IF(C881=2,\"\",LEFT(J881,C881-3))","v":"25.03"},null,null,72136,"25.03.01","PISO INDUSTRIAL DE ALTA RESISTENCIA, ESPESSURA 8MM, INCLUSO JUNTAS DE DILATACAO PLASTICAS E POLIMENTO MECANIZADO PARA APOIO DE GERADOR",null,"M2",15]
[]
[null,null,{"$f":"LEN(J883)","v":8},{"$f":"COUNTIF($J$18:$J$1088,J883)","v":1},{"$f":"IF(E884=0,1,E884)","v":1},{"$f":"IF(C883=2,\"\",LEFT(J883,C883-3))","v":"25.03"},null,null,72137,"25.03.02","PISO INDUSTRIAL DE ALTA RESISTENCIA, ESPESSURA 12CM, INCLUSO JUNTAS DE DILATACAO PLASTICAS E POLIMENTO MECANIZADO PARA ÁREA DE DESEMBARQUE",null,"M2",222.23]
[null,null,{"$f":"C881","v":8},null,{"$f":"SUM(IF(LEFT($J881:$J$1092,C881)=J881,1))-1","v":0},null,null,null,null,null,null,null,null,0]
[null,null,{"$f":"LEN(J885)","v":2},{"$f":"COUNTIF($J$18:$J$1082,J885)","v":1},{"$f":"IF(E886=0,1,E886)","v":7},{"$f":"IF(C885=2,\"\",LEFT(J885,C885-3))","v":""},null,null,null,"26","REVESTIMENTO DE PAREDES INTERNAS",null,"",0]
[null,null,{"$f":"C885","v":2},null,{"$f":"SUM(IF(LEFT($J885:$J$1082,C885)=J885,1))-1","v":7},null,null,null,null,null,null,null,null,0]
[null,null,{"$f":"LEN(J887)","v":5},{"$f":"COUNTIF($J$18:$J$1082,J887)","v":1},{"$f":"IF(E888=0,1,E888)","v":6},{"$f":"IF(C887=2,\"\",LEFT(J887,C887-3))","v":"26"},null,null,null,"26.01","Revestimentos internos ",null,"",0]
[null,null,{"$f":"C887","v":5},null,{"$f":"SUM(IF(LEFT($J887:$J$1082,C887)=J887,1))-1","v":6},null,null,null,null,null,null,null,null,0]
[null,null,{"$f":"LEN(J889)","v":8},{"$f":"COUNTIF($J$18:$J$1082,J889)","v":1},{"$f":"IF(E890=0,1,E890)","v":2},{"$f":"IF(C889=2,\"\",LEFT(J889,C889-3))","v":"26.01"},null,null,null,"26.01.01","Argamassas",null,"",0]
[null,null,{"$f":"C889","v":8},null,{"$f":"SUM(IF(LEFT($J889:$J$1082,C889)=J889,1))-1","v":2},null,null,null,null,null,null,null,null,0]
[null,null,{"$f":"LEN(J891)","v":11},{"$f":"COUNTIF($J$18:$J$1092,J891)","v":1},{"$f":"IF(E892=0,1,E892)","v":1},{"$f":"IF(C891=2,\"\",LEFT(J891,C891-3))","v":"26.01.01"},null,null,87533,"26.01.01.01","MASSA ÚNICA, PARA RECEBIMENTO DE PINTURA, EM ARGAMASSA TRAÇO 1:2:8, PREPARO MECÂNICO COM BETONEIRA 400L, APLICADA MANUALMENTE EM FACES INTERNAS DE PAREDES DE AMBIENTES COM ÁREA MAIOR QUE 10M2, ESPESSURA DE 20MM, COM EXECUÇÃO DE TALISCAS. AF_06/2014",null,"M2",1789.2]
[null,null,{"$f":"C891","v":11},null,{"$f":"SUM(IF(LEFT($J891:$J$1092,C891)=J891,1))-1","v":0},null,null,null,null,null,null,null,null,0]
[null,null,{"$f":"LEN(J893)","v":11},{"$f":"COUNTIF($J$18:$J$1082,J893)","v":1},{"$f":"IF(E894=0,1,E894)","v":1},{"$f":"IF(C893=2,\"\",LEFT(J893,C893-3))","v":"26.01.01"},null,null,73397,"26.01.01.02","EMBOCO CIMENTO AREIA 1:4 ESP=1,5CM INCL CHAPISCO 1:3 E=9MM",null,"M2",1205.73]
[null,null,{"$f":"C893","v":11},null,{"$f":"SUM(IF(LEFT($J893:$J$1082,C893)=J893,1))-1","v":0},null,null,null,null,null,null,null,null,0]
[null,null,{"$f":"LEN(J895)","v":8},{"$f":"COUNTIF($J$18:$J$1082,J895)","v":1},{"$f":"IF(E896=0,1,E896)","v":2},{"$f":"IF(C895=2,\"\",LEFT(J895,C895-3))","v":"26.01"},null,null,null,"26.01.02","Revestimentos cerâmicos ",null,"",0]
[null,null,{"$f":"C895","v":8},null,{"$f":"SUM(IF(LEFT($J895:$J$1082,C895)=J895,1))-1","v":2},null,null,null,null,null,null,null,null,0]
[null,null,{"$f":"LEN(J897)","v":11},{"$f":"COUNTIF($J$18:$J$1082,J897)","v":1},{"$f":"IF(E898=0,1,E898)","v":1},{"$f":"IF(C897=2,\"\",LEFT(J897,C897-3))","v":"26.01.02"},null,null,87264,"26.01.02.01","R02 - Revestimento cerâmico 32 X 45 cm cor off white matte",null,"M2",172.42]
[null,null,{"$f":"C897","v":11},null,{"$f":"SUM(IF(LEFT($J897:$J$1082,C897)=J897,1))-1","v":0},null,null,null,null,null,null,null,null,0]
[null,null,{"$f":"LEN(J899)","v":11},{"$f":"COUNTIF($J$18:$J$1082,J899)","v":1},{"$f":"IF(E900=0,1,E900)","v":1},{"$f":"IF(C899=2,\"\",LEFT(J899,C899-3))","v":"26.01.02"},null,null,"CPU0020","26.01.02.02","REVESTIMENTO CERÂMICO PARA PAREDES EXTERNAS EM PASTILHAS DE PORCELANA 5 X 5 CM (PLACAS DE 30 X 30 CM), ALINHADAS A PRUMO, APLICADO EM PANOS COM VÃOS. AF_10/2014.",null,"M2",{"$f":"1033.31","v":1033.31}]
[null,null,{"$f":"C899","v":11},null,{"$f":"SUM(IF(LEFT($J899:$J$1082,C899)=J899,1))-1","v":0},null,null,null,null,null,null,null,null,0]
[null,null,{"$f":"LEN(J901)","v":2},{"$f":"COUNTIF($J$18:$J$1082,J901)","v":1},{"$f":"IF(E902=0,1,E902)","v":9},{"$f":"IF(C901=2,\"\",LEFT(J901,C901-3))","v":""},null,null,null,"27","REVESTIMENTO DE PAREDES EXTERNAS",null,"",0]
[null,null,{"$f":"C901","v":2},null,{"$f":"SUM(IF(LEFT($J901:$J$1082,C901)=J901,1))-1","v":9},null,null,null,null,null,null,null,null,0]
[null,null,{"$f":"LEN(J903)","v":5},{"$f":"COUNTIF($J$18:$J$1082,J903)","v":1},{"$f":"IF(E904=0,1,E904)","v":1},{"$f":"IF(C903=2,\"\",LEFT(J903,C903-3))","v":"27"},null,null,null,"27.01","Argamassas",null,"",0]
[null,null,{"$f":"C903","v":5},null,{"$f":"SUM(IF(LEFT($J903:$J$1082,C903)=J903,1))-1","v":1},null,null,null,null,null,null,null,null,0]
[null,null,{"$f":"LEN(J905)","v":8},{"$f":"COUNTIF($J$18:$J$1082,J905)","v":1},{"$f":"IF(E906=0,1,E906)","v":1},{"$f":"IF(C905=2,\"\",LEFT(J905,C905-3))","v":"27.01"},null,null,87533,"27.01.01","MASSA ÚNICA, PARA RECEBIMENTO DE PINTURA, EM ARGAMASSA TRAÇO 1:2:8, PREPARO MECÂNICO COM BETONEIRA 400L, APLICADA MANUALMENTE EM FACES INTERNAS DE PAREDES DE AMBIENTES COM ÁREA MAIOR QUE 10M2, ESPESSURA DE 20MM, COM EXECUÇÃO DE TALISCAS. AF_06/2014",null,"M2",1873.19]
[null,null,{"$f":"C905","v":8},null,{"$f":"SUM(IF(LEFT($J905:$J$1082,C905)=J905,1))-1","v":0},null,null,null,null,null,null,null,null,0]
[null,null,{"$f":"LEN(J907)","v":5},{"$f":"COUNTIF($J$18:$J$1082,J907)","v":1},{"$f":"IF(E908=0,1,E908)","v":1},{"$f":"IF(C907=2,\"\",LEFT(J907,C907-3))","v":"27"},null,null,null,"27.02","Revestimentos cerâmicos ",null,"",0]
[null,null,{"$f":"C907","v":5},null,{"$f":"SUM(IF(LEFT($J907:$J$1082,C907)=J907,1))-1","v":1},null,null,null,null,null,null,null,null,0]
[null,null,{"$f":"LEN(J909)","v":8},{"$f":"COUNTIF($J$18:$J$1082,J909)","v":1},{"$f":"IF(E910=0,1,E910)","v":1},{"$f":"IF(C909=2,\"\",LEFT(J909,C909-3))","v":"27.02"},null,null,"CPU0020","27.02.01","REVESTIMENTO CERÂMICO PARA PAREDES EXTERNAS EM PASTILHAS DE PORCELANA 5 X 5 CM (PLACAS DE 30 X 30 CM), ALINHADAS A PRUMO, APLICADO EM PANOS COM VÃOS. AF_10/2014.",null,"M2",1491.86]
[null,null,{"$f":"C909","v":8},null,{"$f":"SUM(IF(LEFT($J909:$J$1082,C909)=J909,1))-1","v":0},null,null,null,null,null,null,null,null,0]
[null,null,{"$f":"LEN(J911)","v":5},{"$f":"COUNTIF($J$18:$J$1082,J911)","v":1},{"$f":"IF(E912=0,1,E912)","v":2},{"$f":"IF(C911=2,\"\",LEFT(J911,C911-3))","v":"27"},null,null,null,"27.03","Diversos",null,"",0]
[null,null,{"$f":"C911","v":5},null,{"$f":"SUM(IF(LEFT($J911:$J$1082,C911)=J911,1))-1","v":2},null,null,null,null,null,null,null,null,0]
[null,null,{"$f":"LEN(J913)","v":8},{"$f":"COUNTIF($J$18:$J$1082,J913)","v":1},{"$f":"IF(E914=0,1,E914)","v":1},{"$f":"IF(C913=2,\"\",LEFT(J913,C913-3))","v":"27.03"},null,null,"73908/001","27.03.01","Perfis de alumínio para fachada - CANTONEIRA DE ALUMINIO 2\"X2\", PARA PROTECAO DE QUINA DE PAREDE",null,"M",282]
[null,null,{"$f":"C913","v":8},null,{"$f":"SUM(IF(LEFT($J913:$J$1082,C913)=J913,1))-1","v":0},null,null,null,null,null,null,null,null,0]
["y",null,{"$f":"LEN(J915)","v":8},{"$f":"COUNTIF($J$18:$J$1082,J915)","v":1},{"$f":"IF(E916=0,1,E916)","v":1},{"$f":"IF(C915=2,\"\",LEFT(J915,C915-3))","v":"27.03"},null,null,"Cotação","27.03.02","Revestimento com alumínio composto cor branco em placas com 2mm de espessura.",null,"M2",96.5]
[null,null,{"$f":"C915","v":8},null,{"$f":"SUM(IF(LEFT($J915:$J$1082,C915)=J915,1))-1","v":0},null,null,null,null,null,null,null,null,0]
[null,null,{"$f":"LEN(J917)","v":5},{"$f":"COUNTIF($J$18:$J$1074,J917)","v":1},{"$f":"IF(E918=0,1,E918)","v":1},{"$f":"IF(C917=2,\"\",LEFT(J917,C917-3))","v":"27"},null,null,null,"27.04","Revestimento com chapa perfurada",null,"",0]
[null,null,{"$f":"C917","v":5},null,{"$f":"SUM(IF(LEFT($J901:$J$1074,C917)=J917,1))-1","v":1},null,null,null,null,null,null,null,null,0]
["y",null,{"$f":"LEN(J919)","v":8},{"$f":"COUNTIF($J$18:$J$1074,J919)","v":1},{"$f":"IF(E920=0,1,E920)","v":1},{"$f":"IF(C919=2,\"\",LEFT(J919,C919-3))","v":"27.04"},null,null,"Cotação","27.04.01","Revestimento com chapa perfurada de aço carbono para fechamento de reservatório",null,"M2",28.78]
[null,null,{"$f":"C919","v":8},null,{"$f":"SUM(IF(LEFT($J919:$J$1074,C919)=J919,1))-1","v":0},null,null,null,null,null,null,null,null,0]
[null,null,{"$f":"LEN(J921)","v":2},{"$f":"COUNTIF($J$18:$J$1082,J921)","v":1},{"$f":"IF(E922=0,1,E922)","v":2},{"$f":"IF(C921=2,\"\",LEFT(J921,C921-3))","v":""},null,null,null,"28","FORROS",null,"",0]
[null,null,{"$f":"C921","v":2},null,{"$f":"SUM(IF(LEFT($J921:$J$1082,C921)=J921,1))-1","v":2},null,null,null,null,null,null,null,null,0]
[null,null,{"$f":"LEN(J923)","v":5},{"$f":"COUNTIF($J$18:$J$1082,J923)","v":1},{"$f":"IF(E924=0,1,E924)","v":1},{"$f":"IF(C923=2,\"\",LEFT(J923,C923-3))","v":"28"},null,null,87414,"28.01","APLICAÇÃO MANUAL DE GESSO DESEMPENADO (SEM TALISCAS) EM TETO DE AMBIENTES DE ÁREA MAIOR QUE 10M², ESPESSURA DE 1,0CM. AF_06/2014",null,"M2",1098.6400000000001]
[null,null,{"$f":"C923","v":5},null,{"$f":"SUM(IF(LEFT($J923:$J$1082,C923)=J923,1))-1","v":0},null,null,null,null,null,null,null,null,0]
["y",null,{"$f":"LEN(J925)","v":5},{"$f":"COUNTIF($J$18:$J$1082,J925)","v":1},{"$f":"IF(E926=0,1,E926)","v":1},{"$f":"IF(C925=2,\"\",LEFT(J925,C925-3))","v":"28"},null,null,"Cotação","28.02","Forro de PVC cor branco, cm réguas frisadas largura de 200mm",null,"M2",145.19999999999999]
[null,null,{"$f":"C925","v":5},null,{"$f":"SUM(IF(LEFT($J925:$J$1082,C925)=J925,1))-1","v":0},null,null,null,null,null,null,null,null,0]
[null,null,{"$f":"LEN(J927)","v":2},{"$f":"COUNTIF($J$18:$J$1082,J927)","v":1},{"$f":"IF(E928=0,1,E928)","v":44},{"$f":"IF(C927=2,\"\",LEFT(J927,C927-3))","v":""},null,null,null,"29","LOUÇAS E METAIS",null,"",0]
[null,null,{"$f":"C927","v":2},null,{"$f":"SUM(IF(LEFT($J927:$J$1082,C927)=J927,1))-1","v":44},null,null,null,null,null,null,null,null,0]
[null,null,{"$f":"LEN(J929)","v":5},{"$f":"COUNTIF($J$18:$J$1082,J929)","v":1},{"$f":"IF(E930=0,1,E930)","v":8},{"$f":"IF(C929=2,\"\",LEFT(J929,C929-3))","v":"29"},null,null,null,"29.01","Vaso sanitario",null,"",0]
[null,null,{"$f":"C929","v":5},null,{"$f":"SUM(IF(LEFT($J929:$J$1082,C929)=J929,1))-1","v":8},null,null,null,null,null,null,null,null,0]
[null,null,{"$f":"LEN(J931)","v":8},{"$f":"COUNTIF($J$18:$J$1082,J931)","v":1},{"$f":"IF(E932=0,1,E932)","v":1},{"$f":"IF(C931=2,\"\",LEFT(J931,C931-3))","v":"29.01"},null,null,86888,"29.01.01","VASO SANITÁRIO SIFONADO COM CAIXA ACOPLADA LOUÇA BRANCA - PADRÃO MÉDIO- FORNECIMENTO E INSTALAÇÃO. AF_12/2013_P",null,"UNID",2]
[null,null,{"$f":"C931","v":8},null,{"$f":"SUM(IF(LEFT($J931:$J$1082,C931)=J931,1))-1","v":0},null,null,null,null,null,null,null,null,0]
["y",null,{"$f":"LEN(J933)","v":8},{"$f":"COUNTIF($J$18:$J$1082,J933)","v":1},{"$f":"IF(E934=0,1,E934)","v":1},{"$f":"IF(C933=2,\"\",LEFT(J933,C933-3))","v":"29.01"},null,null,"Cotação","29.01.02","Vaso sanitário de louça branca com caixa de descarga embutida na parede padrão PNE (caixa cotada em item específico)",null,"UNID",11]
[null,null,{"$f":"C933","v":8},null,{"$f":"SUM(IF(LEFT($J933:$J$1082,C933)=J933,1))-1","v":0},null,null,null,null,null,null,null,null,0]
[null,null,{"$f":"LEN(J935)","v":8},{"$f":"COUNTIF($J$18:$J$1202,J935)","v":1},{"$f":"IF(E936=0,1,E936)","v":1},{"$f":"IF(C935=2,\"\",LEFT(J935,C935-3))","v":"29.01"},null,null,72739,"29.01.03","VASO SANITARIO INFANTIL SIFONADO, PARA VALVULA DE DESCARGA, EM LOUCA BRANCA, COM ACESSORIOS, INCLUSIVE ASSENTO PLASTICO, BOLSA DE BORRACHA PARA LIGACAO, TUBO PVC LIGACAO - FORNECIMENTO E INSTALACAO",null,"Und",1]
[null,null,{"$f":"C935","v":8},null,{"$f":"SUM(IF(LEFT($J935:$J$1202,C935)=J935,1))-1","v":0},null,null,null,null,null,null,null,null,0]
[null,null,null,null,null,null,null,null,"Cotação","29.01.04","CAIXA DESCARGA PLASTICA, EMBUTIR, COMPLETA, COM ESPELHO CROMADO E TUBOBENGALA PVC PARA LIGACAO EM CAIXA DESCARGA DE EMBUTIR - FORNECIMENTO E INSTALACAO",null,"UNID",{"$f":"SUM(N933:N935)","v":12}]
[null,null,null,null,null,null,null,null,null,null,null,null,null,0]
[null,null,null,null,null,null,null,null,86886,"29.01.05","ENGATE FLEXÍVEL EM METAL CROMADO, 1/2\" X 30CM - FORNECIMENTO E INSTALAÇÃO. AF_12/2013",null,"UNID",2]
[null,null,null,null,null,null,null,null,null,null,null,null,null,0]
["y",null,{"$f":"LEN(J941)","v":8},{"$f":"COUNTIF($J$18:$J$1082,J941)","v":1},{"$f":"IF(E942=0,1,E942)","v":1},{"$f":"IF(C941=2,\"\",LEFT(J941,C941-3))","v":"29.01"},null,null,"Cotação","29.01.06","Assento poliéster para vaso sanitário convencional",null,"UNID",2]
[null,null,{"$f":"C941","v":8},null,{"$f":"SUM(IF(LEFT($J941:$J$1082,C941)=J941,1))-1","v":0},null,null,null,null,null,null,null,null,0]
["y",null,{"$f":"LEN(J943)","v":8},{"$f":"COUNTIF($J$18:$J$1082,J943)","v":1},{"$f":"IF(E944=0,1,E944)","v":1},{"$f":"IF(C943=2,\"\",LEFT(J943,C943-3))","v":"29.01"},null,null,"Cotação","29.01.07","Assento poliéster para vaso sanitário PNE com abertura frontal",null,"UNID",11]
[null,null,{"$f":"C943","v":8},null,{"$f":"SUM(IF(LEFT($J943:$J$1082,C943)=J943,1))-1","v":0},null,null,null,null,null,null,null,null,0]
[null,null,null,null,null,null,null,null,85095,"29.01.08","DUCHA HIGIENICA MANUAL C/ REGISTRO 1/2\"",null,"UNID",13]
[null,null,null,null,null,null,null,null,null,null,null,null,null,0]
[null,null,{"$f":"LEN(J947)","v":5},{"$f":"COUNTIF($J$18:$J$1082,J947)","v":1},{"$f":"IF(E948=0,1,E948)","v":7},{"$f":"IF(C947=2,\"\",LEFT(J947,C947-3))","v":"29"},null,null,null,"29.02","Lavatorio ",null,"",0]
[null,null,{"$f":"C947","v":5},null,{"$f":"SUM(IF(LEFT($J947:$J$1082,C947)=J947,1))-1","v":7},null,null,null,null,null,null,null,null,0]
[null,null,{"$f":"LEN(J949)","v":8},{"$f":"COUNTIF($J$18:$J$1082,J949)","v":1},{"$f":"IF(E950=0,1,E950)","v":1},{"$f":"IF(C949=2,\"\",LEFT(J949,C949-3))","v":"29.02"},null,null,86943,"29.02.01","LT - Lavatório pequeno com coluna suspensa na cor branca (medidas: lxpxh 44,5x35,5x46,5cm)",null,"UNID",45]
[null,null,{"$f":"C949","v":8},null,{"$f":"SUM(IF(LEFT($J949:$J$1082,C949)=J949,1))-1","v":0},null,null,null,null,null,null,null,null,0]
["y",null,{"$f":"LEN(J951)","v":8},{"$f":"COUNTIF($J$18:$J$1082,J951)","v":1},{"$f":"IF(E952=0,1,E952)","v":1},{"$f":"IF(C951=2,\"\",LEFT(J951,C951-3))","v":"29.02"},null,null,"Cotação","29.02.02","CS - Cuba de sobrepor oval de 44x31cm na cor branca",null,"UNID",3]
[null,null,{"$f":"C951","v":8},null,{"$f":"SUM(IF(LEFT($J951:$J$1082,C951)=J951,1))-1","v":0},null,null,null,null,null,null,null,null,0]
["y",null,{"$f":"LEN(J953)","v":8},{"$f":"COUNTIF($J$18:$J$1082,J953)","v":1},{"$f":"IF(E954=0,1,E954)","v":1},{"$f":"IF(C953=2,\"\",LEFT(J953,C953-3))","v":"29.02"},null,null,"Cotação","29.02.03","CS - Torneira para lavatório bica alta mesa com fechamento automático, cromada",null,"UNID",3]
[null,null,{"$f":"C953","v":8},null,{"$f":"SUM(IF(LEFT($J953:$J$1082,C953)=J953,1))-1","v":0},null,null,null,null,null,null,null,null,0]
["y",null,{"$f":"LEN(J955)","v":8},{"$f":"COUNTIF($J$18:$J$1082,J955)","v":1},{"$f":"IF(E956=0,1,E956)","v":1},{"$f":"IF(C955=2,\"\",LEFT(J955,C955-3))","v":"29.02"},null,null,"Cotação","29.02.04","LT - Torneira para lavatório bica alta mesa com fechamento automático, cromada",null,"UNID",45]
[null,null,{"$f":"C955","v":8},null,{"$f":"SUM(IF(LEFT($J955:$J$1082,C955)=J955,1))-1","v":0},null,null,null,null,null,null,null,null,0]
[null,null,{"$f":"LEN(J957)","v":8},{"$f":"COUNTIF($J$18:$J$1082,J957)","v":1},{"$f":"IF(E958=0,1,E958)","v":1},{"$f":"IF(C957=2,\"\",LEFT(J957,C957-3))","v":"29.02"},null,null,86886,"29.02.05","Ligação flexível cromada 40cm",null,"UNID",48]
[null,null,{"$f":"C957","v":8},null,{"$f":"SUM(IF(LEFT($J957:$J$1082,C957)=J957,1))-1","v":0},null,null,null,null,null,null,null,null,0]
[null,null,{"$f":"LEN(J959)","v":8},{"$f":"COUNTIF($J$18:$J$1082,J959)","v":1},{"$f":"IF(E960=0,1,E960)","v":1},{"$f":"IF(C959=2,\"\",LEFT(J959,C959-3))","v":"29.02"},null,null,86879,"29.02.06","Válvula cromada para lavatório",null,"UNID",48]
[null,null,{"$f":"C959","v":8},null,{"$f":"SUM(IF(LEFT($J959:$J$1082,C959)=J959,1))-1","v":0},null,null,null,null,null,null,null,null,0]
[null,null,{"$f":"LEN(J961)","v":8},{"$f":"COUNTIF($J$18:$J$1082,J961)","v":1},{"$f":"IF(E962=0,1,E962)","v":1},{"$f":"IF(C961=2,\"\",LEFT(J961,C961-3))","v":"29.02"},null,null,86881,"29.02.07","Sifão cromado para lavatório",null,"UNID",48]
[null,null,{"$f":"C961","v":8},null,{"$f":"SUM(IF(LEFT($J961:$J$1082,C961)=J961,1))-1","v":0},null,null,null,null,null,null,null,null,0]
[null,null,{"$f":"LEN(J963)","v":5},{"$f":"COUNTIF($J$18:$J$1082,J963)","v":1},{"$f":"IF(E964=0,1,E964)","v":6},{"$f":"IF(C963=2,\"\",LEFT(J963,C963-3))","v":"29"},null,null,null,"29.03","Pias ",null,"",0]
[null,null,{"$f":"C963","v":5},null,{"$f":"SUM(IF(LEFT($J963:$J$1082,C963)=J963,1))-1","v":6},null,null,null,null,null,null,null,null,0]
[null,null,{"$f":"LEN(J965)","v":8},{"$f":"COUNTIF($J$18:$J$1194,J965)","v":1},{"$f":"IF(E966=0,1,E966)","v":1},{"$f":"IF(C965=2,\"\",LEFT(J965,C965-3))","v":"29.03"},null,null,86936,"29.03.01","CUBA DE EMBUTIR DE AÇO INOXIDÁVEL MÉDIA, INCLUSO VÁLVULA TIPO AMERICANA E SIFÃO TIPO GARRAFA EM METAL CROMADO - FORNECIMENTO E INSTALAÇÃO. AF_12/2013",null,"UNID",4]
[null,null,{"$f":"C965","v":8},null,{"$f":"SUM(IF(LEFT($J965:$J$1194,C965)=J965,1))-1","v":0},null,null,null,null,null,null,null,null,0]
[null,null,{"$f":"LEN(J967)","v":8},{"$f":"COUNTIF($J$18:$J$1194,J967)","v":1},{"$f":"IF(E968=0,1,E968)","v":1},{"$f":"IF(C967=2,\"\",LEFT(J967,C967-3))","v":"29.03"},null,null,86909,"29.03.02","TORNEIRA CROMADA TUBO MÓVEL, DE MESA, 1/2\" OU 3/4\", PARA PIA DE COZINHA, PADRÃO ALTO - FORNECIMENTO E INSTALAÇÃO. AF_12/2013",null,"UNID",4]
[null,null,{"$f":"C967","v":8},null,{"$f":"SUM(IF(LEFT($J967:$J$1194,C967)=J967,1))-1","v":0},null,null,null,null,null,null,null,null,0]
[null,null,{"$f":"LEN(J969)","v":8},{"$f":"COUNTIF($J$18:$J$1194,J969)","v":1},{"$f":"IF(E970=0,1,E970)","v":1},{"$f":"IF(C969=2,\"\",LEFT(J969,C969-3))","v":"29.03"},null,null,86886,"29.03.03","ENGATE FLEXÍVEL EM METAL CROMADO, 1/2\" X 30CM - FORNECIMENTO E INSTALAÇÃO. AF_12/2013",null,"UNID",4]
[null,null,{"$f":"C969","v":8},null,{"$f":"SUM(IF(LEFT($J969:$J$1194,C969)=J969,1))-1","v":0},null,null,null,null,null,null,null,null,0]
["y",null,{"$f":"LEN(J971)","v":8},{"$f":"COUNTIF($J$18:$J$1194,J971)","v":1},{"$f":"IF(E972=0,1,E972)","v":1},{"$f":"IF(C971=2,\"\",LEFT(J971,C971-3))","v":"29.03"},null,null,"Cotação","29.03.04","E1 - Expurgo quadrado com pés e sapatas reguláveis. Fabricado em aço inox aisi 304,  chapa 1mm #20, acabamento escovado. estrutura tubular quadrada 30x30 (hxlxc 100x50x50cm) + Sifão para expurgo em aço inox aisi 304, chapa de 1,5mm #16 (hxlxc 45x12x30cm) diâmetro de entrada no sifão: 104mm diâmetro de saída do sifão: 100mm",null,"Und",1]
[null,null,{"$f":"C971","v":8},null,{"$f":"SUM(IF(LEFT($J971:$J$1194,C971)=J971,1))-1","v":0}]
["y",null,null,null,null,null,null,null,"Cotação","29.03.06","CAIXA DESCARGA PLASTICA, EMBUTIR, COMPLETA, COM ESPELHO CROMADO E TUBOBENGALA PVC PARA LIGACAO EM CAIXA DESCARGA DE EMBUTIR - FORNECIMENTO E INSTALACAO - Faz parte do expurgo",null,"UNID",1]
[null,null,null,null,null,null,null,null,null,null,null,null,null,0]
["y",null,null,null,null,null,null,null,"Cotação","29.03.07","DUCHA HIGIENICA MANUAL C/ REGISTRO 1/2\" - Faz parte do expurgo",null,"UNID",1]
[null,null,null,null,null,null,null,null,null,null,null,null,null,0]
[null,null,{"$f":"LEN(J977)","v":5},{"$f":"COUNTIF($J$18:$J$1082,J977)","v":1},{"$f":"IF(E978=0,1,E978)","v":4},{"$f":"IF(C977=2,\"\",LEFT(J977,C977-3))","v":"29"},null,null,null,"29.04","Tanque",null,"",0]
[null,null,{"$f":"C977","v":5},null,{"$f":"SUM(IF(LEFT($J977:$J$1082,C977)=J977,1))-1","v":4},null,null,null,null,null,null,null,null,0]
["y",null,{"$f":"LEN(J979)","v":8},{"$f":"COUNTIF($J$18:$J$1082,J979)","v":1},{"$f":"IF(E980=0,1,E980)","v":1},{"$f":"IF(C979=2,\"\",LEFT(J979,C979-3))","v":"29.04"},null,null,"Cotação","29.04.01","TQ - Tanque em louça, com coluna, 30 lts, na cor branca",null,"UNID",4]
[null,null,{"$f":"C979","v":8},null,{"$f":"SUM(IF(LEFT($J979:$J$1082,C979)=J979,1))-1","v":0}]
[null,null,{"$f":"LEN(J981)","v":8},{"$f":"COUNTIF($J$18:$J$1082,J981)","v":1},{"$f":"IF(E982=0,1,E982)","v":1},{"$f":"IF(C981=2,\"\",LEFT(J981,C981-3))","v":"29.04"},null,null,86914,"29.04.02","TORNEIRA CROMADA 1/2\" OU 3/4\" PARA TANQUE, PADRÃO MÉDIO - FORNECIMENTOE INSTALAÇÃO. AF_12/2013",null,"UNID",4]
[null,null,{"$f":"C981","v":8},null,{"$f":"SUM(IF(LEFT($J981:$J$1082,C981)=J981,1))-1","v":0}]
[null,null,{"$f":"LEN(J983)","v":8},{"$f":"COUNTIF($J$18:$J$1082,J983)","v":1},{"$f":"IF(E984=0,1,E984)","v":1},{"$f":"IF(C983=2,\"\",LEFT(J983,C983-3))","v":"29.04"},null,null,86879,"29.04.03","VÁLVULA EM PLÁSTICO 1\" PARA PIA, TANQUE OU LAVATÓRIO, COM OU SEM LADRÃO - FORNECIMENTO E INSTALAÇÃO. AF_12/2013",null,"UNID",4]
[null,null,{"$f":"C983","v":8},null,{"$f":"SUM(IF(LEFT($J983:$J$1082,C983)=J983,1))-1","v":0}]
[null,null,{"$f":"LEN(J985)","v":8},{"$f":"COUNTIF($J$18:$J$1082,J985)","v":1},{"$f":"IF(E986=0,1,E986)","v":1},{"$f":"IF(C985=2,\"\",LEFT(J985,C985-3))","v":"29.04"},null,null,86881,"29.04.04","SIFÃO DO TIPO GARRAFA EM METAL CROMADO 1 X 1.1/2\" - FORNECIMENTO E INSTALAÇÃO. AF_12/2013",null,"UNID",4]
[null,null,{"$f":"C985","v":8},null,{"$f":"SUM(IF(LEFT($J985:$J$1082,C985)=J985,1))-1","v":0}]
[null,null,{"$f":"LEN(J987)","v":5},{"$f":"COUNTIF($J$18:$J$1082,J987)","v":1},{"$f":"IF(E988=0,1,E988)","v":1},{"$f":"IF(C987=2,\"\",LEFT(J987,C987-3))","v":"29"},null,null,null,"29.05","Banho ",null,"",0]
[null,null,{"$f":"C987","v":5},null,{"$f":"SUM(IF(LEFT($J987:$J$1082,C987)=J987,1))-1","v":1},null,null,null,null,null,null,null,null,0]
["y",null,{"$f":"LEN(J989)","v":8},{"$f":"COUNTIF($J$18:$J$1082,J989)","v":1},{"$f":"IF(E990=0,1,E990)","v":1},{"$f":"IF(C989=2,\"\",LEFT(J989,C989-3))","v":"29.05"},null,null,"Cotação","29.05.01","CH - Chuveiro de parede cromado",null,"UNID",3]
[null,null,{"$f":"C989","v":8},null,{"$f":"SUM(IF(LEFT($J989:$J$1082,C989)=J989,1))-1","v":0},null,null,null,null,null,null,null,null,0]
[null,null,{"$f":"LEN(J991)","v":5},{"$f":"COUNTIF($J$18:$J$1082,J991)","v":1},{"$f":"IF(E992=0,1,E992)","v":12},{"$f":"IF(C991=2,\"\",LEFT(J991,C991-3))","v":"29"},null,null,null,"29.06","Diversos ",null,"",0]
[null,null,{"$f":"C991","v":5},null,{"$f":"SUM(IF(LEFT($J991:$J$1082,C991)=J991,1))-1","v":12},null,null,null,null,null,null,null,null,0]
[null,null,{"$f":"LEN(J993)","v":8},{"$f":"COUNTIF($J$18:$J$1186,J993)","v":1},{"$f":"IF(E994=0,1,E994)","v":1},{"$f":"IF(C993=2,\"\",LEFT(J993,C993-3))","v":"29.06"},null,null,86914,"29.06.01","Torneira de limpeza com bico rosqueado - TORNEIRA CROMADA 1/2\" OU 3/4\" PARA TANQUE, PADRÃO MÉDIO - FORNECIMENTOE INSTALAÇÃO. AF_12/2013",null,"UNID",5]
[null,null,{"$f":"C993","v":8},null,{"$f":"SUM(IF(LEFT($J993:$J$1186,C993)=J993,1))-1","v":0},null,null,null,null,null,null,null,null,0]
["y",null,{"$f":"LEN(J995)","v":8},{"$f":"COUNTIF($J$18:$J$1186,J995)","v":1},{"$f":"IF(E996=0,1,E996)","v":1},{"$f":"IF(C995=2,\"\",LEFT(J995,C995-3))","v":"29.06"},null,null,"Cotação","29.06.02","BL - Barra para lavatório de canto em aço galvanizado revestido com nylon / pvc ( pxl 52x67cm)",null,"UNID",8]
[null,null,{"$f":"C995","v":8},null,{"$f":"SUM(IF(LEFT($J995:$J$1186,C995)=J995,1))-1","v":0},null,null,null,null,null,null,null,null,0]
["y",null,{"$f":"LEN(J997)","v":8},{"$f":"COUNTIF($J$18:$J$1186,J997)","v":1},{"$f":"IF(E998=0,1,E998)","v":1},{"$f":"IF(C997=2,\"\",LEFT(J997,C997-3))","v":"29.06"},null,null,"Cotação","29.06.03","BU - Barra para lavatório , formato \"u\", em aço galvanizado revestido com nylon / pvc ( pxl 52x67cm)",null,"CONJ",1]
[null,null,{"$f":"C997","v":8},null,{"$f":"SUM(IF(LEFT($J997:$J$1186,C997)=J997,1))-1","v":0},null,null,null,null,null,null,null,null,0]
["y",null,{"$f":"LEN(J999)","v":8},{"$f":"COUNTIF($J$18:$J$1186,J999)","v":1},{"$f":"IF(E1000=0,1,E1000)","v":1},{"$f":"IF(C999=2,\"\",LEFT(J999,C999-3))","v":"29.06"},null,null,"Cotação","29.06.04","BA - Barra de apoio articulada de 80cm em aço galvanizado revestido com nylon / pvc",null,"CONJ",10]
[null,null,{"$f":"C999","v":8},null,{"$f":"SUM(IF(LEFT($J999:$J$1186,C999)=J999,1))-1","v":0},null,null,null,null,null,null,null,null,0]
["y",null,{"$f":"LEN(J1001)","v":8},{"$f":"COUNTIF($J$18:$J$1186,J1001)","v":1},{"$f":"IF(E1002=0,1,E1002)","v":1},{"$f":"IF(C1001=2,\"\",LEFT(J1001,C1001-3))","v":"29.06"},null,null,"Cotação","29.06.05","CA - Cadeira articulada para banho",null,"CONJ",4]
[null,null,{"$f":"C1001","v":8},null,{"$f":"SUM(IF(LEFT($J1001:$J$1186,C1001)=J1001,1))-1","v":0},null,null,null,null,null,null,null,null,0]
["y",null,{"$f":"LEN(J1003)","v":8},{"$f":"COUNTIF($J$18:$J$1186,J1003)","v":1},{"$f":"IF(E1004=0,1,E1004)","v":1},{"$f":"IF(C1003=2,\"\",LEFT(J1003,C1003-3))","v":"29.06"},null,null,"Cotação","29.06.06","Barra de apoio “L” em aço galvanizado e revestimento em nylon / pvc",null,"CONJ",4]
[null,null,{"$f":"C1003","v":8},null,{"$f":"SUM(IF(LEFT($J1003:$J$1186,C1003)=J1003,1))-1","v":0},null,null,null,null,null,null,null,null,0]
["y",null,{"$f":"LEN(J1005)","v":8},{"$f":"COUNTIF($J$18:$J$1186,J1005)","v":1},{"$f":"IF(E1006=0,1,E1006)","v":1},{"$f":"IF(C1005=2,\"\",LEFT(J1005,C1005-3))","v":"29.06"},null,null,"Cotação","29.06.07","Barra de apoio de 70cm em aço galvanizado revestido com nylon / pvc",null,"CONJ",9]
[null,null,{"$f":"C1005","v":8},null,{"$f":"SUM(IF(LEFT($J1005:$J$1186,C1005)=J1005,1))-1","v":0},null,null,null,null,null,null,null,null,0]
["y",null,{"$f":"LEN(J1007)","v":8},{"$f":"COUNTIF($J$18:$J$1186,J1007)","v":1},{"$f":"IF(E1008=0,1,E1008)","v":1},{"$f":"IF(C1007=2,\"\",LEFT(J1007,C1007-3))","v":"29.06"},null,null,"Cotação","29.06.08","Dispenser de papel",null,"Und",13]
[null,null,{"$f":"C1007","v":8},null,{"$f":"SUM(IF(LEFT($J1007:$J$1186,C1007)=J1007,1))-1","v":0}]
["y",null,{"$f":"LEN(J1009)","v":8},{"$f":"COUNTIF($J$18:$J$1186,J1009)","v":1},{"$f":"IF(E1010=0,1,E1010)","v":1},{"$f":"IF(C1009=2,\"\",LEFT(J1009,C1009-3))","v":"29.06"},null,null,"Cotação","29.06.09","Dispenser de papel higiênico",null,"Und",13]
[null,null,{"$f":"C1009","v":8},null,{"$f":"SUM(IF(LEFT($J1009:$J$1186,C1009)=J1009,1))-1","v":0}]
["y",null,{"$f":"LEN(J1011)","v":8},{"$f":"COUNTIF($J$18:$J$1186,J1011)","v":1},{"$f":"IF(E1012=0,1,E1012)","v":1},{"$f":"IF(C1011=2,\"\",LEFT(J1011,C1011-3))","v":"29.06"},null,null,"Cotação","29.06.10","Cabideiro",null,"Und",13]
[null,null,{"$f":"C1011","v":8},null,{"$f":"SUM(IF(LEFT($J1011:$J$1186,C1011)=J1011,1))-1","v":0}]
["y",null,{"$f":"LEN(J1013)","v":8},{"$f":"COUNTIF($J$18:$J$1186,J1013)","v":1},{"$f":"IF(E1014=0,1,E1014)","v":1},{"$f":"IF(C1013=2,\"\",LEFT(J1013,C1013-3))","v":"29.06"},null,null,"Cotação","29.06.11","Dispenser de sabonete líquido",null,"Und",13]
[null,null,{"$f":"C1013","v":8},null,{"$f":"SUM(IF(LEFT($J1013:$J$1186,C1013)=J1013,1))-1","v":0}]
["y",null,{"$f":"LEN(J1015)","v":8},{"$f":"COUNTIF($J$18:$J$1186,J1015)","v":1},{"$f":"IF(E1016=0,1,E1016)","v":1},{"$f":"IF(C1015=2,\"\",LEFT(J1015,C1015-3))","v":"29.06"},null,null,"Cotação","29.06.12","Meia saboneteira em louça, branca, embutida",null,"Und",7]
[null,null,{"$f":"C1015","v":8},null,{"$f":"SUM(IF(LEFT($J1015:$J$1186,C1015)=J1015,1))-1","v":0}]
[null,null,{"$f":"LEN(J1017)","v":2},{"$f":"COUNTIF($J$18:$J$1082,J1017)","v":1},{"$f":"IF(E1018=0,1,E1018)","v":9},{"$f":"IF(C1017=2,\"\",LEFT(J1017,C1017-3))","v":""},null,null,null,"30","BANCADAS E PEDRAS",null,"",0]
[null,null,{"$f":"C1017","v":2},null,{"$f":"SUM(IF(LEFT($J1017:$J$1082,C1017)=J1017,1))-1","v":9},null,null,null,null,null,null,null,null,0]
[null,null,{"$f":"LEN(J1019)","v":5},{"$f":"COUNTIF($J$18:$J$1082,J1019)","v":1},{"$f":"IF(E1020=0,1,E1020)","v":1},{"$f":"IF(C1019=2,\"\",LEFT(J1019,C1019-3))","v":"30"},null,null,null,"30.01","Bancadas  de granito",null,"",0]
[null,null,{"$f":"C1019","v":5},null,{"$f":"SUM(IF(LEFT($J1019:$J$1082,C1019)=J1019,1))-1","v":1},null,null,null,null,null,null,null,null,0]
[null,null,{"$f":"LEN(J1021)","v":8},{"$f":"COUNTIF($J$18:$J$1082,J1021)","v":1},{"$f":"IF(E1022=0,1,E1022)","v":1},{"$f":"IF(C1021=2,\"\",LEFT(J1021,C1021-3))","v":"30.01"},null,null,86889,"30.01.01","Bancadas de granito cinza andorinha polido, conforme detalhamento específico constante do projeto arquitetônico",null,"M2",7.98]
[null,null,{"$f":"C1021","v":8},null,{"$f":"SUM(IF(LEFT($J1021:$J$1082,C1021)=J1021,1))-1","v":0},null,null,null,null,null,null,null,null,0]
[null,null,{"$f":"LEN(J1023)","v":5},{"$f":"COUNTIF($J$18:$J$1082,J1023)","v":1},{"$f":"IF(E1024=0,1,E1024)","v":1},{"$f":"IF(C1023=2,\"\",LEFT(J1023,C1023-3))","v":"30"},null,null,null,"30.02","Bancadas  de aço inox",null,"",0]
[null,null,{"$f":"C1023","v":5},null,{"$f":"SUM(IF(LEFT($J1023:$J$1082,C1023)=J1023,1))-1","v":1},null,null,null,null,null,null,null,null,0]
[null,null,{"$f":"LEN(J1025)","v":8},{"$f":"COUNTIF($J$18:$J$1082,J1025)","v":1},{"$f":"IF(E1026=0,1,E1026)","v":1},{"$f":"IF(C1025=2,\"\",LEFT(J1025,C1025-3))","v":"30.02"},null,null,"CPU0018","30.02.01","T4 - Tampo em aço inoxidável com bordas elevadas para retenção de líquidos, com testeira (h=5cm) e roda bancada (h=10cm)",null,"M2",1.5]
[null,null,{"$f":"C1025","v":8},null,{"$f":"SUM(IF(LEFT($J1025:$J$1082,C1025)=J1025,1))-1","v":0},null,null,null,null,null,null,null,null,0]
[null,null,{"$f":"LEN(J1027)","v":5},{"$f":"COUNTIF($J$18:$J$1082,J1027)","v":1},{"$f":"IF(E1028=0,1,E1028)","v":4},{"$f":"IF(C1027=2,\"\",LEFT(J1027,C1027-3))","v":"30"},null,null,null,"30.03","Peças  diversas",null,"",0]
[null,null,{"$f":"C1027","v":5},null,{"$f":"SUM(IF(LEFT($J1027:$J$1082,C1027)=J1027,1))-1","v":4},null,null,null,null,null,null,null,null,0]
[null,null,{"$f":"LEN(J1029)","v":8},{"$f":"COUNTIF($J$18:$J$1082,J1029)","v":1},{"$f":"IF(E1030=0,1,E1030)","v":1},{"$f":"IF(C1029=2,\"\",LEFT(J1029,C1029-3))","v":"30.03"},null,null,"CPU0019","30.03.01","Divisórias em granito cinza andorinha polido em duas faces, esp. 3cm.",null,"M2",17.260000000000002]
[null,null,{"$f":"C1029","v":8},null,{"$f":"SUM(IF(LEFT($J1029:$J$1082,C1029)=J1029,1))-1","v":0},null,null,null,null,null,null,null,null,0]
[null,null,{"$f":"LEN(J1031)","v":8},{"$f":"COUNTIF($J$18:$J$1082,J1031)","v":1},{"$f":"IF(E1032=0,1,E1032)","v":1},{"$f":"IF(C1031=2,\"\",LEFT(J1031,C1031-3))","v":"30.03"},null,null,84089,"30.03.02","PEITORIL EM GRANITO CINZA ANDORINHA, LARGURA DE 25CM, ASSENTADO COM ARGAMASSA TRACO 1:3 (CIMENTO E AREIA MEDIA), PREPARO MANUAL DA ARGAMASSA",null,"M",119]
[null,null,{"$f":"C1031","v":8},null,{"$f":"SUM(IF(LEFT($J1031:$J$1082,C1031)=J1031,1))-1","v":0},null,null,null,null,null,null,null,null,0]
[null,null,{"$f":"LEN(J1033)","v":8},{"$f":"COUNTIF($J$18:$J$1082,J1033)","v":1},{"$f":"IF(E1034=0,1,E1034)","v":1},{"$f":"IF(C1033=2,\"\",LEFT(J1033,C1033-3))","v":"30.03"},null,null,84161,"30.03.03","SOLEIRA DE GRANITO, LARGURA 15CM, ESPESSURA 3CM, ASSENTADA SOBRE ARGAMASSA TRACO 1:4 (CIMENTO E AREIA)",null,"M",144]
[null,null,{"$f":"C1033","v":8},null,{"$f":"SUM(IF(LEFT($J1033:$J$1082,C1033)=J1033,1))-1","v":0},null,null,null,null,null,null,null,null,0]
[null,null,{"$f":"LEN(J1035)","v":8},{"$f":"COUNTIF($J$18:$J$1082,J1035)","v":1},{"$f":"IF(E1036=0,1,E1036)","v":1},{"$f":"IF(C1035=2,\"\",LEFT(J1035,C1035-3))","v":"30.03"},null,null,"74111/001","30.03.04","TENTO DE GRANITO, LARGURA 5CM, ESPESSURA 3CM, ASSENTADA COM ARGAMASSA COLANTE",null,"M",8.66]
[null,null,{"$f":"C1035","v":8},null,{"$f":"SUM(IF(LEFT($J1035:$J$1082,C1035)=J1035,1))-1","v":0},null,null,null,null,null,null,null,null,0]
[null,null,{"$f":"LEN(J1037)","v":2},{"$f":"COUNTIF($J$18:$J$1082,J1037)","v":1},{"$f":"IF(E1038=0,1,E1038)","v":11},{"$f":"IF(C1037=2,\"\",LEFT(J1037,C1037-3))","v":""},null,null,null,"31","PINTURA ",null,"",0]
[null,null,{"$f":"C1037","v":2},null,{"$f":"SUM(IF(LEFT($J1037:$J$1082,C1037)=J1037,1))-1","v":11},null,null,null,null,null,null,null,null,0]
[null,null,{"$f":"LEN(J1039)","v":5},{"$f":"COUNTIF($J$18:$J$1082,J1039)","v":1},{"$f":"IF(E1040=0,1,E1040)","v":5},{"$f":"IF(C1039=2,\"\",LEFT(J1039,C1039-3))","v":"31"},null,null,null,"31.01","Latex Acrílico ",null,"",0]
[null,null,{"$f":"C1039","v":5},null,{"$f":"SUM(IF(LEFT($J1039:$J$1082,C1039)=J1039,1))-1","v":5},null,null,null,null,null,null,null,null,0]
[null,null,{"$f":"LEN(J1041)","v":8},{"$f":"COUNTIF($J$18:$J$1082,J1041)","v":1},{"$f":"IF(E1042=0,1,E1042)","v":1},{"$f":"IF(C1041=2,\"\",LEFT(J1041,C1041-3))","v":"31.01"},null,null,88497,"31.01.01","APLICAÇÃO E LIXAMENTO DE MASSA LÁTEX EM PAREDES, DUAS DEMÃOS. AF_06/2014",null,"M²",1789.1949999999993]
[null,null,{"$f":"C1041","v":8},null,{"$f":"SUM(IF(LEFT($J1041:$J$1082,C1041)=J1041,1))-1","v":0}]
[null,null,{"$f":"LEN(J1043)","v":8},{"$f":"COUNTIF($J$18:$J$1084,J1043)","v":1},{"$f":"IF(E1044=0,1,E1044)","v":1},{"$f":"IF(C1043=2,\"\",LEFT(J1043,C1043-3))","v":"31.01"},null,null,88496,"31.01.02","APLICAÇÃO E LIXAMENTO DE MASSA LÁTEX EM TETO, DUAS DEMÃOS. AF_06/2014",null,"M²",1098.6378999999999]
[null,null,{"$f":"C1043","v":8},null,{"$f":"SUM(IF(LEFT($J1043:$J$1084,C1043)=J1043,1))-1","v":0}]
[null,null,{"$f":"LEN(J1045)","v":8},{"$f":"COUNTIF($J$18:$J$1080,J1045)","v":1},{"$f":"IF(E1046=0,1,E1046)","v":1},{"$f":"IF(C1045=2,\"\",LEFT(J1045,C1045-3))","v":"31.01"},null,null,88483,"31.01.03","APLICAÇÃO DE FUNDO SELADOR LÁTEX PVA EM PAREDES, UMA DEMÃO. AF_06/2014",null,"M2",2887.8328999999994]
[null,null,{"$f":"C1045","v":8},null,{"$f":"SUM(IF(LEFT($J1045:$J$1080,C1045)=J1045,1))-1","v":0}]
[null,null,{"$f":"LEN(J1047)","v":8},{"$f":"COUNTIF($J$18:$J$1082,J1047)","v":1},{"$f":"IF(E1048=0,1,E1048)","v":1},{"$f":"IF(C1047=2,\"\",LEFT(J1047,C1047-3))","v":"31.01"},null,null,88489,"31.01.04","APLICAÇÃO MANUAL DE PINTURA COM TINTA LÁTEX ACRÍLICA EM PAREDES, DUASDEMÃOS. AF_06/2014",null,"M2",1789.1949999999993]
[null,null,{"$f":"C1047","v":8},null,{"$f":"SUM(IF(LEFT($J1047:$J$1082,C1047)=J1047,1))-1","v":0},null,null,null,null,null,null,null,null,0]
[null,null,{"$f":"LEN(J1049)","v":8},{"$f":"COUNTIF($J$18:$J$1082,J1049)","v":1},{"$f":"IF(E1050=0,1,E1050)","v":1},{"$f":"IF(C1049=2,\"\",LEFT(J1049,C1049-3))","v":"31.01"},null,null,88488,"31.01.05","APLICAÇÃO MANUAL DE PINTURA COM TINTA LÁTEX ACRÍLICA EM TETO, DUAS DEMÃOS. AF_06/2014",null,"M2",1098.6378999999999]
[null,null,{"$f":"C1049","v":8},null,{"$f":"SUM(IF(LEFT($J1049:$J$1082,C1049)=J1049,1))-1","v":0},null,null,null,null,null,null,null,null,0]
[null,null,{"$f":"LEN(J1051)","v":5},{"$f":"COUNTIF($J$18:$J$1082,J1051)","v":1},{"$f":"IF(E1052=0,1,E1052)","v":4},{"$f":"IF(C1051=2,\"\",LEFT(J1051,C1051-3))","v":"31"},null,null,null,"31.02","Esmalte sintético",null,"",0]
[null,null,{"$f":"C1051","v":5},null,{"$f":"SUM(IF(LEFT($J1051:$J$1082,C1051)=J1051,1))-1","v":4},null,null,null,null,null,null,null,null,0]
[null,null,{"$f":"LEN(J1053)","v":8},{"$f":"COUNTIF($J$18:$J$1082,J1053)","v":1},{"$f":"IF(E1054=0,1,E1054)","v":1},{"$f":"IF(C1053=2,\"\",LEFT(J1053,C1053-3))","v":"31.02"},null,null,"74133/001","31.02.01","EMASSAMENTO COM MASA A OLEO, UMA DEMAO - sobre portas de madeira ",null,"M2",361]
[null,null,{"$f":"C1053","v":8},null,{"$f":"SUM(IF(LEFT($J1053:$J$1082,C1053)=J1053,1))-1","v":0},null,null,null,null,null,null,null,null,0]
[null,null,{"$f":"LEN(J1055)","v":8},{"$f":"COUNTIF($J$18:$J$1082,J1055)","v":1},{"$f":"IF(E1056=0,1,E1056)","v":1},{"$f":"IF(C1055=2,\"\",LEFT(J1055,C1055-3))","v":"31.02"},null,null,"74065/001","31.02.02","PINTURA ESMALTE FOSCO PARA MADEIRA, DUAS DEMAOS, SOBRE FUNDO NIVELADOR BRANCO",null,"M2",361]
[null,null,{"$f":"C1055","v":8},null,{"$f":"SUM(IF(LEFT($J1055:$J$1082,C1055)=J1055,1))-1","v":0},null,null,null,null,null,null,null,null,0]
[null,null,{"$f":"LEN(J1057)","v":8},{"$f":"COUNTIF($J$18:$J$1082,J1057)","v":1},{"$f":"IF(E1058=0,1,E1058)","v":1},{"$f":"IF(C1057=2,\"\",LEFT(J1057,C1057-3))","v":"31.02"},null,null,6067,"31.02.03","PINTURA ESMALTE BRILHANTE (2 DEMAOS) SOBRE SUPERFICIE METALICA, INCLUSIVE PROTECAO COM ZARCAO (1 DEMAO) -  estrutura metálica sobre laje",null,"M2",1168.6400000000001]
[null,null,{"$f":"C1057","v":8},null,{"$f":"SUM(IF(LEFT($J1057:$J$1082,C1057)=J1057,1))-1","v":0},null,null,null,null,null,null,null,null,0]
[null,null,{"$f":"LEN(J1059)","v":8},{"$f":"COUNTIF($J$18:$J$1082,J1059)","v":1},{"$f":"IF(E1060=0,1,E1060)","v":1},{"$f":"IF(C1059=2,\"\",LEFT(J1059,C1059-3))","v":"31.02"},null,null,6067,"31.02.04","PINTURA ESMALTE BRILHANTE (2 DEMAOS) SOBRE SUPERFICIE METALICA, INCLUSIVE PROTECAO COM ZARCAO (1 DEMAO) -  estrutura metálica aparente",null,"M2",512.66999999999996]
[null,null,{"$f":"C1059","v":8},null,{"$f":"SUM(IF(LEFT($J1059:$J$1082,C1059)=J1059,1))-1","v":0},null,null,null,null,null,null,null,null,0]
[null,null,{"$f":"LEN(J1061)","v":2},{"$f":"COUNTIF($J$18:$J$1082,J1061)","v":1},{"$f":"IF(E1062=0,1,E1062)","v":2},{"$f":"IF(C1061=2,\"\",LEFT(J1061,C1061-3))","v":""},null,null,null,"32","PAISAGISMO",null,"",0]
[null,null,{"$f":"C1061","v":2},null,{"$f":"SUM(IF(LEFT($J1061:$J$1082,C1061)=J1061,1))-1","v":2},null,null,null,null,null,null,null,null,0]
[null,null,{"$f":"LEN(J1063)","v":5},{"$f":"COUNTIF($J$18:$J$1082,J1063)","v":1},{"$f":"IF(E1064=0,1,E1064)","v":1},{"$f":"IF(C1063=2,\"\",LEFT(J1063,C1063-3))","v":"32"},null,null,null,"32.01","Serviços de Paisagismo",null,null,0]
[null,null,{"$f":"C1063","v":5},null,{"$f":"SUM(IF(LEFT($J1063:$J$1082,C1063)=J1063,1))-1","v":1},null,null,null,null,null,null,null,null,0]
[null,null,{"$f":"LEN(J1065)","v":8},{"$f":"COUNTIF($J$18:$J$1082,J1065)","v":1},{"$f":"IF(E1066=0,1,E1066)","v":1},{"$f":"IF(C1065=2,\"\",LEFT(J1065,C1065-3))","v":"32.01"},null,null,851080,"32.01.01","PLANTIO DE GRAMA ESMERALDA EM ROLO",null,"M2",185.22]
[null,null,{"$f":"C1065","v":8},null,{"$f":"SUM(IF(LEFT($J1065:$J$1082,C1065)=J1065,1))-1","v":0},null,null,null,null,null,null,null,null,0]
[null,null,{"$f":"LEN(J1067)","v":2},{"$f":"COUNTIF($J$18:$J$1082,J1067)","v":1},{"$f":"IF(E1068=0,1,E1068)","v":3},{"$f":"IF(C1067=2,\"\",LEFT(J1067,C1067-3))","v":""},null,null,null,"33","COMUNICAÇÃO VISUAL",null,null,0]
[null,null,{"$f":"C1067","v":2},null,{"$f":"SUM(IF(LEFT($J1067:$J$1082,C1067)=J1067,1))-1","v":3},null,null,null,null,null,null,null,null,0]
[null,null,{"$f":"LEN(J1069)","v":5},{"$f":"COUNTIF($J$18:$J$1082,J1069)","v":1},{"$f":"IF(E1070=0,1,E1070)","v":1},{"$f":"IF(C1069=2,\"\",LEFT(J1069,C1069-3))","v":"33"},null,null,"CPU0011","33.01","Placa em PVC adesivada",null,"M2",3.7]
[null,null,{"$f":"C1069","v":5},null,{"$f":"SUM(IF(LEFT($J1069:$J$1082,C1069)=J1069,1))-1","v":0},null,null,null,null,null,null,null,null,0]
[null,null,{"$f":"LEN(J1071)","v":5},{"$f":"COUNTIF($J$18:$J$1082,J1071)","v":1},{"$f":"IF(E1072=0,1,E1072)","v":1},{"$f":"IF(C1071=2,\"\",LEFT(J1071,C1071-3))","v":"33"},null,null,"CPU0012","33.02","Sinalilzação em braile para corrimãos",null,"UNID",49]
[null,null,{"$f":"C1071","v":5},null,{"$f":"SUM(IF(LEFT($J1071:$J$1082,C1071)=J1071,1))-1","v":0},null,null,null,null,null,null,null,null,0]
[null,null,{"$f":"LEN(J1073)","v":5},{"$f":"COUNTIF($J$18:$J$1082,J1073)","v":1},{"$f":"IF(E1074=0,1,E1074)","v":1},{"$f":"IF(C1073=2,\"\",LEFT(J1073,C1073-3))","v":"33"},null,null,84124,"33.03","Letras de aço inox o para composição de letreiro de fachada \"Centro especializado em Reabilitação\"",null,"UNID",33]
[null,null,{"$f":"C1073","v":5},null,{"$f":"SUM(IF(LEFT($J1073:$J$1082,C1073)=J1073,1))-1","v":0},null,null,null,null,null,null,null,null,0]
[null,null,{"$f":"LEN(J1075)","v":2},{"$f":"COUNTIF($J$18:$J$1082,J1075)","v":1},{"$f":"IF(E1076=0,1,E1076)","v":2},{"$f":"IF(C1075=2,\"\",LEFT(J1075,C1075-3))","v":""},null,null,null,"34","DESPESAS FINAIS ",null,"",0]
[null,null,{"$f":"C1075","v":2},null,{"$f":"SUM(IF(LEFT($J1067:$J$1082,C1075)=J1075,1))-1","v":2},null,null,null,null,null,null,null,null,0]
[null,null,{"$f":"LEN(J1077)","v":5},{"$f":"COUNTIF($J$18:$J$1082,J1077)","v":1},{"$f":"IF(E1078=0,1,E1078)","v":1},{"$f":"IF(C1077=2,\"\",LEFT(J1077,C1077-3))","v":"34"},null,null,null,"34.01","Limpeza Final da Obra",null,null,0]
[null,null,{"$f":"C1077","v":5},null,{"$f":"SUM(IF(LEFT($J1077:$J$1082,C1077)=J1077,1))-1","v":1},null,null,null,null,null,null,null,null,0]
[null,null,{"$f":"LEN(J1079)","v":8},{"$f":"COUNTIF($J$18:$J$1082,J1079)","v":1},{"$f":"IF(E1080=0,1,E1080)","v":1},{"$f":"IF(C1079=2,\"\",LEFT(J1079,C1079-3))","v":"34.01"},null,null,9537,"34.01.01","Limpeza de obra",null,"M2",2510.5500000000002]
[null,null,{"$f":"C1079","v":8},null,{"$f":"SUM(IF(LEFT($J1079:$J$1082,C1079)=J1079,1))-1","v":0},null,null,null,null,null,null,null,null,0]
[null,null,null,null,null,null,null,null,"Observação: dtalhamento de encargos sociais atende ao estabelecido no SINAPI Ref.: Brasília, Agosto/2014, com desoneração",null,null,null,null,0]
[null,null,null,null,null,null,null,null,null,null,null,null,null,0]

{"sheet":"CPUs - Geral","index":1,"n_rows":169,"n_cols":9,"rows_kept":169,"cut":false,"hidden":false,"merged":[[1,1,1,8]]}
[]
[null,"Composições de preço"]
[]
[null,"Cód. CPU","Cód. Insumo","Fonte Insumo","Descrição","Unidade","Índice","Custo unitário","Custo Total"]
[]
[null,"CPU0001",null,null,"Engenheiro ou arquiteto Pleno","Mês"]
[null,null,2707,"Sinapi","ENGENHEIRO DE OBRA PLENO","HH",220]
[null,null,null,null,"Encargos sociais Mensalistas (48,37%)","VB",1]
[]
[null,"CPU0002",null,null,"Feitor ou encarregado geral","Mês"]
[null,null,4083,"Sinapi","ENCARREGADO GERAL","HH",220]
[null,null,null,null,"Encargos sociais Mensalistas (48,37%)","VB",1]
[]
[null,"CPU0016",null,null,"Almoxarife","Mês"]
[null,null,2707,"Sinapi","Almoxarife","HH",220]
[null,null,null,null,"Encargos sociais Mensalistas (48,37%)","VB",1]
[]
[null,"CPU0017",null,null,"Vigia de obra, escala de trabalho 12x36","Mês"]
[null,null,10508,"Sinapi","Vigia noturno","HH",220]
[]
[null,"CPU0006",null,null,"Cobertura com telha trapezoidal de alumínio esp. 0,7mm - CPU BASE: 84040 \"COBERTURA COM TELHA DE AÇO ZINCADO, TRAPEZOIDAL, ESPESSURA DE 0,50MM, INCLUNDO ACESSÓRIOS\"","M2"]
[null,null,"2700",null,"MONTADOR","H",7.0999999999999994E-2]
[null,null,"6111",null,"SERVENTE","H",5.1400000000000001E-2]
[null,null,"1607",null,"CONJUNTO ARRUELAS DE VEDACAO 5/16\" P/ TELHA FIBROCIMENTO (UMA ARRUELA METALICA E UMA ARRULA PVC - CONICAS)","CJ",2.0499999999999998]
[null,null,null,"Cotação","Telha trrapezoidal de alumínio esp. 0.7mm","M2",1.19]
[null,null,"11029",null,"HASTE RETA P/ GANCHO FG C/ ROSCA - 1/4\" X 30CM - P/ FIXACAO TELHA METALICA - INCL PORCA E ARRUELAS DE VEDACAO","CJ",2.0499999999999998]
[]
[null,"CPU0007",null,null,"Cobertura com telha trapezoidal de alumínio termoacústica esp. 0,7mm+50mm+0,7mm - CPU BASE: 84040 \"COBERTURA COM TELHA DE AÇO ZINCADO, TRAPEZOIDAL, ESPESSURA DE 0,50MM, INCLUNDO ACESSÓRIOS\"","M2"]
[null,null,"2700",null,"MONTADOR","H",7.0999999999999994E-2]
[null,null,"6111",null,"SERVENTE","H",5.1400000000000001E-2]
[null,null,"1607",null,"CONJUNTO ARRUELAS DE VEDACAO 5/16\" P/ TELHA FIBROCIMENTO (UMA ARRUELA METALICA E UMA ARRULA PVC - CONICAS)","CJ",2.0499999999999998]
[null,null,null,"Cotação","Telha trrapezoidal de alumínio esp. 0.7mm","M2",{"$f":"1.03*2","v":2.06}]
[null,null,null,"Cotação","Injeção de poliuretano em telhas termo-acústicas","M2",{"$f":"1.03","v":1.03}]
[null,null,"11029",null,"HASTE RETA P/ GANCHO FG C/ ROSCA - 1/4\" X 30CM - P/ FIXACAO TELHA METALICA - INCL PORCA E ARRUELAS DE VEDACAO","CJ",2.0499999999999998]
[]
[null,"CPU0008",null,null,"D2 - Divisória em vidro temperado 12mm - CPU BASE: 74229/1 \"DIVISORIA EM MARMORE BRANCO POLIDO, ESPESSURA 3 CM, ASSENTADO COM ARGAMASSA TRACO 1:4 (CIMENTO E AREIA), ARREMATE COM CIMENTO BRANCO, EXCLUSIVE FERRAGENS\"","M2"]
[null,null,72120,"Cotação","VIDRO TEMPERADO INCOLOR, ESPESSURA 12MM, FORNECIMENTO E INSTALACAO CLUSIVE MASSA PARA VEDACAO","M2",1]
[null,null,84885,"Sinapi","JOGO DE FERRAGENS CROMADAS PARA PORTA DE VIDRO TEMPERADO, UMA FOLHA COMPOSTO DE DOBRADICAS SUPERIOR E INFERIOR, TRINCO, FECHADURA, CONTRA FECHADURA COM CAPUCHINHO SEM MOLA E PUXADOR","UNID",{"$f":"1/(0.8*2.1)","v":0.59523809523809523}]
[null,null,7321,"SInapi","Mastique elástico a base de silicone ","Bisnaga",0.25]
[null,null,10489,"Sinapi","Vidraceiro","HH",4.8]
[null,null,6111,"Sinapi","Servente","HH",2.2999999999999998]
[]
[null,"CPU0009",null,null,"PC2 - Porta chapeada madeira com visor, pintura esmalte sintético acetinado 80X210 cm CPU BASE: 73934/1\n\"PORTA EM CHAPA DE FIBRA DE EUCALIPTO LISA PARA PINTURA, 80X210X3,5CM, INCLUSO ADUELA 2A, ALIZAR 2A E DOBRADICAS\"","UNID"]
[null,null,1214,"Sinapi","Carpinteiro","HH",2.0499999999999998]
[null,null,4750,"Sinapi","Pedreiro","HH",1.4]
[null,null,6117,"Sinapi","Ajudante de carpinteiro","HH",3.45]
[null,null,88627,"Sinapi","ARGAMASSA TRAÇO 1:0,5:4,5 (CIMENTO, CAL E AREIA MÉDIA) PARA ASSENTAMENTO DE ALVENARIA, PREPARO MANUAL. AF_08/2014","M3",0.01]
[null,null,184,"Sinapi","ADUELA/BATENTE DUPLO/CAIXAO/GRADE CAIXA 13 X 3CM P/ PORTA 0,60 A 1,20 X 2,10M MADEIRA CEDRINHO/PINHO/CANELA OU SIMILAR","JG",1]
[null,null,2427,"Sinapi","DOBRADICA LATAO CROMADO 3 X 3\" SEM ANEIS","UNID",3]
[null,null,4419,"Sinapi","PECA DE MADEIRA DE LEI NATIVA/REGIONAL 10 X 10 X 3 CM P/ FIXACAO \nDE ESQUADRIAS OU RODAPE","UNID",6]
[null,null,11366,"Sinapi","PORTA EUCATEX EUCADUR PRONTA PARA PINTURA 80 X 210 X 3,5CM","UNID",1]
[null,null,20006,"Sinapi","ALIZAR / GUARNICAO 5 X 2CM MADEIRA CEDRO/IMBUIA/JEQUITIBA OU SIMILAR","m",10]
[null,null,20247,"Sinapi","PREGO DE ACO 15 X 15 C/ CABECA","KG",0.6]
[null,null,85010,"Sinapi","Caixilho de alumínio para confecção de visor ","M2",{"$f":"0.6*0.8","v":0.48}]
[null,null,72117,"Sinapi","Vidro liso incolor esp. 4mm","M2",{"$f":"0.6*0.8","v":0.48}]
[]
[null,"CPU0010",null,null,"PH2 - Porta chapeada madeira com visor,  2 folhas (70+70), pintura esm. sintético acetinado 140X210 cm CPU BASE: 73910/3 \"PORTA DE MADEIRA COMPENSADA LISA PARA PINTURA, 70X210X3,5CM, \nINCLUSO ADUELA 2A, ALIZAR 2A E DOBRADICAS\"","UNID"]
[null,null,1214,"Sinapi","Carpinteiro","HH",{"$f":"2.015*1.5","v":3.0225}]
[null,null,4750,"Sinapi","Pedreiro","HH",{"$f":"1.372*1.5","v":2.0580000000000003}]
[null,null,6117,"Sinapi","Ajudante de carpinteiro","HH",{"$f":"3.387*1.5","v":5.0804999999999998}]
[null,null,88627,"Sinapi","ARGAMASSA TRAÇO 1:0,5:4,5 (CIMENTO, CAL E AREIA MÉDIA) PARA ASSENTAMENTO DE ALVENARIA, PREPARO MANUAL. AF_08/2014","M3",{"$f":"0.0098*1.5","v":1.47E-2}]
[null,null,184,"Sinapi","ADUELA/BATENTE DUPLO/CAIXAO/GRADE CAIXA 13 X 3CM P/ PORTA 0,60 A 1,20 X 2,10M MADEIRA CEDRINHO/PINHO/CANELA OU SIMILAR","JG",1.5]
[null,null,2427,"Sinapi","DOBRADICA LATAO CROMADO 3 X 3\" SEM ANEIS","UNID",6]
[null,null,4419,"Sinapi","PECA DE MADEIRA DE LEI NATIVA/REGIONAL 10 X 10 X 3 CM P/ FIXACAO \nDE ESQUADRIAS OU RODAPE","UNID",9]
[null,null,10554,"Sinapi","PORTA DE MADEIRA SEMI-OCA, FOLHA LISA PARA PINTURA *70 X 210 X 3,5* CM","UNID",2]
[null,null,20006,"Sinapi","ALIZAR / GUARNICAO 5 X 2CM MADEIRA CEDRO/IMBUIA/JEQUITIBA OU SIMILAR","m",{"$f":"2.1+2.1+1.4","v":5.6}]
[null,null,20247,"Sinapi","PREGO DE ACO 15 X 15 C/ CABECA","KG",{"$f":"0.588*1.5","v":0.8819999999999999}]
[null,null,85010,"Sinapi","Caixilho de alumínio para confecção de visor ","M2",{"$f":"0.5*0.8*2","v":0.8}]
[null,null,null,"Cotação","Vidro incolor laminado esp. 6mm","M2",{"$f":"G68","v":0.8}]
[]
[null,"CPU0011",null,null,"Placa em PVC adesivada","M2"]
[null,null,84121,"Sinapi","Placa identificação acrílico 25x8cm borda polida - fornecimento e colocação","UNID",{"$f":"1/0.25/0.08","v":50}]
[]
[null,"CPU0012",null,null,"Sinalilzação em braile para corrimãos","UNID"]
[null,null,84121,"Sinapi","Placa identificação acrílico 25x8cm borda polida - fornecimento e colocação","UNID",1]
[]
[null,"CPU0014",null,null,"PE1 - Porta de correr, em vidro temperado 10mm, com puxador em aço inoxidável 100X210 cm","UNID"]
[null,null,"73838/001","Sinapi","PC5 - PORTA DE VIDRO TEMPERADO, 0,9X2,10M, ESPESSURA 10MM, INCLUSIVE ACESSORIOS","UNID",{"$f":"(1*2.1)/(0.9*2.1)","v":1.1111111111111112}]
[]
[null,"CPU0015",null,null,"Armários revestidos com laminado melamínico","M2"]
[null,null,"SEE-ARM-015","Setop","AC-ARMÁRIO (71 x 52 x 350 cm) EM MADEIRA MACIÇA, COM PORTAS E PUXADORES, SOB BANCADA DO LABORATORIO COM PRATELEIRA, REVESTIDO EM LAMINADO MELAMÍNICO","M2",1]
[]
[null,"74106/001",null,null,"IMPERMEABILIZACAO DE ESTRUTURAS ENTERRADAS, COM TINTA ASFALTICA TRÊS DEMAOS ","M2"]
[null,null,6111,"Sinapi","Servente","HH",{"$f":"0.4*1.5","v":0.60000000000000009}]
[null,null,7319,"Sinapi","TINTA ASFALTICA PARA CONCRETO E ARGAMASSA - LATA 18L","L",{"$f":"0.4*1.5","v":0.60000000000000009}]
[]
[null,"CPU0018",null,null,"T4 - Tampo em aço inoxidável com bordas elevadas para retenção de líquidos, com testeira (h=5cm) e roda bancada (h=10cm) CPU BASE: 86889 \"BANCADA DE GRANITO CINZA POLIDO PARA PIA DE COZINHA 1,50 X 0,60 M -FORNECIMENTO E INSTALAÇÃO. AF_12/2013_P\"","M2"]
[null,null,86957,"Sinapi","Mão francesa em barra de ferro chato","UNID",2]
[null,null,88274,"Sinapi","Marmorista","HH",1.49]
[null,null,88316,"Sinapi","Servente","HH",0.98]
[null,null,1380,"Sinapi","Cimento branco","KG",3.5099999999999999E-2]
[null,null,4823,"Sinapi","Massa plástica adesiva ","KG",0.52280000000000004]
[null,null,7568,"Sinapi","Bucha de nylon","UNID",6]
[null,null,11689,"Sinapi","Banca de aço inox L=70cm","M",{"$f":"1.05/0.7","v":1.5000000000000002}]
[]
[null,"CPU0019",null,null,"Divisórias em granito cinza andorinha polido em duas faces, esp. 3cm. CPU BASE: 79627 \"DIVISORIA EM GRANITO BRANCO POLIDO, ESP = 3CM, ASSENTADO COM ARGAMASSA TRACO 1:4, ARREMATE EM CIMENTO BRANCO, EXCLUSIVE FERRAGENS\"","M2"]
[null,null,88274,"Sinapi","Marmorista","HH",4.8]
[null,null,88316,"Sinapi","Servente","HH",2.2999999999999998]
[null,null,1380,"Sinapi","Cimento branco","KG",0.7]
[null,null,88631,"Sinapi","ARGAMASSA TRAÇO 1:4 (CIMENTO E AREIA MÉDIA), PREPARO MANUAL. AF_08/2014","m3",3.3E-3]
[null,null,null,"Cotação","Divisória de granito cinza andorinha polida em duas faces, esp. 3cm","M2",1]
[]
[null,84089,null,null,"PEITORIL EM GRANITO CINZA ANDORINHA, LARGURA DE 25CM, ASSENTADO COM ARGAMASSA TRACO 1:3 (CIMENTO E AREIA MEDIA), PREPARO MANUAL DA ARGAMASSA - CPU BASE: 84089 \"PEITORIL EM MARMORE BRANCO, LARGURA DE 25CM, ASSENTADO COM ARGAMASSA TRACO 1:3 (CIMENTO E AREIA MEDIA), PREPARO MANUAL DA ARGAMASSA\"","M"]
[null,null,88274,"Sinapi","Marmorista","HH",0.6]
[null,null,88316,"Sinapi","Servente","HH",0.6]
[null,null,86629,"Sinapi","ARGAMASSA TRAÇO 1:3 (CIMENTO E AREIA MÉDIA), PREPARO MANUAL. AF_08/2014","m3",5.4999999999999997E-3]
[null,null,null,"Cotação","Peitoril de granito cinza andorinha largura 25cm","ML",1.05]
[]
[null,84161,null,null,"SOLEIRA DE  GRANITO CINZA ANDORINHA, LARGURA 15CM, ESPESSURA 3CM, ASSENTADA SOBRE ARGAMASSA TRACO 1:4 (CIMENTO E AREIA)- CPU BASE: 79627 \"DIVISORIA EM GRANITO BRANCO POLIDO, ESP = 3CM, ASSENTADO COM ARGAMASSA TRACO 1:4, ARREMATE EM CIMENTO BRANCO, EXCLUSIVE FERRAGENS\"","M"]
[null,null,88274,"Sinapi","Marmorista","HH",0.4]
[null,null,88316,"Sinapi","Servente","HH",0.2]
[null,null,86629,"Sinapi","ARGAMASSA TRAÇO 1:3 (CIMENTO E AREIA MÉDIA), PREPARO MANUAL. AF_08/2014","m3",3.0000000000000001E-3]
[null,null,null,"Cotação","Soleira de granito cinza andorinha largura 15cm","M2",1.05]
[]
[null,"74111/001",null,null,"TENTO DE  GRANITO CINZA ANDORINHA, LARGURA 5CM, ESPESSURA 3CM, ASSENTADA COM ARGAMASSA COLANTE - CPU BASE: 79627 \"DIVISORIA EM GRANITO BRANCO POLIDO, ESP = 3CM, ASSENTADO COM ARGAMASSA TRACO 1:4, ARREMATE EM CIMENTO BRANCO, EXCLUSIVE FERRAGENS\"","M"]
[null,null,88274,"Sinapi","Marmorista","HH",0.15]
[null,null,88316,"Sinapi","Servente","HH",0.1]
[null,null,1381,"Sinapi","ARGAMASSA COLANTE AC I PARA CERAMICAS","Kg",0.13500000000000001]
[null,null,null,"Cotação","Tento de granito cinza andorinha largura 5cm","M2",1.05]
[]
[null,"CPU0020",null,null,"REVESTIMENTO CERÂMICO PARA PAREDES EXTERNAS EM PASTILHAS DE PORCELANA 5 X 5 CM (PLACAS DE 30 X 30 CM), ALINHADAS A PRUMO, APLICADO EM PANOS COM VÃOS. AF_10/2014. CPU FONTE: 88786","M2"]
[null,null,88256,"Sinapi","AZULEJISTA OU LADRILHISTA COM ENCARGOS COMPLEMENTARES","HH",1.29]
[null,null,88316,"Sinapi","SERVENTE COM ENCARGOS COMPLEMENTARES","HH",0.65]
[null,null,null,"Cotação","PASTILHA CERAMICA/PORCELANA, REVEST INT/EXT E PISCINA, CORES BRANCA OU FRIAS, *5 X 5* CM","M2",1.1599999999999999]
[null,null,37659,"Cotação","ARGAMASSA OU CIMENTO COLANTE EM PO PARA FIXACAO INTERNA/EXTERNA DE\nPECAS CERAMICAS, PEDRAS E PORCELANATOS (ACIII) *COLETADO CAIXA*","KG",9.84]
[]
[null,"CPU0021",null,null,"REVESTIMENTO CERÂMICO PARA PISO COM PLACAS TIPO PORCELANATO DE DIMENSÕES 60X60 CM APLICADA EM AMBIENTES DE ÁREA ENTRE 5 M² E 10M². AF_06/2014 CPU FONTE: 87259","M2"]
[null,null,88256,"Sinapi","AZULEJISTA OU LADRILHISTA COM ENCARGOS COMPLEMENTARES","HH",0.61]
[null,null,88316,"Sinapi","SERVENTE COM ENCARGOS COMPLEMENTARES","HH",0.25]
[null,null,null,"Cotação","PORCELANATO DE DIMENSÕES 60X60 CM ","M2",1.07]
[null,null,34357,"Cotação","REJUNTE COLORIDO","KG",0.24]
[null,null,37659,"Cotação","ARGAMASSA OU CIMENTO COLANTE EM PO PARA FIXACAO INTERNA/EXTERNA DE\nPECAS CERAMICAS, PEDRAS E PORCELANATOS (ACIII) *COLETADO CAIXA*","KG",8.6199999999999992]
[]
[null,"CPU0022",null,null,"Piso porcelanato técnico de textura de sinalização tátil alerta/ direcional colorido 24,5 x 24,5 cm Cor 1 CPU FONTE: 87259","M2"]
[null,null,88256,"Sinapi","AZULEJISTA OU LADRILHISTA COM ENCARGOS COMPLEMENTARES","HH",0.61]
[null,null,88316,"Sinapi","SERVENTE COM ENCARGOS COMPLEMENTARES","HH",0.25]
[null,null,null,"Cotação","Piso porcelanato técnico de textura de sinalização tátil alerta/ direcional colorido 24,5 x 24,5 cm Cor VERMELHO","M2",1.07]
[null,null,34357,"Cotação","REJUNTE COLORIDO","KG",0.24]
[null,null,37659,"Cotação","ARGAMASSA OU CIMENTO COLANTE EM PO PARA FIXACAO INTERNA/EXTERNA DE\nPECAS CERAMICAS, PEDRAS E PORCELANATOS (ACIII) *COLETADO CAIXA*","KG",8.6199999999999992]
[]
[null,"CPU0023",null,null,"Piso porcelanato técnico de textura de sinalização tátil alerta/ direcional colorido 24,5 x 24,5 cm Cor 2 CPU FONTE: 87259","M2"]
[null,null,88256,"Sinapi","AZULEJISTA OU LADRILHISTA COM ENCARGOS COMPLEMENTARES","HH",0.61]
[null,null,88316,"Sinapi","SERVENTE COM ENCARGOS COMPLEMENTARES","HH",0.25]
[null,null,null,"Cotação","Piso porcelanato técnico de textura de sinalização tátil alerta/ direcional colorido 24,5 x 24,5 cm Cor AZUL","M2",1.07]
[null,null,34357,"Cotação","REJUNTE COLORIDO","KG",0.24]
[null,null,37659,"Cotação","ARGAMASSA OU CIMENTO COLANTE EM PO PARA FIXACAO INTERNA/EXTERNA DE\nPECAS CERAMICAS, PEDRAS E PORCELANATOS (ACIII) *COLETADO CAIXA*","KG",8.6199999999999992]
[]
[null,"CPU0024",null,null,"RODAPE EM PORCELANATO ALTURA 8CM ASSENTADO SOBRE ARGAMASSA DE CIMENTO COLANTE REJUNTADO COM CIMENTO BRANCO CPU FONTE: 88648","M2"]
[null,null,88256,"Sinapi","AZULEJISTA OU LADRILHISTA COM ENCARGOS COMPLEMENTARES","HH",7.0000000000000007E-2]
[null,null,88316,"Sinapi","SERVENTE COM ENCARGOS COMPLEMENTARES","HH",3.1E-2]
[null,null,null,"Cotação","PORCELANATO DE DIMENSÕES 60X60 CM ","M2",0.12]
[null,null,34357,"Cotação","REJUNTE COLORIDO","KG",8.5000000000000006E-2]
[null,null,37659,"Cotação","ARGAMASSA OU CIMENTO COLANTE EM PO PARA FIXACAO INTERNA/EXTERNA DE\nPECAS CERAMICAS, PEDRAS E PORCELANATOS (ACIII) *COLETADO CAIXA*","KG",0.60299999999999998]
[]
[null,"CPU0025",null,null,"PAVIMENTACAO EM BLOCOS DE CONCRETO SEXTAVADO, ESPESSURA 6 CM, JUNTA RÍGIDA, COM ARGAMASSA NO TRACO 1:4 (CIMENTO E AREIA), ASSENTADOS SOBRE COLCHAO DE PO DE PEDRA, COM APOIO DE CAMINHÃO\nTOCO. CPU REF.: 73764/1","M2"]
[null,null,73454,"Sinapi","ALUGUEL CAMINHAO CARROC FIXA TOCO 7,5T MOTOR DIESEL 132CV(CP) C/MOTO RISTA","H",7.6899999999999996E-2]
[null,null,73474,"Sinapi","ALUGUEL CAMINHAO CARROC FIXA TOCO 7,5T MOTOR DIESEL 132CV (CI) C/MOTO RISTA","H",3.8399999999999997E-2]
[null,null,87316,"Sinapi","ARGAMASSA TRAÇO 1:4 (CIMENTO E AREIA GROSSA) PARA CHAPISCO CONVENCIONAL, PREPARO MECÂNICO COM BETONEIRA 400 L. AF_06/2014","M3",2.1000000000000001E-2]
[null,null,88260,"Sinapi","CALCETEIRO COM ENCARGOS COMPLEMENTARES","H",0.32]
[null,null,88316,"Sinapi","SERVENTE COM ENCARGOS COMPLEMENTARES","H",0.7]
[null,null,4741,"Sinapi","PO DE PEDRA (POSTO PEDREIRA/FORNECEDOR, SEM FRETE)","H",3.5000000000000003E-2]
[null,null,"Cotação",null,"Piso intertravado Paver 10x20","M2",1]
[]
[null,"CPU0026",null,null,"FORNECIMENTO E ASSENTAMENTO DE TUBOS DE CONCRETO DIAMETRO = 300MM, SIMPLES OU\nARMADO, JUNTA EM ARGAMASSA 1:3 CIMENTO:AREIA CPU REF.: 73730","M2"]
[null,null,73535,"Sinapi","CHP - CAMINHAO C/GUINCHO 6T, MOTOR DIESEL 136HP, M. BENZ MOD L1214, MUNCK MOD, M 640/18, OU SIMILAR","h",2.4E-2]
[null,null,88309,"Sinapi","PEDREIRO COM ENCARGOS COMPLEMENTARES","h",0.26400000000000001]
[null,null,88316,"Sinapi","SERVENTE COM ENCARGOS COMPLEMENTARES","h",0.55200000000000005]
[null,null,88629,"Sinapi","ARGAMASSA TRAÇO 1:3 (CIMENTO E AREIA MÉDIA), PREPARO MANUAL. AF_08/2014","m3",2E-3]
[null,null,null,"Cotação","Tubo de concreto simples Ø30cm","ML",1.03]

{"sheet":"Histograma Equiptos - Geral","index":2,"n_rows":18,"n_cols":16,"rows_kept":18,"cut":false,"hidden":false,"merged":[]}
[]
[null,1,null,"Histograma de equipamentos "]
[]
[]
[null,null,"Descrição","Unid","Mês 1","Mês 2","Mês 3","Mês 4","Mês 5","Mês 6","Mês 7","Mês 8","Mês 9","Mês 10","Mês 11","Mês 12"]
[null,null,"Ferramentas elétricas ",""]
[null,null,"Furadeira  ","UNID",2,2,2,2,2,2,2,2,2,2,2,2]
[null,null,"Serra mármore ","UNID",2,2,2,2,2,2,2,2,2,2,2,2]
[null,null,"Parafusadeira","UNID",2,2,2,2,2,2,2,2,2,2,2,2]
[null,null,"Equipamentos diversos",""]
[null,null,"Betoneira","MÊS",1,1,1,1,1,1,1,1,1,1,1,1]
[null,null,"Caçamba para limpeza permanente de obra","UNID",4,4,4,8,8,8,8,8,8,8,8,8]
[null,null,"Compactador","MÊS",2,2,2,null,null,null,null,null,null,null,2,2]
[null,null,"Vibrador - Mangote Vibrador","MÊS",3,3,3,3,3]
[null,null,"Vibrador - Motor","MÊS",3,3,3,3,3]
[null,null,"Máquina Policorte","MÊS",1,1,1,1,1,1,1,1,1,1,1,1]
[null,null,"Martelete Elétrico 10Kg","MÊS",1,1,1]
[null,null,"Serra de banca com motor","MÊS",1,1,1,1,1,1,1,1,1,1,1,1]

{"sheet":"Histograma MO - Geral","index":3,"n_rows":15,"n_cols":16,"rows_kept":15,"cut":false,"hidden":false,"merged":[]}
[]
[null,1,null,"Histograma de Mão-de-obra"]
[]
[]
[null,null,"Descrição","Unid","Mês 1","Mês 2","Mês 3","Mês 4","Mês 5","Mês 6","Mês 7","Mês 8","Mês 9","Mês 10","Mês 11","Mês 12"]
[null,null,"Equipe técnica ",""]
[null,null,"Engenheiro civil","Homem x mês",1,1,1,1,1,1,1,1,1,1,1,1]
[null,null,"Encarregado","Homem x mês",1,1,1,1,1,1,1,1,1,1,1,1]
[null,null,"Equipe produtiva",""]
[null,null,"Oficial","Homem x mês",{"$f":"ROUNDUP($E$14*E15/220,0)","v":2},{"$f":"ROUNDUP($E$14*F15/220,0)","v":4},8,14,19,20,19,16,11,6,4,2]
[null,null,"Servente","Homem x mês",{"$f":"E10","v":2},{"$f":"F10","v":4},8,14,19,20,19,16,11,6,4,2]
[]
[]
[null,null,null,"total = ",26000,"hh","oficiais "]
[null,null,null,"Curva S",0.01,3.3000000000000002E-2,6.3E-2,0.113,0.154,0.16900000000000001,0.16,0.127,8.5999999999999993E-2,4.8000000000000001E-2,2.5999999999999999E-2,1.0999999999999999E-2]

{"sheet":"Cronograma FF Tipo 3","index":4,"n_rows":43,"n_cols":17,"rows_kept":43,"cut":false,"hidden":false,"merged":[]}
[]
[null,1,null,"Cronograma físico-financeiro - CER II - Tipo III"]
[]
[]
[null,null,"Item ","Descrição","Valor total com BDI","Mês 1","Mês 2","Mês 3","Mês 4","Mês 5","Mês 6","Mês 7","Mês 8","Mês 9","Mês 10","Mês 11","Mês 12"]
[null,null,"02","SERVIÇOS PRELIMINARES ",{"$f":"VLOOKUP(C6,'Planilha Orcamentaria - Tipo 3'!J:P,COLUMNS(J:P),FALSE)","v":0},1]
[null,null,"03","EQUIPE TÉCNICA",{"$f":"VLOOKUP(C7,'Planilha Orcamentaria - Tipo 3'!J:P,COLUMNS(J:P),FALSE)","v":0},{"$f":"1/12","v":8.3333333333333329E-2},{"$f":"1/12","v":8.3333333333333329E-2},8.3333333333333329E-2,8.3333333333333329E-2,8.3333333333333329E-2,8.3333333333333329E-2,8.3333333333333329E-2,8.3333333333333329E-2,8.3333333333333329E-2,8.3333333333333329E-2,8.3333333333333329E-2,8.3333333333333329E-2]
[null,null,"04","INFRA ESTRUTURA",{"$f":"VLOOKUP(C8,'Planilha Orcamentaria - Tipo 3'!J:P,COLUMNS(J:P),FALSE)","v":0},0.2,0.4,0.4]
[null,null,"05","SUPER ESTRUTURA",{"$f":"VLOOKUP(C9,'Planilha Orcamentaria - Tipo 3'!J:P,COLUMNS(J:P),FALSE)","v":0},null,null,0.1,0.5,0.4]
[null,null,"06","ALVENARIA",{"$f":"VLOOKUP(C10,'Planilha Orcamentaria - Tipo 3'!J:P,COLUMNS(J:P),FALSE)","v":0},null,null,null,0.3,0.4,0.3]
[null,null,"07","COBERTURA",{"$f":"VLOOKUP(C11,'Planilha Orcamentaria - Tipo 3'!J:P,COLUMNS(J:P),FALSE)","v":0},null,null,null,null,0.2,0.8]
[null,null,"08","IMPERMEABILIZAÇÕES ",{"$f":"VLOOKUP(C12,'Planilha Orcamentaria - Tipo 3'!J:P,COLUMNS(J:P),FALSE)","v":0},null,null,null,null,null,0.2,0.8]
[null,null,"09","INSTALAÇÕES ELÉTRICAS PREDIAIS ",{"$f":"VLOOKUP(C13,'Planilha Orcamentaria - Tipo 3'!J:P,COLUMNS(J:P),FALSE)","v":0},null,1.2E-2,0.04,8.1000000000000003E-2,0.13800000000000001,0.17799999999999999,0.18,0.153,0.112,6.2E-2,3.2000000000000001E-2,1.2E-2]
[null,null,"10","SONORIZAÇÃO",{"$f":"VLOOKUP(C14,'Planilha Orcamentaria - Tipo 3'!J:P,COLUMNS(J:P),FALSE)","v":0},null,null,null,null,null,null,null,null,null,0.4,0.5,0.1]
[null,null,"11","REDE DE DADOS",{"$f":"VLOOKUP(C15,'Planilha Orcamentaria - Tipo 3'!J:P,COLUMNS(J:P),FALSE)","v":0},null,null,null,null,null,null,null,null,null,0.4,0.5,0.1]
[null,null,"12","SPDA",{"$f":"VLOOKUP(C16,'Planilha Orcamentaria - Tipo 3'!J:P,COLUMNS(J:P),FALSE)","v":0},null,null,null,null,null,null,null,null,null,0.4,0.5,0.1]
[null,null,"13","DETECÇÃO DE FUMAÇA",{"$f":"VLOOKUP(C17,'Planilha Orcamentaria - Tipo 3'!J:P,COLUMNS(J:P),FALSE)","v":0},null,1.2E-2,0.04,8.1000000000000003E-2,0.13800000000000001,0.17799999999999999,0.18,0.153,0.112,6.2E-2,3.2000000000000001E-2,1.2E-2]
[null,null,"14","CFTV",{"$f":"VLOOKUP(C18,'Planilha Orcamentaria - Tipo 3'!J:P,COLUMNS(J:P),FALSE)","v":0},null,1.2E-2,0.04,8.1000000000000003E-2,0.13800000000000001,0.17799999999999999,0.18,0.153,0.112,6.2E-2,3.2000000000000001E-2,1.2E-2]
[null,null,"15","SUBESTAÇÃO AÉREA",{"$f":"VLOOKUP(C19,'Planilha Orcamentaria - Tipo 3'!J:P,COLUMNS(J:P),FALSE)","v":0},null,0.2,0.3,0.4,0.1]
[null,null,"16","COMBATE A INCÊNDIO",{"$f":"VLOOKUP(C20,'Planilha Orcamentaria - Tipo 3'!J:P,COLUMNS(J:P),FALSE)","v":0},null,1.2E-2,0.04,8.1000000000000003E-2,0.13800000000000001,0.17799999999999999,0.18,0.153,0.112,6.2E-2,3.2000000000000001E-2,1.2E-2]
[null,null,"17","ÁGUA FRIA ",{"$f":"VLOOKUP(C21,'Planilha Orcamentaria - Tipo 3'!J:P,COLUMNS(J:P),FALSE)","v":0},null,1.2E-2,0.04,8.1000000000000003E-2,0.13800000000000001,0.17799999999999999,0.18,0.153,0.112,6.2E-2,3.2000000000000001E-2,1.2E-2]
[null,null,"18","ESGOTO PREDIAL",{"$f":"VLOOKUP(C22,'Planilha Orcamentaria - Tipo 3'!J:P,COLUMNS(J:P),FALSE)","v":0},null,1.2E-2,0.04,8.1000000000000003E-2,0.13800000000000001,0.17799999999999999,0.18,0.153,0.112,6.2E-2,3.2000000000000001E-2,1.2E-2]
[null,null,"19","DRENAGEM PLUVIAL",{"$f":"VLOOKUP(C23,'Planilha Orcamentaria - Tipo 3'!J:P,COLUMNS(J:P),FALSE)","v":0},null,1.2E-2,0.04,8.1000000000000003E-2,0.13800000000000001,0.17799999999999999,0.18,0.153,0.112,6.2E-2,3.2000000000000001E-2,1.2E-2]
[null,null,"20","INSTALAÇÕES GLP",{"$f":"VLOOKUP(C24,'Planilha Orcamentaria - Tipo 3'!J:P,COLUMNS(J:P),FALSE)","v":0},null,null,null,null,null,null,null,null,0.106,0.436,0.373,8.5000000000000006E-2]
[null,null,"21","ESQUADRIAS ",{"$f":"VLOOKUP(C25,'Planilha Orcamentaria - Tipo 3'!J:P,COLUMNS(J:P),FALSE)","v":0},null,null,null,null,null,null,0.3,0.3,0.4]
[null,null,"22","VIDROS",{"$f":"VLOOKUP(C26,'Planilha Orcamentaria - Tipo 3'!J:P,COLUMNS(J:P),FALSE)","v":0},null,null,null,null,null,null,null,null,null,1]
[null,null,"23","MARCENARIA ",{"$f":"VLOOKUP(C27,'Planilha Orcamentaria - Tipo 3'!J:P,COLUMNS(J:P),FALSE)","v":0},null,null,null,null,null,null,null,null,null,null,0.8,0.2]
[null,null,"24","PISOS E PAVIMENTAÇÃO INTERNA",{"$f":"VLOOKUP(C28,'Planilha Orcamentaria - Tipo 3'!J:P,COLUMNS(J:P),FALSE)","v":0},null,null,null,null,null,0.106,0.436,0.373,8.5000000000000006E-2]
[null,null,"25","PISOS E PAVIMENTAÇÃO EXTERNA",{"$f":"VLOOKUP(C29,'Planilha Orcamentaria - Tipo 3'!J:P,COLUMNS(J:P),FALSE)","v":0},null,null,null,null,null,null,null,0.106,0.436,0.373,8.5000000000000006E-2]
[null,null,"26","REVESTIMENTO DE PAREDES INTERNAS",{"$f":"VLOOKUP(C30,'Planilha Orcamentaria - Tipo 3'!J:P,COLUMNS(J:P),FALSE)","v":0},null,null,null,null,null,0.106,0.436,0.373,8.5000000000000006E-2]
[null,null,"27","REVESTIMENTO DE PAREDES EXTERNAS",{"$f":"VLOOKUP(C31,'Planilha Orcamentaria - Tipo 3'!J:P,COLUMNS(J:P),FALSE)","v":0},null,null,null,null,null,null,null,0.106,0.436,0.373,8.5000000000000006E-2]
[null,null,"28","FORROS",{"$f":"VLOOKUP(C32,'Planilha Orcamentaria - Tipo 3'!J:P,COLUMNS(J:P),FALSE)","v":0},null,null,null,null,null,null,null,0.106,0.436,0.373,8.5000000000000006E-2]
[null,null,"29","LOUÇAS E METAIS",{"$f":"VLOOKUP(C33,'Planilha Orcamentaria - Tipo 3'!J:P,COLUMNS(J:P),FALSE)","v":0},null,null,null,null,null,null,null,null,null,0.6,0.4]
[null,null,"30","BANCADAS E PEDRAS",{"$f":"VLOOKUP(C34,'Planilha Orcamentaria - Tipo 3'!J:P,COLUMNS(J:P),FALSE)","v":0},null,null,null,null,null,null,null,null,0.8,0.2]
[null,null,"31","PINTURA ",{"$f":"VLOOKUP(C35,'Planilha Orcamentaria - Tipo 3'!J:P,COLUMNS(J:P),FALSE)","v":0},null,null,null,null,null,null,null,null,0.1,0.5,0.2,0.2]
[null,null,"32","PAISAGISMO",{"$f":"VLOOKUP(C36,'Planilha Orcamentaria - Tipo 3'!J:P,COLUMNS(J:P),FALSE)","v":0},null,null,null,null,null,null,null,null,null,null,null,1]
[null,null,"33","COMUNICAÇÃO VISUAL",{"$f":"VLOOKUP(C37,'Planilha Orcamentaria - Tipo 3'!J:P,COLUMNS(J:P),FALSE)","v":0},null,null,null,null,null,null,null,null,null,null,null,1]
[null,null,"34","DESPESAS FINAIS ",{"$f":"VLOOKUP(C38,'Planilha Orcamentaria - Tipo 3'!J:P,COLUMNS(J:P),FALSE)","v":0},null,null,null,null,null,null,null,null,null,null,null,1]
[null,null,null,"TOTAL",{"$f":"SUM(E6:E38)","v":0}]
[null,null,null,"AVANÇO % MENSAL",null,{"$f":"F42/$E$39","v":{"$error":"#DIV/0!"}},{"$f":"G42/$E$39","v":{"$error":"#DIV/0!"}},{"$error":"#DIV/0!"},{"$error":"#DIV/0!"},{"$error":"#DIV/0!"},{"$error":"#DIV/0!"},{"$error":"#DIV/0!"},{"$error":"#DIV/0!"},{"$error":"#DIV/0!"},{"$error":"#DIV/0!"},{"$error":"#DIV/0!"},{"$error":"#DIV/0!"}]
[null,null,null,"AVANÇO % ACUMULADO",null,{"$f":"F40","v":{"$error":"#DIV/0!"}},{"$f":"G40+F41","v":{"$error":"#DIV/0!"}},{"$f":"H40+G41","v":{"$error":"#DIV/0!"}},{"$error":"#DIV/0!"},{"$error":"#DIV/0!"},{"$error":"#DIV/0!"},{"$error":"#DIV/0!"},{"$error":"#DIV/0!"},{"$error":"#DIV/0!"},{"$error":"#DIV/0!"},{"$error":"#DIV/0!"},{"$error":"#DIV/0!"}]
[null,null,null,"AVANÇO FINANCEIRO MENSAL",null,{"$f":"SUMPRODUCT($E$6:$E$38,F6:F38)","v":0},{"$f":"SUMPRODUCT($E$6:$E$38,G6:G38)","v":0},{"$f":"SUMPRODUCT($E$6:$E$38,H6:H38)","v":0},0,0,0,0,0,0,0,0,0]
[null,null,null,"AVANÇO FINANCEIRO ACUMULADO",null,{"$f":"F42","v":0},{"$f":"G42+F43","v":0},{"$f":"H42+G43","v":0},0,0,0,0,0,0,0,0,0]